BEGIN:VCALENDAR
VERSION:2.0
PRODID:-//Ya&#039;sta Club - ECPv6.15.20//NONSGML v1.0//EN
CALSCALE:GREGORIAN
METHOD:PUBLISH
X-ORIGINAL-URL:https://yastaclub.es
X-WR-CALDESC:Eventos para Ya&#039;sta Club
REFRESH-INTERVAL;VALUE=DURATION:PT1H
X-Robots-Tag:noindex
X-PUBLISHED-TTL:PT1H
BEGIN:VTIMEZONE
TZID:Europe/Madrid
BEGIN:DAYLIGHT
TZOFFSETFROM:+0100
TZOFFSETTO:+0200
TZNAME:CEST
DTSTART:20240331T010000
END:DAYLIGHT
BEGIN:STANDARD
TZOFFSETFROM:+0200
TZOFFSETTO:+0100
TZNAME:CET
DTSTART:20241027T010000
END:STANDARD
BEGIN:DAYLIGHT
TZOFFSETFROM:+0100
TZOFFSETTO:+0200
TZNAME:CEST
DTSTART:20250330T010000
END:DAYLIGHT
BEGIN:STANDARD
TZOFFSETFROM:+0200
TZOFFSETTO:+0100
TZNAME:CET
DTSTART:20251026T010000
END:STANDARD
BEGIN:DAYLIGHT
TZOFFSETFROM:+0100
TZOFFSETTO:+0200
TZNAME:CEST
DTSTART:20260329T010000
END:DAYLIGHT
BEGIN:STANDARD
TZOFFSETFROM:+0200
TZOFFSETTO:+0100
TZNAME:CET
DTSTART:20261025T010000
END:STANDARD
END:VTIMEZONE
BEGIN:VEVENT
DTSTART;TZID=Europe/Madrid:20250722T235900
DTEND;TZID=Europe/Madrid:20250723T060000
DTSTAMP:20260424T021348
CREATED:20250706T123019Z
LAST-MODIFIED:20250706T123142Z
UID:10001054-1753228740-1753250400@yastaclub.es
SUMMARY:Stray Kids - After Party Madrid (by Asian Party)
DESCRIPTION:💥𝘼𝙁𝙏𝙀𝙍𝙎𝙃𝙊𝙒 𝙋𝘼𝙍𝙏𝙔 –𝙎𝙏𝙍𝘼𝙔 𝙆𝙄𝘿𝙎 𝙀𝙉 𝙈𝘼𝘿𝙍𝙄𝘿💥 \n¡La noche no acaba con el concierto!\nEste 𝙈𝙖𝙧𝙩𝙚𝙨 𝟮𝟮 𝙙𝙚 𝙟𝙪𝙡𝙞𝙤\, prepárate para vivir la MEJOR AFTERSHOW PARTY más esperada de la temporada\, organizada por el equipo de ASIAN PARTY🔥 \nUna 𝙛𝙞𝙚𝙨𝙩𝙖 𝙥𝙚𝙣𝙨𝙖𝙙𝙖 𝙚𝙨𝙥𝙚𝙘𝙞𝙖𝙡𝙢𝙚𝙣𝙩𝙚 𝙥𝙖𝙧𝙖 𝙡𝙤𝙨 𝙛𝙖𝙣𝙨 con una experiencia completa por todo lo alto: los mejores temazos\, luces\, light-shows\, pantalla gigante y un ambiente inmejorable.🐺💥\n¡Madrid se enciende! \n⚠️ 𝙀𝙣𝙩𝙧𝙖𝙙𝙖𝙨 𝙖 𝙡𝙖 𝙫𝙚𝙣𝙩𝙖 𝙈𝘼𝙉̃𝘼𝙉𝘼 𝙡𝙪𝙣𝙚𝙨 𝟵 𝙙𝙚 𝙟𝙪𝙣𝙞𝙤 𝙖 𝙡𝙖𝙨 𝟭𝟵:𝟬𝟬𝙝 desde el enlace de nuestra bio. ¡𝘼𝙛𝙤𝙧𝙤 𝙡𝙞𝙢𝙞𝙩𝙖𝙙𝙤! Si se agotan online 𝙉𝙊 habrá en taquilla ⚠️ \n👇 𝘿𝙀𝙏𝘼𝙇𝙇𝙀𝙎 𝘿𝙀𝙇 𝙀𝙑𝙀𝙉𝙏𝙊:\n📅 Martes 22 de julio (𝙣𝙤𝙘𝙝𝙚 𝙙𝙚𝙡 𝙘𝙤𝙣𝙘𝙞𝙚𝙧𝙩𝙤)\n⏰ De 23:59 a 06:00\n📍 Lugar: C/Valverde 10 – Sala Ya’Sta\, Madrid\, (Comunicación directa en metro desde el concierto\, a menos de 5 min de Gran Vía/Sol)\n🔞 Acceso +18\n🎟️ 𝙀𝙣𝙩𝙧𝙖𝙙𝙖𝙨 𝙖𝙣𝙩𝙞𝙘𝙞𝙥𝙖𝙙𝙖𝙨: desde 10€ en nuestra web con consumición incluida / Ofertas para los primeros en comprar.\n🎟️ 𝙀𝙣𝙩𝙧𝙖𝙙𝙖𝙨 𝙚𝙣 𝙩𝙖𝙦𝙪𝙞𝙡𝙡𝙖: (si quedasen): 20€ con una consumición incluida\n🎧 Música por los DJs residentes de Asian Party\n🎁 Regalos y sorteos\n📸 Photocall y animación\n🖥️ Pantalla gigante para ver los MVs\n🕺 Escenario de baile\n🥂 Reservados VIP disponibles\n💥Y muchas sorpresas más \n¡No te pierdas la mejor noche K-POP del verano en Madrid! \n𝙎𝙆𝙕 𝙁𝘼𝙈𝙄𝙇𝙔… 𝙀𝙎𝙏𝘼 𝙀𝙎 𝙑𝙐𝙀𝙎𝙏𝙍𝘼 𝙉𝙊𝘾𝙃𝙀 🔥\nWe are the K-POP revolution🪭\n.\n.\n.\n.\n#StrayKidsMadrid #StrayKidsAfterParty #AsianParty #explorepage #SkzMadrid2025 #KpopMadrid #StayReady #StrayKidsSpain #Stays #AsianParty #kpop #kpopers #kpopspain #kpopmadrid #madrid #aftershowparty #SkzCHKCHKBOOM #AfterShowParty #AsianPartyMadrid #StrayKidsSpain #SKZFiesta
URL:https://yastaclub.es/event/stray-kids-after-party-madrid-by-asian-party/
LOCATION:Ya’sta Club\, Calle Valverde\, 10\, Madrid\, 28004\, España
CATEGORIES:Asian,KPop
ATTACH;FMTTYPE=image/jpeg:https://yastaclub.es/wp-content/uploads/2025/07/503770339_18406448665105177_6875277879882344654_n.jpg
END:VEVENT
BEGIN:VEVENT
DTSTART;TZID=Europe/Madrid:20250725T235900
DTEND;TZID=Europe/Madrid:20250726T060000
DTSTAMP:20260424T021348
CREATED:20250225T083544Z
LAST-MODIFIED:20260128T113025Z
UID:10001137-1753487940-1753509600@yastaclub.es
SUMMARY:Asian Party
DESCRIPTION:🎉🐉 La mayor fiesta de música asiática en España\n🫰🏻13 Años de Asian Party \nMás información y entradas
URL:https://yastaclub.es/event/asian-party-madrid-kpop-fiesta/2025-07-25/
LOCATION:Ya’sta Club\, Calle Valverde\, 10\, Madrid\, 28004\, España
CATEGORIES:Asian,KPop
ATTACH;FMTTYPE=image/png:https://yastaclub.es/wp-content/uploads/2024/08/asian_party.png
END:VEVENT
BEGIN:VEVENT
DTSTART;TZID=Europe/Madrid:20250725T235900
DTEND;TZID=Europe/Madrid:20250726T060000
DTSTAMP:20260424T021348
CREATED:20250628T161628Z
LAST-MODIFIED:20250724T131511Z
UID:10001055-1753487940-1753509600@yastaclub.es
SUMMARY:Harness Queen Party
DESCRIPTION:ESTE VERANO PREPARA TU HARNESS\, CON LAS MEJORES DRAGS DEL MOMENTO Y LA MEJOR MÚSICA POP Y ELECTRO
URL:https://yastaclub.es/event/harness-queen-party/2025-07-25/
LOCATION:Ya’sta Club\, Calle Valverde\, 10\, Madrid\, 28004\, España
CATEGORIES:Bear 🐻,Drag Queen 👠,LGTB 🏳️‍🌈
ATTACH;FMTTYPE=image/jpeg:https://yastaclub.es/wp-content/uploads/2025/06/510967761_18011966252733881_8426955848044322051_n.jpg
END:VEVENT
BEGIN:VEVENT
DTSTART;TZID=Europe/Madrid:20250726T210000
DTEND;TZID=Europe/Madrid:20250726T230000
DTSTAMP:20260424T021348
CREATED:20241031T145622Z
LAST-MODIFIED:20251105T172020Z
UID:10000887-1753563600-1753570800@yastaclub.es
SUMMARY:El Gran Bingo Drag
DESCRIPTION:¿Estás preparadx para disfrutar del mejor Bingo de Madrid? \nImagínate a más de 500 personas jugando por llevarse una multitud de premios. Un bingo lleno de fiesta\, comedia\, juegos y por supuesto\, muchos pero muchísimos regalos… \nTe esperamos en la sala Yasta Club con las mejores Drags\, la mejor música y sobre todo mucha pero que mucha diversión. \nLa mejor party del fin de semana. ¡Trae a todxs tus amigxs y compite en este bingo tan loco! \nPresentado por: \n\nSugar Nelly\nChirstina Vergara
URL:https://yastaclub.es/event/el-gran-bingo-drag-3/2025-07-26/
LOCATION:Ya’sta Club\, Calle Valverde\, 10\, Madrid\, 28004\, España
CATEGORIES:Drag Queen 👠,LGTB 🏳️‍🌈
ATTACH;FMTTYPE=image/webp:https://yastaclub.es/wp-content/uploads/2024/10/webp-2.webp
END:VEVENT
BEGIN:VEVENT
DTSTART;TZID=Europe/Madrid:20250726T235900
DTEND;TZID=Europe/Madrid:20250727T060000
DTSTAMP:20260424T021348
CREATED:20240403T191957Z
LAST-MODIFIED:20241226T105441Z
UID:10000742-1753574340-1753596000@yastaclub.es
SUMMARY:BearbiePOP
DESCRIPTION:La sesión POP de Bears por excelencia de Madrid llega a Ya’sta Club. \nTodos los sábados en Calle Valverde\, 10.
URL:https://yastaclub.es/event/bearbiepop-18/2025-07-26/
LOCATION:Ya’sta Club\, Calle Valverde\, 10\, Madrid\, 28004\, España
CATEGORIES:Bear 🐻,LGTB 🏳️‍🌈
ATTACH;FMTTYPE=image/jpeg:https://yastaclub.es/wp-content/uploads/2023/06/bearbie-logo-2022.jpg
END:VEVENT
END:VCALENDAR