BEGIN:VCALENDAR
VERSION:2.0
PRODID:-//Ya&#039;sta Club - ECPv6.15.20//NONSGML v1.0//EN
CALSCALE:GREGORIAN
METHOD:PUBLISH
X-WR-CALNAME:Ya&#039;sta Club
X-ORIGINAL-URL:https://yastaclub.es
X-WR-CALDESC:Eventos para Ya&#039;sta Club
REFRESH-INTERVAL;VALUE=DURATION:PT1H
X-Robots-Tag:noindex
X-PUBLISHED-TTL:PT1H
BEGIN:VTIMEZONE
TZID:Europe/Madrid
BEGIN:DAYLIGHT
TZOFFSETFROM:+0100
TZOFFSETTO:+0200
TZNAME:CEST
DTSTART:20240331T010000
END:DAYLIGHT
BEGIN:STANDARD
TZOFFSETFROM:+0200
TZOFFSETTO:+0100
TZNAME:CET
DTSTART:20241027T010000
END:STANDARD
BEGIN:DAYLIGHT
TZOFFSETFROM:+0100
TZOFFSETTO:+0200
TZNAME:CEST
DTSTART:20250330T010000
END:DAYLIGHT
BEGIN:STANDARD
TZOFFSETFROM:+0200
TZOFFSETTO:+0100
TZNAME:CET
DTSTART:20251026T010000
END:STANDARD
BEGIN:DAYLIGHT
TZOFFSETFROM:+0100
TZOFFSETTO:+0200
TZNAME:CEST
DTSTART:20260329T010000
END:DAYLIGHT
BEGIN:STANDARD
TZOFFSETFROM:+0200
TZOFFSETTO:+0100
TZNAME:CET
DTSTART:20261025T010000
END:STANDARD
END:VTIMEZONE
BEGIN:VEVENT
DTSTART;TZID=Europe/Madrid:20250509T190000
DTEND;TZID=Europe/Madrid:20250509T210000
DTSTAMP:20260423T052001
CREATED:20241016T094427Z
LAST-MODIFIED:20250416T210541Z
UID:10001038-1746817200-1746824400@yastaclub.es
SUMMARY:Mujer Contra Mujer​
DESCRIPTION:MUJER CONTRA MUJER: TRIBUTO A MECANO\n\n\n¿Quieres vivir una experiencia inmersiva directa a las letras de Mecano? \nCon este tributo bailarás\, cantarás y sobre todo vivirás en primera persona cada uno de los éxitos de la banda de pop más famosa de España. \nMujer contra mujer presenta una noche llena de emoción y mucha música. \nCanta con nosotros «hijo de la luna»; «maquillaje»\, «me cuesta tanto olvidarte»\, «cruz de navajas» y muchos más… \n\nInformación sobre precios y acceso\nEl espectáculo es en una discoteca. No hay asientos. Todo pista de baile. Según normativa de sala solo podrán acceder personas de 16 y 17 años acompañadas de padre madre tutor. Se PROHÍBE la entrada a los niños menores de 16 años si no van acompañados de padre/madre/tutor.
URL:https://yastaclub.es/event/mujer-contra-mujer-3/2025-05-09/
LOCATION:Ya’sta Club\, Calle Valverde\, 10\, Madrid\, 28004\, España
ATTACH;FMTTYPE=image/webp:https://yastaclub.es/wp-content/uploads/2024/10/mujer_contra_mujer_new.webp
END:VEVENT
BEGIN:VEVENT
DTSTART;TZID=Europe/Madrid:20250509T210000
DTEND;TZID=Europe/Madrid:20250509T230000
DTSTAMP:20260423T052001
CREATED:20250105T183326Z
LAST-MODIFIED:20250905T094853Z
UID:10001039-1746824400-1746831600@yastaclub.es
SUMMARY:El Canto del Loco: el tributo
DESCRIPTION:EL CANTO DEL LOCO: EL TRIBUTO\n\n\nPrepárate para una noche inolvidable con los grandes éxitos que marcaron a toda una generación.  El Tributo a El Canto del Loco te trae lo mejor de una de las bandas más icónicas del pop alternativo español. En este tributo disfrutarás de sus letras que siempre cantamos a todo pulmón como “Zapatilla” \, “Besos» o “Volvera . \nEste espectáculo está diseñado para hacerte bailar\, recordar y disfrutar como nunca de la época más importante y emblemática de tu vida. ¡No importa si eres un fan de toda la vida o si acabas de conocerlos\, este show es para ti! \n¡No te quedes fuera de la fiesta más grande del año y ven a vivir una experiencia llena de buena música y mucha diversión! ¡Compra ya tus entradas para este homenaje único antes de que se agoten! \nPD: No apto para nostálgicos. \nInformación sobre precios y acceso\nEl espectáculo es en una discoteca. No hay asientos. Todo pista de baile. Según normativa de sala solo podrán acceder personas de 16 y 17 años acompañadas de padre madre tutor. Se PROHÍBE la entrada a los niños menores de 16 años si no van acompañados de padre/madre/tutor.
URL:https://yastaclub.es/event/el-canto-del-loco-el-tributo/2025-05-09/
LOCATION:Ya’sta Club\, Calle Valverde\, 10\, Madrid\, 28004\, España
ATTACH;FMTTYPE=image/webp:https://yastaclub.es/wp-content/uploads/2025/01/canto_del_loco.webp
END:VEVENT
BEGIN:VEVENT
DTSTART;TZID=Europe/Madrid:20250509T235900
DTEND;TZID=Europe/Madrid:20250510T060000
DTSTAMP:20260423T052001
CREATED:20250413T080113Z
LAST-MODIFIED:20250506T165031Z
UID:10001031-1746835140-1746856800@yastaclub.es
SUMMARY:Reina Pop Party
DESCRIPTION:¡Este viernes\, 4º aniversario de @reinapop_ ! \nDisfruta de una noche de locura con el mejor panorama drag de Chueca\, la fiesta Reina Pop Party con:\n👠 @chariballentines \,\n👠 @anomaliamontes\n👠 @mikaellabitchoficial\n👠 @la_roro_official\n👠 @yosoymorfinadrag\n👠 @donnamdnn\n👠 @soyraffaella_\n👠 @sobredosis_gonzalez \nY la gran final de Quiero Ser Una Reina Pop con\n💋 @akakittyminaj\n💋 @rimbombanzia\n💋 @norma.rural \n🎧 El mejor show drag de 00h a 6 h y los mejores DJs:\n🎧Jaime Caballitos DJ @jaime_rsc\n🎧Robin Tooth @robin_tooth \nEntradas en yastaclub.es/entradas
URL:https://yastaclub.es/event/reina-pop-party/
LOCATION:Ya’sta Club\, Calle Valverde\, 10\, Madrid\, 28004\, España
CATEGORIES:Drag Queen 👠,LGTB 🏳️‍🌈
ATTACH;FMTTYPE=image/jpeg:https://yastaclub.es/wp-content/uploads/2025/04/WhatsApp-Image-2025-05-06-at-18.44.52.jpeg
END:VEVENT
BEGIN:VEVENT
DTSTART;TZID=Europe/Madrid:20250510T210000
DTEND;TZID=Europe/Madrid:20250510T230000
DTSTAMP:20260423T052001
CREATED:20241031T145622Z
LAST-MODIFIED:20251105T172020Z
UID:10000876-1746910800-1746918000@yastaclub.es
SUMMARY:El Gran Bingo Drag
DESCRIPTION:¿Estás preparadx para disfrutar del mejor Bingo de Madrid? \nImagínate a más de 500 personas jugando por llevarse una multitud de premios. Un bingo lleno de fiesta\, comedia\, juegos y por supuesto\, muchos pero muchísimos regalos… \nTe esperamos en la sala Yasta Club con las mejores Drags\, la mejor música y sobre todo mucha pero que mucha diversión. \nLa mejor party del fin de semana. ¡Trae a todxs tus amigxs y compite en este bingo tan loco! \nPresentado por: \n\nSugar Nelly\nChirstina Vergara
URL:https://yastaclub.es/event/el-gran-bingo-drag-3/2025-05-10/
LOCATION:Ya’sta Club\, Calle Valverde\, 10\, Madrid\, 28004\, España
CATEGORIES:Drag Queen 👠,LGTB 🏳️‍🌈
ATTACH;FMTTYPE=image/webp:https://yastaclub.es/wp-content/uploads/2024/10/webp-2.webp
END:VEVENT
BEGIN:VEVENT
DTSTART;TZID=Europe/Madrid:20250510T235900
DTEND;TZID=Europe/Madrid:20250511T060000
DTSTAMP:20260423T052001
CREATED:20240403T191957Z
LAST-MODIFIED:20241226T105441Z
UID:10000731-1746921540-1746943200@yastaclub.es
SUMMARY:BearbiePOP
DESCRIPTION:La sesión POP de Bears por excelencia de Madrid llega a Ya’sta Club. \nTodos los sábados en Calle Valverde\, 10.
URL:https://yastaclub.es/event/bearbiepop-18/2025-05-10/
LOCATION:Ya’sta Club\, Calle Valverde\, 10\, Madrid\, 28004\, España
CATEGORIES:Bear 🐻,LGTB 🏳️‍🌈
ATTACH;FMTTYPE=image/jpeg:https://yastaclub.es/wp-content/uploads/2023/06/bearbie-logo-2022.jpg
END:VEVENT
END:VCALENDAR