BEGIN:VCALENDAR
VERSION:2.0
PRODID:-//Ya&#039;sta Club - ECPv6.15.20//NONSGML v1.0//EN
CALSCALE:GREGORIAN
METHOD:PUBLISH
X-ORIGINAL-URL:https://yastaclub.es
X-WR-CALDESC:Eventos para Ya&#039;sta Club
REFRESH-INTERVAL;VALUE=DURATION:PT1H
X-Robots-Tag:noindex
X-PUBLISHED-TTL:PT1H
BEGIN:VTIMEZONE
TZID:Europe/Madrid
BEGIN:DAYLIGHT
TZOFFSETFROM:+0100
TZOFFSETTO:+0200
TZNAME:CEST
DTSTART:20240331T010000
END:DAYLIGHT
BEGIN:STANDARD
TZOFFSETFROM:+0200
TZOFFSETTO:+0100
TZNAME:CET
DTSTART:20241027T010000
END:STANDARD
BEGIN:DAYLIGHT
TZOFFSETFROM:+0100
TZOFFSETTO:+0200
TZNAME:CEST
DTSTART:20250330T010000
END:DAYLIGHT
BEGIN:STANDARD
TZOFFSETFROM:+0200
TZOFFSETTO:+0100
TZNAME:CET
DTSTART:20251026T010000
END:STANDARD
BEGIN:DAYLIGHT
TZOFFSETFROM:+0100
TZOFFSETTO:+0200
TZNAME:CEST
DTSTART:20260329T010000
END:DAYLIGHT
BEGIN:STANDARD
TZOFFSETFROM:+0200
TZOFFSETTO:+0100
TZNAME:CET
DTSTART:20261025T010000
END:STANDARD
END:VTIMEZONE
BEGIN:VEVENT
DTSTART;TZID=Europe/Madrid:20250430T235900
DTEND;TZID=Europe/Madrid:20250501T060000
DTSTAMP:20260423T012721
CREATED:20250423T103200Z
LAST-MODIFIED:20250423T103200Z
UID:10001045-1746057540-1746079200@yastaclub.es
SUMMARY:BearbiePOP (especial víspera de Festivo)
DESCRIPTION:
URL:https://yastaclub.es/event/bearbiepop-especial-vispera-de-festivo/
LOCATION:Ya’sta Club\, Calle Valverde\, 10\, Madrid\, 28004\, España
CATEGORIES:Bear 🐻
ATTACH;FMTTYPE=image/jpeg:https://yastaclub.es/wp-content/uploads/2025/04/492193535_1256820389777667_6608906104903233512_n.jpg
END:VEVENT
BEGIN:VEVENT
DTSTART;TZID=Europe/Madrid:20250501T213000
DTEND;TZID=Europe/Madrid:20250501T233000
DTSTAMP:20260423T012721
CREATED:20250416T210051Z
LAST-MODIFIED:20250416T210051Z
UID:10001032-1746135000-1746142200@yastaclub.es
SUMMARY:Swing Madrid Night
DESCRIPTION:Nueva Sesión del Yasta para el Jueves 1 de Mayo de 2025. \nDe 21.30 a 23.30h. Swing\, Rock & Roll y Blues. \nCon la mejor Música de Swing\, Rock & Roll y Blues Dj Swing Madrid. \nENTRADA. Bailes Social + Consumición. Venta Anticipada. \n7€ / 1 Consumición (Agua\, Refresco o Cerveza.) \n10€ / 1 Copa o 2 Consumiciones (Agua\, Refresco o Cerveza.) \nVenta anticipada por Entradium \nhttps://entradium.com/es/organizers/blanco-y-negro-studio \n*En Puerta \n12€/ 1 Copa o 2 Consumiciones (Agua\, Refresco o Cerveza.) \nEn Sala Cervezas y Refrescos 3€ y Copas 6€ \n¿Dónde Estamos? \nCalle Valverde 10. Madrid 28004 \nMetro. Gran Vía. \nAquí Podrás ver todos Nuestros eventos. \nhttps://blancoynegrostudio.com/calendario-eventos \n*De 19.00 a 21.00h Estaremos Bailando en las Fiestas autogestionadas del 2 de Mayo. En la Plaza de las Comendaroras. \nBlanco y Negro Studio \nwww.blancoynegrostudio.com \ninfo@blancoynegrostudio.com \nTlf / whatsapp: 687 555 383
URL:https://yastaclub.es/event/swing-madrid-night-7/
LOCATION:Ya’sta Club\, Calle Valverde\, 10\, Madrid\, 28004\, España
CATEGORIES:Swing
ATTACH;FMTTYPE=image/jpeg:https://yastaclub.es/wp-content/uploads/2025/04/event_photos_gallery_l_WhatsApp_Image_2025-03-22_at_13.48.43-1.jpeg
END:VEVENT
BEGIN:VEVENT
DTSTART;TZID=Europe/Madrid:20250502T235900
DTEND;TZID=Europe/Madrid:20250503T060000
DTSTAMP:20260423T012721
CREATED:20250423T103513Z
LAST-MODIFIED:20250429T074211Z
UID:10001046-1746230340-1746252000@yastaclub.es
SUMMARY:Darma Party - Con la Terremoto de Alcorcón
DESCRIPTION:⭐️ ¡SORPRESA! • ¡LA TERREMOTO DE ALCORCÓN en DARMA! ⭐️ \n¡El próximo Viernes 2 de Mayo celebramos una edición especial con una invitada de lujo! \n¡LA TERREMOTO DE ALCORCÓN! \n🎧Jaime Caballitos & Chipmunk\n🎟️ ¡DESCARGA TU ENTRADA GRATUITA!\n📲 www. entradium.com (link en bio o stories) \n#Darma Party
URL:https://yastaclub.es/event/darma-party-con-la-terremoto-de-alcorcon/
LOCATION:Ya’sta Club\, Calle Valverde\, 10\, Madrid\, 28004\, España
CATEGORIES:Drag Queen 👠,LGTB 🏳️‍🌈
ATTACH;FMTTYPE=image/jpeg:https://yastaclub.es/wp-content/uploads/2025/04/WhatsApp-Image-2025-04-28-at-11.54.26.jpeg
END:VEVENT
BEGIN:VEVENT
DTSTART;TZID=Europe/Madrid:20250503T190000
DTEND;TZID=Europe/Madrid:20250503T210000
DTSTAMP:20260423T012721
CREATED:20241016T094325Z
LAST-MODIFIED:20250416T210506Z
UID:10001037-1746298800-1746306000@yastaclub.es
SUMMARY:Euroshow\, un show muy eurovisivo​
DESCRIPTION:
URL:https://yastaclub.es/event/euroshow-un-show-muy-eurovisivo-2/2025-05-03/
LOCATION:Ya’sta Club\, Calle Valverde\, 10\, Madrid\, 28004\, España
ATTACH;FMTTYPE=image/webp:https://yastaclub.es/wp-content/uploads/2024/10/euroshow_unshoweurovisivo.webp
END:VEVENT
BEGIN:VEVENT
DTSTART;TZID=Europe/Madrid:20250503T210000
DTEND;TZID=Europe/Madrid:20250503T230000
DTSTAMP:20260423T012721
CREATED:20241031T145622Z
LAST-MODIFIED:20251105T172020Z
UID:10000875-1746306000-1746313200@yastaclub.es
SUMMARY:El Gran Bingo Drag
DESCRIPTION:¿Estás preparadx para disfrutar del mejor Bingo de Madrid? \nImagínate a más de 500 personas jugando por llevarse una multitud de premios. Un bingo lleno de fiesta\, comedia\, juegos y por supuesto\, muchos pero muchísimos regalos… \nTe esperamos en la sala Yasta Club con las mejores Drags\, la mejor música y sobre todo mucha pero que mucha diversión. \nLa mejor party del fin de semana. ¡Trae a todxs tus amigxs y compite en este bingo tan loco! \nPresentado por: \n\nSugar Nelly\nChirstina Vergara
URL:https://yastaclub.es/event/el-gran-bingo-drag-3/2025-05-03/
LOCATION:Ya’sta Club\, Calle Valverde\, 10\, Madrid\, 28004\, España
CATEGORIES:Drag Queen 👠,LGTB 🏳️‍🌈
ATTACH;FMTTYPE=image/webp:https://yastaclub.es/wp-content/uploads/2024/10/webp-2.webp
END:VEVENT
BEGIN:VEVENT
DTSTART;TZID=Europe/Madrid:20250503T235900
DTEND;TZID=Europe/Madrid:20250504T060000
DTSTAMP:20260423T012721
CREATED:20240403T191957Z
LAST-MODIFIED:20241226T105441Z
UID:10000730-1746316740-1746338400@yastaclub.es
SUMMARY:BearbiePOP
DESCRIPTION:La sesión POP de Bears por excelencia de Madrid llega a Ya’sta Club. \nTodos los sábados en Calle Valverde\, 10.
URL:https://yastaclub.es/event/bearbiepop-18/2025-05-03/
LOCATION:Ya’sta Club\, Calle Valverde\, 10\, Madrid\, 28004\, España
CATEGORIES:Bear 🐻,LGTB 🏳️‍🌈
ATTACH;FMTTYPE=image/jpeg:https://yastaclub.es/wp-content/uploads/2023/06/bearbie-logo-2022.jpg
END:VEVENT
END:VCALENDAR