BEGIN:VCALENDAR
VERSION:2.0
PRODID:-//Ya&#039;sta Club - ECPv6.15.20//NONSGML v1.0//EN
CALSCALE:GREGORIAN
METHOD:PUBLISH
X-ORIGINAL-URL:https://yastaclub.es
X-WR-CALDESC:Eventos para Ya&#039;sta Club
REFRESH-INTERVAL;VALUE=DURATION:PT1H
X-Robots-Tag:noindex
X-PUBLISHED-TTL:PT1H
BEGIN:VTIMEZONE
TZID:Europe/Madrid
BEGIN:DAYLIGHT
TZOFFSETFROM:+0100
TZOFFSETTO:+0200
TZNAME:CEST
DTSTART:20240331T010000
END:DAYLIGHT
BEGIN:STANDARD
TZOFFSETFROM:+0200
TZOFFSETTO:+0100
TZNAME:CET
DTSTART:20241027T010000
END:STANDARD
BEGIN:DAYLIGHT
TZOFFSETFROM:+0100
TZOFFSETTO:+0200
TZNAME:CEST
DTSTART:20250330T010000
END:DAYLIGHT
BEGIN:STANDARD
TZOFFSETFROM:+0200
TZOFFSETTO:+0100
TZNAME:CET
DTSTART:20251026T010000
END:STANDARD
BEGIN:DAYLIGHT
TZOFFSETFROM:+0100
TZOFFSETTO:+0200
TZNAME:CEST
DTSTART:20260329T010000
END:DAYLIGHT
BEGIN:STANDARD
TZOFFSETFROM:+0200
TZOFFSETTO:+0100
TZNAME:CET
DTSTART:20261025T010000
END:STANDARD
END:VTIMEZONE
BEGIN:VEVENT
DTSTART;TZID=Europe/Madrid:20250425T190000
DTEND;TZID=Europe/Madrid:20250425T210000
DTSTAMP:20260423T012725
CREATED:20241016T093404Z
LAST-MODIFIED:20250905T094951Z
UID:10001033-1745607600-1745614800@yastaclub.es
SUMMARY:Mamma Mia\, tributo a ABBA
DESCRIPTION:La Opción Producciones te presenta Mamma Mía: Tributo a Abba en el Ya’sta Club. \nSumérgete a través de este homenaje en este viaje a través del tiempo recorriendo los grandes éxitos musicales de este grupo musical que ha dejado una huella perpetua en la historia de la música. \nVive\, baila y canta todos los éxitos icónicos de Abba en versión original\, disfrutando de una historia a ritmo de «Dancing Queen«\, «Mamma Mia» o «Take a Chance on Me«. \n¿Tienes alguna canción favorita? Ven a cantarla y bailarla en este tributo especial. \nInformación sobre precios y acceso\nEl espectáculo es en una discoteca. No hay asientos. Todo pista de baile. Según normativa de sala solo podrán acceder personas de 16 y 17 años acompañadas de padre madre tutor. Se PROHÍBE la entrada a los niños menores de 16 años si no van acompañados de padre/madre/tutor.
URL:https://yastaclub.es/event/mamma-mia-tributo-a-abba/2025-04-25/
LOCATION:Ya’sta Club\, Calle Valverde\, 10\, Madrid\, 28004\, España
ATTACH;FMTTYPE=image/webp:https://yastaclub.es/wp-content/uploads/2024/10/mamma_mia_tributo.webp
END:VEVENT
BEGIN:VEVENT
DTSTART;TZID=Europe/Madrid:20250425T210000
DTEND;TZID=Europe/Madrid:20250425T230000
DTSTAMP:20260423T012725
CREATED:20241016T093946Z
LAST-MODIFIED:20250905T094428Z
UID:10001034-1745614800-1745622000@yastaclub.es
SUMMARY:Bienvenidos a los 80's
DESCRIPTION:Ven y disfruta de una fiesta inigualable. \nAbrimos la sala Ya’sta Club para recordar los grandes éxitos de los años 80 con cantantes en directo. \nRecordaremos a: \nMiguel Rios · Sabina · Serrat · Bon Jovi · Los rebeldes · Mecano · Radio Futura · Los inhumanos · Madonna · Roy orbinson \nQueen · Danza Invisible · Duncan Duh · Seguridad Social · Alaska · Hombres G · Journey · Rosana · The Bangles · y muchos más… \nLa mejor música española e internacional de todos los tiempos. \n  \nInformación sobre precios y acceso\nEl espectáculo es en una discoteca. No hay asientos. Todo pista de baile. Según normativa de sala solo podrán acceder personas de 16 y 17 años acompañadas de padre madre tutor. Se PROHÍBE la entrada a los niños menores de 16 años si no van acompañados de padre/madre/tutor.
URL:https://yastaclub.es/event/bienvenidos-a-los-80s-2/2025-04-25/
LOCATION:Ya’sta Club\, Calle Valverde\, 10\, Madrid\, 28004\, España
ATTACH;FMTTYPE=image/webp:https://yastaclub.es/wp-content/uploads/2024/10/bienvenidos_ochenta_80s.webp
END:VEVENT
BEGIN:VEVENT
DTSTART;TZID=Europe/Madrid:20250425T235900
DTEND;TZID=Europe/Madrid:20250426T060000
DTSTAMP:20260423T012725
CREATED:20250225T083544Z
LAST-MODIFIED:20260128T113025Z
UID:10000969-1745625540-1745647200@yastaclub.es
SUMMARY:Asian Party
DESCRIPTION:🎉🐉 La mayor fiesta de música asiática en España\n🫰🏻13 Años de Asian Party \nMás información y entradas
URL:https://yastaclub.es/event/asian-party-madrid-kpop-fiesta/2025-04-25/
LOCATION:Ya’sta Club\, Calle Valverde\, 10\, Madrid\, 28004\, España
CATEGORIES:Asian,KPop
ATTACH;FMTTYPE=image/png:https://yastaclub.es/wp-content/uploads/2024/08/asian_party.png
END:VEVENT
BEGIN:VEVENT
DTSTART;TZID=Europe/Madrid:20250426T190000
DTEND;TZID=Europe/Madrid:20250426T210000
DTSTAMP:20260423T012725
CREATED:20250213T094838Z
LAST-MODIFIED:20250416T210427Z
UID:10001035-1745694000-1745701200@yastaclub.es
SUMMARY:Noche de coños XXL
DESCRIPTION:Noche de Coños XXXL  » EXPERIENCIA INMERSIVA». Hoy puede ser tu gran noche pero tu gran noche de coños. Diviértete junto a estos tres personajes en una noche donde el humor y la picardia te haran ser participe como uno más de ellos. Vienen más directo que nunca\, sin filtro y con show único e irreverente. Entre cotilleos y anécdotas  serás  parte de sus historias  y de sus formas de ver el mundo. No te pierdas este gran espectáculo interactivo en la YA’STA CLUB.
URL:https://yastaclub.es/event/noche-de-conos-xxl/2025-04-26/
LOCATION:Ya’sta Club\, Calle Valverde\, 10\, Madrid\, 28004\, España
ATTACH;FMTTYPE=image/webp:https://yastaclub.es/wp-content/uploads/2025/02/webp-1.webp
END:VEVENT
BEGIN:VEVENT
DTSTART;TZID=Europe/Madrid:20250426T210000
DTEND;TZID=Europe/Madrid:20250426T230000
DTSTAMP:20260423T012725
CREATED:20241031T145622Z
LAST-MODIFIED:20251105T172020Z
UID:10000874-1745701200-1745708400@yastaclub.es
SUMMARY:El Gran Bingo Drag
DESCRIPTION:¿Estás preparadx para disfrutar del mejor Bingo de Madrid? \nImagínate a más de 500 personas jugando por llevarse una multitud de premios. Un bingo lleno de fiesta\, comedia\, juegos y por supuesto\, muchos pero muchísimos regalos… \nTe esperamos en la sala Yasta Club con las mejores Drags\, la mejor música y sobre todo mucha pero que mucha diversión. \nLa mejor party del fin de semana. ¡Trae a todxs tus amigxs y compite en este bingo tan loco! \nPresentado por: \n\nSugar Nelly\nChirstina Vergara
URL:https://yastaclub.es/event/el-gran-bingo-drag-3/2025-04-26/
LOCATION:Ya’sta Club\, Calle Valverde\, 10\, Madrid\, 28004\, España
CATEGORIES:Drag Queen 👠,LGTB 🏳️‍🌈
ATTACH;FMTTYPE=image/webp:https://yastaclub.es/wp-content/uploads/2024/10/webp-2.webp
END:VEVENT
BEGIN:VEVENT
DTSTART;TZID=Europe/Madrid:20250426T235900
DTEND;TZID=Europe/Madrid:20250427T060000
DTSTAMP:20260423T012726
CREATED:20250423T103211Z
LAST-MODIFIED:20250423T103212Z
UID:10000729-1745711940-1745733600@yastaclub.es
SUMMARY:BearbiePOP
DESCRIPTION:La sesión POP de Bears por excelencia de Madrid llega a Ya’sta Club. \nTodos los sábados en Calle Valverde\, 10.
URL:https://yastaclub.es/event/bearbiepop-18-14/
LOCATION:Ya’sta Club\, Calle Valverde\, 10\, Madrid\, 28004\, España
CATEGORIES:Bear 🐻,LGTB 🏳️‍🌈
ATTACH;FMTTYPE=image/jpeg:https://yastaclub.es/wp-content/uploads/2024/04/491921133_1255908776535495_3316286677051517049_n.jpg
END:VEVENT
END:VCALENDAR