BEGIN:VCALENDAR
VERSION:2.0
PRODID:-//Ya&#039;sta Club - ECPv6.15.20//NONSGML v1.0//EN
CALSCALE:GREGORIAN
METHOD:PUBLISH
X-WR-CALNAME:Ya&#039;sta Club
X-ORIGINAL-URL:https://yastaclub.es
X-WR-CALDESC:Eventos para Ya&#039;sta Club
REFRESH-INTERVAL;VALUE=DURATION:PT1H
X-Robots-Tag:noindex
X-PUBLISHED-TTL:PT1H
BEGIN:VTIMEZONE
TZID:Europe/Madrid
BEGIN:DAYLIGHT
TZOFFSETFROM:+0100
TZOFFSETTO:+0200
TZNAME:CEST
DTSTART:20240331T010000
END:DAYLIGHT
BEGIN:STANDARD
TZOFFSETFROM:+0200
TZOFFSETTO:+0100
TZNAME:CET
DTSTART:20241027T010000
END:STANDARD
BEGIN:DAYLIGHT
TZOFFSETFROM:+0100
TZOFFSETTO:+0200
TZNAME:CEST
DTSTART:20250330T010000
END:DAYLIGHT
BEGIN:STANDARD
TZOFFSETFROM:+0200
TZOFFSETTO:+0100
TZNAME:CET
DTSTART:20251026T010000
END:STANDARD
BEGIN:DAYLIGHT
TZOFFSETFROM:+0100
TZOFFSETTO:+0200
TZNAME:CEST
DTSTART:20260329T010000
END:DAYLIGHT
BEGIN:STANDARD
TZOFFSETFROM:+0200
TZOFFSETTO:+0100
TZNAME:CET
DTSTART:20261025T010000
END:STANDARD
END:VTIMEZONE
BEGIN:VEVENT
DTSTART;TZID=Europe/Madrid:20250418T235900
DTEND;TZID=Europe/Madrid:20250419T060000
DTSTAMP:20260423T051959
CREATED:20250407T140448Z
LAST-MODIFIED:20250407T140448Z
UID:10001030-1745020740-1745042400@yastaclub.es
SUMMARY:Darma Party
DESCRIPTION:⭐️ DARMA PARTY • VIERNES 18 de ABRIL ⭐️ \n¡SORPRESAAAAA! ¡Te esperamos en nuestra próxima edición con un cartel de lujo! \n✨ Samantha BALLENTINES\n✨ Pupi Poisson\n✨ Sabrina Tanqueray\n✨ Tiffany Lumberjack\n✨ Puppy Ladilatada\n❓¡Y una invitada sorpresa! \n🎧 ¡Música de Kiddo y Luis Morillo! \n🎟️ ¡Ultimas entradas a precio de lanzamiento!\n📲 www.entradium.com (link en bio o stories) \n#DarmaParty #KarmaParty
URL:https://yastaclub.es/event/darma-party-3/
LOCATION:Ya’sta Club\, Calle Valverde\, 10\, Madrid\, 28004\, España
ATTACH;FMTTYPE=image/jpeg:https://yastaclub.es/wp-content/uploads/2025/04/WhatsApp-Image-2025-03-26-at-11.41.33.jpeg
END:VEVENT
BEGIN:VEVENT
DTSTART;TZID=Europe/Madrid:20250419T210000
DTEND;TZID=Europe/Madrid:20250419T230000
DTSTAMP:20260423T051959
CREATED:20241031T145622Z
LAST-MODIFIED:20251105T172020Z
UID:10000873-1745096400-1745103600@yastaclub.es
SUMMARY:El Gran Bingo Drag
DESCRIPTION:¿Estás preparadx para disfrutar del mejor Bingo de Madrid? \nImagínate a más de 500 personas jugando por llevarse una multitud de premios. Un bingo lleno de fiesta\, comedia\, juegos y por supuesto\, muchos pero muchísimos regalos… \nTe esperamos en la sala Yasta Club con las mejores Drags\, la mejor música y sobre todo mucha pero que mucha diversión. \nLa mejor party del fin de semana. ¡Trae a todxs tus amigxs y compite en este bingo tan loco! \nPresentado por: \n\nSugar Nelly\nChirstina Vergara
URL:https://yastaclub.es/event/el-gran-bingo-drag-3/2025-04-19/
LOCATION:Ya’sta Club\, Calle Valverde\, 10\, Madrid\, 28004\, España
CATEGORIES:Drag Queen 👠,LGTB 🏳️‍🌈
ATTACH;FMTTYPE=image/webp:https://yastaclub.es/wp-content/uploads/2024/10/webp-2.webp
END:VEVENT
BEGIN:VEVENT
DTSTART;TZID=Europe/Madrid:20250419T235900
DTEND;TZID=Europe/Madrid:20250420T060000
DTSTAMP:20260423T051959
CREATED:20240403T191957Z
LAST-MODIFIED:20241226T105441Z
UID:10000728-1745107140-1745128800@yastaclub.es
SUMMARY:BearbiePOP
DESCRIPTION:La sesión POP de Bears por excelencia de Madrid llega a Ya’sta Club. \nTodos los sábados en Calle Valverde\, 10.
URL:https://yastaclub.es/event/bearbiepop-18/2025-04-19/
LOCATION:Ya’sta Club\, Calle Valverde\, 10\, Madrid\, 28004\, España
CATEGORIES:Bear 🐻,LGTB 🏳️‍🌈
ATTACH;FMTTYPE=image/jpeg:https://yastaclub.es/wp-content/uploads/2023/06/bearbie-logo-2022.jpg
END:VEVENT
END:VCALENDAR