BEGIN:VCALENDAR
VERSION:2.0
PRODID:-//Ya&#039;sta Club - ECPv6.15.20//NONSGML v1.0//EN
CALSCALE:GREGORIAN
METHOD:PUBLISH
X-ORIGINAL-URL:https://yastaclub.es
X-WR-CALDESC:Eventos para Ya&#039;sta Club
REFRESH-INTERVAL;VALUE=DURATION:PT1H
X-Robots-Tag:noindex
X-PUBLISHED-TTL:PT1H
BEGIN:VTIMEZONE
TZID:Europe/Madrid
BEGIN:DAYLIGHT
TZOFFSETFROM:+0100
TZOFFSETTO:+0200
TZNAME:CEST
DTSTART:20240331T010000
END:DAYLIGHT
BEGIN:STANDARD
TZOFFSETFROM:+0200
TZOFFSETTO:+0100
TZNAME:CET
DTSTART:20241027T010000
END:STANDARD
BEGIN:DAYLIGHT
TZOFFSETFROM:+0100
TZOFFSETTO:+0200
TZNAME:CEST
DTSTART:20250330T010000
END:DAYLIGHT
BEGIN:STANDARD
TZOFFSETFROM:+0200
TZOFFSETTO:+0100
TZNAME:CET
DTSTART:20251026T010000
END:STANDARD
BEGIN:DAYLIGHT
TZOFFSETFROM:+0100
TZOFFSETTO:+0200
TZNAME:CEST
DTSTART:20260329T010000
END:DAYLIGHT
BEGIN:STANDARD
TZOFFSETFROM:+0200
TZOFFSETTO:+0100
TZNAME:CET
DTSTART:20261025T010000
END:STANDARD
END:VTIMEZONE
BEGIN:VEVENT
DTSTART;TZID=Europe/Madrid:20250404T190000
DTEND;TZID=Europe/Madrid:20250404T210000
DTSTAMP:20260423T043203
CREATED:20250905T094720Z
LAST-MODIFIED:20260326T190242Z
UID:10001243-1743793200-1743800400@yastaclub.es
SUMMARY:Historia del POP
DESCRIPTION:Tributo a la Historia del Pop: Repaso a Temas Españoles \nPrepárate para un viaje musical que despierta emociones\, recuerdos y mucha fiesta. En este show rendimos homenaje a las canciones que marcaron generaciones\, desde los grandes himnos del pop español de los años 80 hasta los éxitos más icónicos de las últimas décadas. \nCon una puesta en escena vibrante\, interpretaciones enérgicas y un repertorio que no te dejará quedarte sentado\, reviviremos juntos la magia de artistas como Mecano\, Alaska\, Hombres G\, La Oreja de Van Gogh\, Amaral\, y muchos más. \n¡Canta\, baila y siente el pulso del pop español como nunca antes! \nUna noche para celebrar nuestra historia musical. ¡No te lo puedes perder! \n  \nInformación sobre precios y acceso\nEl espectáculo es en una discoteca. No hay asientos. Todo pista de baile. Según normativa de sala solo podrán acceder personas de 16 y 17 años acompañadas de padre madre tutor. Se PROHÍBE la entrada a los niños menores de 16 años si no van acompañados de padre/madre/tutor.
URL:https://yastaclub.es/event/historia-del-pop/2025-04-04/
LOCATION:Ya’sta Club\, Calle Valverde\, 10\, Madrid\, 28004\, España
ATTACH;FMTTYPE=image/webp:https://yastaclub.es/wp-content/uploads/2025/09/historia_del_pop.webp
END:VEVENT
BEGIN:VEVENT
DTSTART;TZID=Europe/Madrid:20250404T235900
DTEND;TZID=Europe/Madrid:20250405T060000
DTSTAMP:20260423T043203
CREATED:20250108T181348Z
LAST-MODIFIED:20250324T193249Z
UID:10000940-1743811140-1743832800@yastaclub.es
SUMMARY:ROAR Party - Edición Feria de Abril
DESCRIPTION:ROAR Party – Edición Feria de Abril \nAunque este año caiga en mayo… ¡Nosotros no podíamos quedarnos quietas y montar nuestra propia feria en Madrid! \n¡Con un cartel de TODO drags andaluzas! \n🪭Rosario Molina (Huelva) \n🪭Vitácora (Jaén) \n🪭Lola Spain (Málaga) \n🪭Josefita Belladona (Sevilla) \n🪭 Margarita Kalifata (Córdoba) \nCon DJs que os pondrán bien de POP ·  URBAN · HITS: Simba DJ / El Nido DJ Group / Jaime Caballitos
URL:https://yastaclub.es/event/roar-party-edicion-feria-de-abril-2025/
LOCATION:Ya’sta Club\, Calle Valverde\, 10\, Madrid\, 28004\, España
CATEGORIES:Drag Queen 👠,LGTB 🏳️‍🌈
ATTACH;FMTTYPE=image/jpeg:https://yastaclub.es/wp-content/uploads/2025/01/484092865_1168348121696555_5245843279152752100_n-scaled.jpg
END:VEVENT
BEGIN:VEVENT
DTSTART;TZID=Europe/Madrid:20250405T210000
DTEND;TZID=Europe/Madrid:20250405T230000
DTSTAMP:20260423T043203
CREATED:20241031T145622Z
LAST-MODIFIED:20251105T172020Z
UID:10000871-1743886800-1743894000@yastaclub.es
SUMMARY:El Gran Bingo Drag
DESCRIPTION:¿Estás preparadx para disfrutar del mejor Bingo de Madrid? \nImagínate a más de 500 personas jugando por llevarse una multitud de premios. Un bingo lleno de fiesta\, comedia\, juegos y por supuesto\, muchos pero muchísimos regalos… \nTe esperamos en la sala Yasta Club con las mejores Drags\, la mejor música y sobre todo mucha pero que mucha diversión. \nLa mejor party del fin de semana. ¡Trae a todxs tus amigxs y compite en este bingo tan loco! \nPresentado por: \n\nSugar Nelly\nChirstina Vergara
URL:https://yastaclub.es/event/el-gran-bingo-drag-3/2025-04-05/
LOCATION:Ya’sta Club\, Calle Valverde\, 10\, Madrid\, 28004\, España
CATEGORIES:Drag Queen 👠,LGTB 🏳️‍🌈
ATTACH;FMTTYPE=image/webp:https://yastaclub.es/wp-content/uploads/2024/10/webp-2.webp
END:VEVENT
BEGIN:VEVENT
DTSTART;TZID=Europe/Madrid:20250405T235900
DTEND;TZID=Europe/Madrid:20250406T060000
DTSTAMP:20260423T043203
CREATED:20240403T191957Z
LAST-MODIFIED:20241226T105441Z
UID:10000726-1743897540-1743919200@yastaclub.es
SUMMARY:BearbiePOP
DESCRIPTION:La sesión POP de Bears por excelencia de Madrid llega a Ya’sta Club. \nTodos los sábados en Calle Valverde\, 10.
URL:https://yastaclub.es/event/bearbiepop-18/2025-04-05/
LOCATION:Ya’sta Club\, Calle Valverde\, 10\, Madrid\, 28004\, España
CATEGORIES:Bear 🐻,LGTB 🏳️‍🌈
ATTACH;FMTTYPE=image/jpeg:https://yastaclub.es/wp-content/uploads/2023/06/bearbie-logo-2022.jpg
END:VEVENT
END:VCALENDAR