BEGIN:VCALENDAR
VERSION:2.0
PRODID:-//Ya&#039;sta Club - ECPv6.15.20//NONSGML v1.0//EN
CALSCALE:GREGORIAN
METHOD:PUBLISH
X-ORIGINAL-URL:https://yastaclub.es
X-WR-CALDESC:Eventos para Ya&#039;sta Club
REFRESH-INTERVAL;VALUE=DURATION:PT1H
X-Robots-Tag:noindex
X-PUBLISHED-TTL:PT1H
BEGIN:VTIMEZONE
TZID:Europe/Madrid
BEGIN:DAYLIGHT
TZOFFSETFROM:+0100
TZOFFSETTO:+0200
TZNAME:CEST
DTSTART:20240331T010000
END:DAYLIGHT
BEGIN:STANDARD
TZOFFSETFROM:+0200
TZOFFSETTO:+0100
TZNAME:CET
DTSTART:20241027T010000
END:STANDARD
BEGIN:DAYLIGHT
TZOFFSETFROM:+0100
TZOFFSETTO:+0200
TZNAME:CEST
DTSTART:20250330T010000
END:DAYLIGHT
BEGIN:STANDARD
TZOFFSETFROM:+0200
TZOFFSETTO:+0100
TZNAME:CET
DTSTART:20251026T010000
END:STANDARD
BEGIN:DAYLIGHT
TZOFFSETFROM:+0100
TZOFFSETTO:+0200
TZNAME:CEST
DTSTART:20260329T010000
END:DAYLIGHT
BEGIN:STANDARD
TZOFFSETFROM:+0200
TZOFFSETTO:+0100
TZNAME:CET
DTSTART:20261025T010000
END:STANDARD
END:VTIMEZONE
BEGIN:VEVENT
DTSTART;TZID=Europe/Madrid:20250328T190000
DTEND;TZID=Europe/Madrid:20250328T210000
DTSTAMP:20260423T043509
CREATED:20241205T220758Z
LAST-MODIFIED:20250905T094800Z
UID:10000962-1743188400-1743195600@yastaclub.es
SUMMARY:La Oreja de Van Gogh - El tributo​
DESCRIPTION:Prepárate para una noche inolvidable con los éxitos que marcaron a toda una generación.  El Tributo a La Oreja de Van Gogh te trae lo mejor de una de las bandas más icónicas del pop español. En este tributo disfrutarás de sus letras emotivas que nunca pasarán de moda y que siempre cantamos a todo pulmón como “Puedes Contar Conmigo” \, “Rosas» o “20 de enero” . \nEste espectáculo está diseñado para hacerte bailar\, recordar y disfrutar como nunca de la época más importante y emblemática de tu vida. ¡No importa si eres un fan de toda la vida o si acabas de conocerlos\, este show es para ti! \n¡No te quedes fuera de la fiesta más grande del año y ven a vivir una experiencia llena de nostalgia\, buena música y mucha diversión! ¡Compra ya tus entradas para este homenaje único antes de que se agoten! \nPD: No apto para nostálgicos. \n\nInformación sobre precios y acceso\nEl espectáculo es en una discoteca. No hay asientos. Todo pista de baile. Según normativa de sala solo podrán acceder personas de 16 y 17 años acompañadas de padre madre tutor. Se PROHÍBE la entrada a los niños menores de 16 años si no van acompañados de padre/madre/tutor.
URL:https://yastaclub.es/event/la-oreja-de-van-gogh-el-tributo/2025-03-28/
LOCATION:Ya’sta Club\, Calle Valverde\, 10\, Madrid\, 28004\, España
ATTACH;FMTTYPE=image/webp:https://yastaclub.es/wp-content/uploads/2024/12/webp.webp
END:VEVENT
BEGIN:VEVENT
DTSTART;TZID=Europe/Madrid:20250328T210000
DTEND;TZID=Europe/Madrid:20250328T230000
DTSTAMP:20260423T043509
CREATED:20241016T094045Z
LAST-MODIFIED:20260326T185937Z
UID:10000958-1743195600-1743202800@yastaclub.es
SUMMARY:Disney Channel y más: el concierto
DESCRIPTION:¡Hannah Montana\, Camp Rock\, High School Musical\, Lizzie Mcguire y muchos más en Ya´sta Club!  \nImagina todas las canciones que marcaron a una generación en este tributo homenaje a la adolescencia de muchos y a la niñez de otros. En esta experiencia inmersiva podrás cantar\, bailar y participar en juegos que te harán sentir un artista más del espectáculo. Te podrás convertir en un Wildcat\, en una Cheetah Girl e incluso pertenecer a la banda de las Divinas. \nLa Opción Producciones te presenta un nuevo espectáculo musical e inmersivo a través de un viaje en el tiempo a las mejores series y películas que marcaron a toda una generación. \nPD: NO APTO PARA NOSTÁLGICOS. \n  \nInformación importante\n\nEl espectáculo es en una discoteca. No hay asientos. Todo en pista de baile. Según normativa de sala podrán acceder personas mayores de 16 años siempre presentando DNI\, en caso de no llevar DNI podrá ser rechazada su entrada. Menores de 16 años podrán acceder acompañados de padre\, madre o tutor legal y aportando DNI de ambos que acredite la situación o documento legal. ** \n\nVivirás los éxitos que te hicieron crecer.\nEsto no solo es un concierto. Es una fiesta.\nSegún normativa de sala las personas menores de edad solo podrán acceder acompañadas de padre madre tutor.
URL:https://yastaclub.es/event/disney-channel-y-mas-el-concierto-2/2025-03-28/
LOCATION:Ya’sta Club\, Calle Valverde\, 10\, Madrid\, 28004\, España
ATTACH;FMTTYPE=image/webp:https://yastaclub.es/wp-content/uploads/2024/10/disney_channel_concierto.webp
END:VEVENT
BEGIN:VEVENT
DTSTART;TZID=Europe/Madrid:20250328T235900
DTEND;TZID=Europe/Madrid:20250329T060000
DTSTAMP:20260423T043509
CREATED:20250225T083544Z
LAST-MODIFIED:20260128T113025Z
UID:10000968-1743206340-1743228000@yastaclub.es
SUMMARY:Asian Party
DESCRIPTION:🎉🐉 La mayor fiesta de música asiática en España\n🫰🏻13 Años de Asian Party \nMás información y entradas
URL:https://yastaclub.es/event/asian-party-madrid-kpop-fiesta/2025-03-28/
LOCATION:Ya’sta Club\, Calle Valverde\, 10\, Madrid\, 28004\, España
CATEGORIES:Asian,KPop
ATTACH;FMTTYPE=image/png:https://yastaclub.es/wp-content/uploads/2024/08/asian_party.png
END:VEVENT
BEGIN:VEVENT
DTSTART;TZID=Europe/Madrid:20250329T190000
DTEND;TZID=Europe/Madrid:20250329T210000
DTSTAMP:20260423T043509
CREATED:20241016T093651Z
LAST-MODIFIED:20250416T210852Z
UID:10000955-1743274800-1743282000@yastaclub.es
SUMMARY:Fangoria: tributo a Alaska
DESCRIPTION:Alaska y los Pegamoides\, Alaska y Dinarama\, Fangoria o simplemente ALASKA\, da igual su nombre porque su esencia es única. \nLA OPCIÓN PRODUCCIONES te trae un TRIBUTO musical homenajeando a una ESTRELLA internacional. Viaja a través del tiempo por todas las décadas clave del éxito de esta gran artista. Alaska nos ha dado mucho\, así que ha llegado la hora de que sea homenajeada como se merece y le devolvamos\, al menos\, un poquito. \n¡A quién le importa\, Dramas y comedias\, Ni tú ni nadie\, y muchos temas más que harán de este espectáculo una experiencia única! \nInformación sobre precios y acceso\nEl espectáculo es en una discoteca. No hay asientos. Todo en pista de baile. Según normativa de sala solo podrán acceder personas mayores de 16 años siempre presentando DNI\, en caso de no llevar DNI podrá ser rechazada su entrada. Menores de 16 años podrán acceder acompañados de padre\, madre o tutor legal y aportando DNI de ambos que acredite la situación o documento legal. *
URL:https://yastaclub.es/event/fangoria-tributo-a-alaska-5/2025-03-29/
LOCATION:Ya’sta Club\, Calle Valverde\, 10\, Madrid\, 28004\, España
ATTACH;FMTTYPE=image/webp:https://yastaclub.es/wp-content/uploads/2024/10/fangoria_tributo.webp
END:VEVENT
BEGIN:VEVENT
DTSTART;TZID=Europe/Madrid:20250329T190000
DTEND;TZID=Europe/Madrid:20250329T210000
DTSTAMP:20260423T043509
CREATED:20250213T094838Z
LAST-MODIFIED:20250416T210427Z
UID:10000965-1743274800-1743282000@yastaclub.es
SUMMARY:Noche de coños XXL
DESCRIPTION:Noche de Coños XXXL  » EXPERIENCIA INMERSIVA». Hoy puede ser tu gran noche pero tu gran noche de coños. Diviértete junto a estos tres personajes en una noche donde el humor y la picardia te haran ser participe como uno más de ellos. Vienen más directo que nunca\, sin filtro y con show único e irreverente. Entre cotilleos y anécdotas  serás  parte de sus historias  y de sus formas de ver el mundo. No te pierdas este gran espectáculo interactivo en la YA’STA CLUB.
URL:https://yastaclub.es/event/noche-de-conos-xxl/2025-03-29/
LOCATION:Ya’sta Club\, Calle Valverde\, 10\, Madrid\, 28004\, España
ATTACH;FMTTYPE=image/webp:https://yastaclub.es/wp-content/uploads/2025/02/webp-1.webp
END:VEVENT
BEGIN:VEVENT
DTSTART;TZID=Europe/Madrid:20250329T210000
DTEND;TZID=Europe/Madrid:20250329T230000
DTSTAMP:20260423T043509
CREATED:20241031T145622Z
LAST-MODIFIED:20251105T172020Z
UID:10000870-1743282000-1743289200@yastaclub.es
SUMMARY:El Gran Bingo Drag
DESCRIPTION:¿Estás preparadx para disfrutar del mejor Bingo de Madrid? \nImagínate a más de 500 personas jugando por llevarse una multitud de premios. Un bingo lleno de fiesta\, comedia\, juegos y por supuesto\, muchos pero muchísimos regalos… \nTe esperamos en la sala Yasta Club con las mejores Drags\, la mejor música y sobre todo mucha pero que mucha diversión. \nLa mejor party del fin de semana. ¡Trae a todxs tus amigxs y compite en este bingo tan loco! \nPresentado por: \n\nSugar Nelly\nChirstina Vergara
URL:https://yastaclub.es/event/el-gran-bingo-drag-3/2025-03-29/
LOCATION:Ya’sta Club\, Calle Valverde\, 10\, Madrid\, 28004\, España
CATEGORIES:Drag Queen 👠,LGTB 🏳️‍🌈
ATTACH;FMTTYPE=image/webp:https://yastaclub.es/wp-content/uploads/2024/10/webp-2.webp
END:VEVENT
BEGIN:VEVENT
DTSTART;TZID=Europe/Madrid:20250329T235900
DTEND;TZID=Europe/Madrid:20250330T070000
DTSTAMP:20260423T043509
CREATED:20240403T191957Z
LAST-MODIFIED:20241226T105441Z
UID:10000725-1743292740-1743318000@yastaclub.es
SUMMARY:BearbiePOP
DESCRIPTION:La sesión POP de Bears por excelencia de Madrid llega a Ya’sta Club. \nTodos los sábados en Calle Valverde\, 10.
URL:https://yastaclub.es/event/bearbiepop-18/2025-03-29/
LOCATION:Ya’sta Club\, Calle Valverde\, 10\, Madrid\, 28004\, España
CATEGORIES:Bear 🐻,LGTB 🏳️‍🌈
ATTACH;FMTTYPE=image/jpeg:https://yastaclub.es/wp-content/uploads/2023/06/bearbie-logo-2022.jpg
END:VEVENT
END:VCALENDAR