BEGIN:VCALENDAR
VERSION:2.0
PRODID:-//Ya&#039;sta Club - ECPv6.15.20//NONSGML v1.0//EN
CALSCALE:GREGORIAN
METHOD:PUBLISH
X-ORIGINAL-URL:https://yastaclub.es
X-WR-CALDESC:Eventos para Ya&#039;sta Club
REFRESH-INTERVAL;VALUE=DURATION:PT1H
X-Robots-Tag:noindex
X-PUBLISHED-TTL:PT1H
BEGIN:VTIMEZONE
TZID:Europe/Madrid
BEGIN:DAYLIGHT
TZOFFSETFROM:+0100
TZOFFSETTO:+0200
TZNAME:CEST
DTSTART:20240331T010000
END:DAYLIGHT
BEGIN:STANDARD
TZOFFSETFROM:+0200
TZOFFSETTO:+0100
TZNAME:CET
DTSTART:20241027T010000
END:STANDARD
BEGIN:DAYLIGHT
TZOFFSETFROM:+0100
TZOFFSETTO:+0200
TZNAME:CEST
DTSTART:20250330T010000
END:DAYLIGHT
BEGIN:STANDARD
TZOFFSETFROM:+0200
TZOFFSETTO:+0100
TZNAME:CET
DTSTART:20251026T010000
END:STANDARD
BEGIN:DAYLIGHT
TZOFFSETFROM:+0100
TZOFFSETTO:+0200
TZNAME:CEST
DTSTART:20260329T010000
END:DAYLIGHT
BEGIN:STANDARD
TZOFFSETFROM:+0200
TZOFFSETTO:+0100
TZNAME:CET
DTSTART:20261025T010000
END:STANDARD
END:VTIMEZONE
BEGIN:VEVENT
DTSTART;TZID=Europe/Madrid:20250314T200000
DTEND;TZID=Europe/Madrid:20250314T230000
DTSTAMP:20260423T004834
CREATED:20250116T121608Z
LAST-MODIFIED:20250116T121608Z
UID:10000945-1741982400-1741993200@yastaclub.es
SUMMARY:Wickhe?! Un show de Arantxa y Onyx
DESCRIPTION:Wickhe?! Un show de Arantxa y Onyx \nEntradas anticipadas aquí  \nWICKHE?! \nMucho antes de la llegada de Dorotea Farala a Oz’s Drag Race\, había una joven de piel verde\, inteligente\, incomprendida y con un talento extraordinario. Cuando conoce a una rubia risueña extremeña\, se convierten en la más improbable y poderosa de las amistades… hasta que reciben la llamada del Mago Supremmo. Juntas vivirán millones de aventuras\, pero el mundo será quien decida quién será aclamada la nueva superestrella bruja de Oz y quién se dará de bruces con el infierno de caer en el olvido. \nWICKHE?! es su historia de amor. Y tú dirás… ¿amor? ¿pero no eran amigas? pero quien no se ha dado un pipazo con una amiga alguna vez.
URL:https://yastaclub.es/event/wickhe-un-show-de-arantxa-y-onyx/
LOCATION:Ya’sta Club\, Calle Valverde\, 10\, Madrid\, 28004\, España
CATEGORIES:Drag Queen 👠,LGTB 🏳️‍🌈
ATTACH;FMTTYPE=image/jpeg:https://yastaclub.es/wp-content/uploads/2025/01/onyx-arantxa-wicked.jpg
END:VEVENT
BEGIN:VEVENT
DTSTART;TZID=Europe/Madrid:20250314T235900
DTEND;TZID=Europe/Madrid:20250315T060000
DTSTAMP:20260423T004834
CREATED:20250227T151710Z
LAST-MODIFIED:20250310T185123Z
UID:10001028-1741996740-1742018400@yastaclub.es
SUMMARY:Titanes on Tour: destino Oslo
DESCRIPTION:¡Atención\, pasajeros! ✈️ \nBienvenides al vuelo Titanes on Tour con destino Oslo\, que despega el viernes 14 de marzo desde @yastaclublgtb a las 00:00 h. \nA los mandos\, los DJs @unaigoiko y @jaime_rsc\, listos para pilotar una noche de turbulencias en la pista de baile. A bordo\, nuestras azafatas de lujo\, @sobredosis_gonzalez y @labrenda.star\, se encargarán de que este viaje sea inolvidable. \n✅️ Equipaje permitido: ganas de fiesta. \n❌️ Objetos prohibidos: la vergüenza y el aburrimiento. \n🎟 Entradas en la BIO \n¡Puertas de embarque abiertas muy pronto! ⏳🎉
URL:https://yastaclub.es/event/titanes-on-tour-destino-oslo/
LOCATION:Ya’sta Club\, Calle Valverde\, 10\, Madrid\, 28004\, España
CATEGORIES:Drag Queen 👠,LGTB 🏳️‍🌈
ATTACH;FMTTYPE=image/jpeg:https://yastaclub.es/wp-content/uploads/2025/02/WhatsApp-Image-2025-03-05-at-20.49.25.jpeg
END:VEVENT
BEGIN:VEVENT
DTSTART;TZID=Europe/Madrid:20250315T190000
DTEND;TZID=Europe/Madrid:20250315T210000
DTSTAMP:20260423T004834
CREATED:20250105T183135Z
LAST-MODIFIED:20250416T210802Z
UID:10000961-1742065200-1742072400@yastaclub.es
SUMMARY:Sufre Mamón: Tributo a Hombres G
DESCRIPTION:SUFRE MAMÓN: TRIBUTO A HOMBRES G\n\n\nPrepárate para una noche inolvidable con los éxitos que marcaron a toda una generación. El Tributo a Hombres G te trae lo mejor de una de las bandas más icónicas del pop rock español. Revive los momentos más emblemáticos de los 80s y canta a todo pulmón temas legendarios como «Devuélveme a mi chica» \, «Te quiero» o «Voy a pasármelo bien» . \nEste espectáculo está diseñado para hacerte bailar\, recordar y disfrutar como nunca de la época más importante y emblemática de tu vida. ¡No importa si eres un fan de toda la vida o si acabas de conocerlos\, este show es para ti! \n¡No te quedes fuera de la fiesta más grande del año y ven a vivir una experiencia llena de nostalgia\, buena música y mucha diversión! ¡Compra ya tus entradas para este homenaje único antes de que se agoten! \nPD: No apto para nostálgicos. \n\nInformación sobre precios y acceso\nEl espectáculo es en una discoteca. No hay asientos. Todo pista de baile. Según normativa de sala solo podrán acceder personas de 16 y 17 años acompañadas de padre madre tutor. Se PROHÍBE la entrada a los niños menores de 16 años si no van acompañados de padre/madre/tutor.
URL:https://yastaclub.es/event/sufre-mamon-tributo-a-hombres-g/2025-03-15/
LOCATION:Ya’sta Club\, Calle Valverde\, 10\, Madrid\, 28004\, España
ATTACH;FMTTYPE=image/webp:https://yastaclub.es/wp-content/uploads/2025/01/sufre_mamon_hombres_g.webp
END:VEVENT
BEGIN:VEVENT
DTSTART;TZID=Europe/Madrid:20250315T210000
DTEND;TZID=Europe/Madrid:20250315T230000
DTSTAMP:20260423T004834
CREATED:20241031T145622Z
LAST-MODIFIED:20251105T172020Z
UID:10000868-1742072400-1742079600@yastaclub.es
SUMMARY:El Gran Bingo Drag
DESCRIPTION:¿Estás preparadx para disfrutar del mejor Bingo de Madrid? \nImagínate a más de 500 personas jugando por llevarse una multitud de premios. Un bingo lleno de fiesta\, comedia\, juegos y por supuesto\, muchos pero muchísimos regalos… \nTe esperamos en la sala Yasta Club con las mejores Drags\, la mejor música y sobre todo mucha pero que mucha diversión. \nLa mejor party del fin de semana. ¡Trae a todxs tus amigxs y compite en este bingo tan loco! \nPresentado por: \n\nSugar Nelly\nChirstina Vergara
URL:https://yastaclub.es/event/el-gran-bingo-drag-3/2025-03-15/
LOCATION:Ya’sta Club\, Calle Valverde\, 10\, Madrid\, 28004\, España
CATEGORIES:Drag Queen 👠,LGTB 🏳️‍🌈
ATTACH;FMTTYPE=image/webp:https://yastaclub.es/wp-content/uploads/2024/10/webp-2.webp
END:VEVENT
BEGIN:VEVENT
DTSTART;TZID=Europe/Madrid:20250315T235900
DTEND;TZID=Europe/Madrid:20250316T060000
DTSTAMP:20260423T004834
CREATED:20240403T191957Z
LAST-MODIFIED:20241226T105441Z
UID:10000723-1742083140-1742104800@yastaclub.es
SUMMARY:BearbiePOP
DESCRIPTION:La sesión POP de Bears por excelencia de Madrid llega a Ya’sta Club. \nTodos los sábados en Calle Valverde\, 10.
URL:https://yastaclub.es/event/bearbiepop-18/2025-03-15/
LOCATION:Ya’sta Club\, Calle Valverde\, 10\, Madrid\, 28004\, España
CATEGORIES:Bear 🐻,LGTB 🏳️‍🌈
ATTACH;FMTTYPE=image/jpeg:https://yastaclub.es/wp-content/uploads/2023/06/bearbie-logo-2022.jpg
END:VEVENT
END:VCALENDAR