BEGIN:VCALENDAR
VERSION:2.0
PRODID:-//Ya&#039;sta Club - ECPv6.15.20//NONSGML v1.0//EN
CALSCALE:GREGORIAN
METHOD:PUBLISH
X-ORIGINAL-URL:https://yastaclub.es
X-WR-CALDESC:Eventos para Ya&#039;sta Club
REFRESH-INTERVAL;VALUE=DURATION:PT1H
X-Robots-Tag:noindex
X-PUBLISHED-TTL:PT1H
BEGIN:VTIMEZONE
TZID:Europe/Madrid
BEGIN:DAYLIGHT
TZOFFSETFROM:+0100
TZOFFSETTO:+0200
TZNAME:CEST
DTSTART:20240331T010000
END:DAYLIGHT
BEGIN:STANDARD
TZOFFSETFROM:+0200
TZOFFSETTO:+0100
TZNAME:CET
DTSTART:20241027T010000
END:STANDARD
BEGIN:DAYLIGHT
TZOFFSETFROM:+0100
TZOFFSETTO:+0200
TZNAME:CEST
DTSTART:20250330T010000
END:DAYLIGHT
BEGIN:STANDARD
TZOFFSETFROM:+0200
TZOFFSETTO:+0100
TZNAME:CET
DTSTART:20251026T010000
END:STANDARD
BEGIN:DAYLIGHT
TZOFFSETFROM:+0100
TZOFFSETTO:+0200
TZNAME:CEST
DTSTART:20260329T010000
END:DAYLIGHT
BEGIN:STANDARD
TZOFFSETFROM:+0200
TZOFFSETTO:+0100
TZNAME:CET
DTSTART:20261025T010000
END:STANDARD
END:VTIMEZONE
BEGIN:VEVENT
DTSTART;TZID=Europe/Madrid:20250307T190000
DTEND;TZID=Europe/Madrid:20250307T210000
DTSTAMP:20260423T004745
CREATED:20250105T183326Z
LAST-MODIFIED:20250905T094853Z
UID:10000956-1741374000-1741381200@yastaclub.es
SUMMARY:El Canto del Loco: el tributo
DESCRIPTION:EL CANTO DEL LOCO: EL TRIBUTO\n\n\nPrepárate para una noche inolvidable con los grandes éxitos que marcaron a toda una generación.  El Tributo a El Canto del Loco te trae lo mejor de una de las bandas más icónicas del pop alternativo español. En este tributo disfrutarás de sus letras que siempre cantamos a todo pulmón como “Zapatilla” \, “Besos» o “Volvera . \nEste espectáculo está diseñado para hacerte bailar\, recordar y disfrutar como nunca de la época más importante y emblemática de tu vida. ¡No importa si eres un fan de toda la vida o si acabas de conocerlos\, este show es para ti! \n¡No te quedes fuera de la fiesta más grande del año y ven a vivir una experiencia llena de buena música y mucha diversión! ¡Compra ya tus entradas para este homenaje único antes de que se agoten! \nPD: No apto para nostálgicos. \nInformación sobre precios y acceso\nEl espectáculo es en una discoteca. No hay asientos. Todo pista de baile. Según normativa de sala solo podrán acceder personas de 16 y 17 años acompañadas de padre madre tutor. Se PROHÍBE la entrada a los niños menores de 16 años si no van acompañados de padre/madre/tutor.
URL:https://yastaclub.es/event/el-canto-del-loco-el-tributo/2025-03-07/
LOCATION:Ya’sta Club\, Calle Valverde\, 10\, Madrid\, 28004\, España
ATTACH;FMTTYPE=image/webp:https://yastaclub.es/wp-content/uploads/2025/01/canto_del_loco.webp
END:VEVENT
BEGIN:VEVENT
DTSTART;TZID=Europe/Madrid:20250307T210000
DTEND;TZID=Europe/Madrid:20250307T230000
DTSTAMP:20260423T004745
CREATED:20241016T093404Z
LAST-MODIFIED:20250905T094951Z
UID:10000949-1741381200-1741388400@yastaclub.es
SUMMARY:Mamma Mia\, tributo a ABBA
DESCRIPTION:La Opción Producciones te presenta Mamma Mía: Tributo a Abba en el Ya’sta Club. \nSumérgete a través de este homenaje en este viaje a través del tiempo recorriendo los grandes éxitos musicales de este grupo musical que ha dejado una huella perpetua en la historia de la música. \nVive\, baila y canta todos los éxitos icónicos de Abba en versión original\, disfrutando de una historia a ritmo de «Dancing Queen«\, «Mamma Mia» o «Take a Chance on Me«. \n¿Tienes alguna canción favorita? Ven a cantarla y bailarla en este tributo especial. \nInformación sobre precios y acceso\nEl espectáculo es en una discoteca. No hay asientos. Todo pista de baile. Según normativa de sala solo podrán acceder personas de 16 y 17 años acompañadas de padre madre tutor. Se PROHÍBE la entrada a los niños menores de 16 años si no van acompañados de padre/madre/tutor.
URL:https://yastaclub.es/event/mamma-mia-tributo-a-abba/2025-03-07/
LOCATION:Ya’sta Club\, Calle Valverde\, 10\, Madrid\, 28004\, España
ATTACH;FMTTYPE=image/webp:https://yastaclub.es/wp-content/uploads/2024/10/mamma_mia_tributo.webp
END:VEVENT
BEGIN:VEVENT
DTSTART;TZID=Europe/Madrid:20250307T235900
DTEND;TZID=Europe/Madrid:20250308T060000
DTSTAMP:20260423T004745
CREATED:20250225T082803Z
LAST-MODIFIED:20250225T082839Z
UID:10000966-1741391940-1741413600@yastaclub.es
SUMMARY:Darma Party
DESCRIPTION:✨ DARMA PARTY • VIERNES 7 MARZO ✨ \n¡Tras una primera edición espectacular volvemos el viernes 7 de Marzo! \n⭐️ SAGITTARIA\, LACA UDILLA y TIFFANY LUMBERJACK\n🎧 KIDDO y MALATESTA \n🎟️ ¡Entrada + 2 copas por solo 12\,75€!\n📲 www.entradium.com (link en bio y stories) \n#DarmaParty
URL:https://yastaclub.es/event/darma-party-2/
LOCATION:Ya’sta Club\, Calle Valverde\, 10\, Madrid\, 28004\, España
CATEGORIES:LGTB 🏳️‍🌈
ATTACH;FMTTYPE=image/jpeg:https://yastaclub.es/wp-content/uploads/2025/02/WhatsApp-Image-2025-02-24-at-19.28.05-1-scaled.jpeg
END:VEVENT
BEGIN:VEVENT
DTSTART;TZID=Europe/Madrid:20250308T210000
DTEND;TZID=Europe/Madrid:20250308T230000
DTSTAMP:20260423T004745
CREATED:20241031T145622Z
LAST-MODIFIED:20251105T172020Z
UID:10000867-1741467600-1741474800@yastaclub.es
SUMMARY:El Gran Bingo Drag
DESCRIPTION:¿Estás preparadx para disfrutar del mejor Bingo de Madrid? \nImagínate a más de 500 personas jugando por llevarse una multitud de premios. Un bingo lleno de fiesta\, comedia\, juegos y por supuesto\, muchos pero muchísimos regalos… \nTe esperamos en la sala Yasta Club con las mejores Drags\, la mejor música y sobre todo mucha pero que mucha diversión. \nLa mejor party del fin de semana. ¡Trae a todxs tus amigxs y compite en este bingo tan loco! \nPresentado por: \n\nSugar Nelly\nChirstina Vergara
URL:https://yastaclub.es/event/el-gran-bingo-drag-3/2025-03-08/
LOCATION:Ya’sta Club\, Calle Valverde\, 10\, Madrid\, 28004\, España
CATEGORIES:Drag Queen 👠,LGTB 🏳️‍🌈
ATTACH;FMTTYPE=image/webp:https://yastaclub.es/wp-content/uploads/2024/10/webp-2.webp
END:VEVENT
BEGIN:VEVENT
DTSTART;TZID=Europe/Madrid:20250308T235900
DTEND;TZID=Europe/Madrid:20250309T060000
DTSTAMP:20260423T004745
CREATED:20240403T191957Z
LAST-MODIFIED:20241226T105441Z
UID:10000722-1741478340-1741500000@yastaclub.es
SUMMARY:BearbiePOP
DESCRIPTION:La sesión POP de Bears por excelencia de Madrid llega a Ya’sta Club. \nTodos los sábados en Calle Valverde\, 10.
URL:https://yastaclub.es/event/bearbiepop-18/2025-03-08/
LOCATION:Ya’sta Club\, Calle Valverde\, 10\, Madrid\, 28004\, España
CATEGORIES:Bear 🐻,LGTB 🏳️‍🌈
ATTACH;FMTTYPE=image/jpeg:https://yastaclub.es/wp-content/uploads/2023/06/bearbie-logo-2022.jpg
END:VEVENT
END:VCALENDAR