BEGIN:VCALENDAR
VERSION:2.0
PRODID:-//Ya&#039;sta Club - ECPv6.15.20//NONSGML v1.0//EN
CALSCALE:GREGORIAN
METHOD:PUBLISH
X-WR-CALNAME:Ya&#039;sta Club
X-ORIGINAL-URL:https://yastaclub.es
X-WR-CALDESC:Eventos para Ya&#039;sta Club
REFRESH-INTERVAL;VALUE=DURATION:PT1H
X-Robots-Tag:noindex
X-PUBLISHED-TTL:PT1H
BEGIN:VTIMEZONE
TZID:Europe/Madrid
BEGIN:DAYLIGHT
TZOFFSETFROM:+0100
TZOFFSETTO:+0200
TZNAME:CEST
DTSTART:20240331T010000
END:DAYLIGHT
BEGIN:STANDARD
TZOFFSETFROM:+0200
TZOFFSETTO:+0100
TZNAME:CET
DTSTART:20241027T010000
END:STANDARD
BEGIN:DAYLIGHT
TZOFFSETFROM:+0100
TZOFFSETTO:+0200
TZNAME:CEST
DTSTART:20250330T010000
END:DAYLIGHT
BEGIN:STANDARD
TZOFFSETFROM:+0200
TZOFFSETTO:+0100
TZNAME:CET
DTSTART:20251026T010000
END:STANDARD
BEGIN:DAYLIGHT
TZOFFSETFROM:+0100
TZOFFSETTO:+0200
TZNAME:CEST
DTSTART:20260329T010000
END:DAYLIGHT
BEGIN:STANDARD
TZOFFSETFROM:+0200
TZOFFSETTO:+0100
TZNAME:CET
DTSTART:20261025T010000
END:STANDARD
END:VTIMEZONE
BEGIN:VEVENT
DTSTART;TZID=Europe/Madrid:20250124T190000
DTEND;TZID=Europe/Madrid:20250124T210000
DTSTAMP:20260422T100658
CREATED:20241205T220758Z
LAST-MODIFIED:20250905T094800Z
UID:10000932-1737745200-1737752400@yastaclub.es
SUMMARY:La Oreja de Van Gogh - El tributo​
DESCRIPTION:Prepárate para una noche inolvidable con los éxitos que marcaron a toda una generación.  El Tributo a La Oreja de Van Gogh te trae lo mejor de una de las bandas más icónicas del pop español. En este tributo disfrutarás de sus letras emotivas que nunca pasarán de moda y que siempre cantamos a todo pulmón como “Puedes Contar Conmigo” \, “Rosas» o “20 de enero” . \nEste espectáculo está diseñado para hacerte bailar\, recordar y disfrutar como nunca de la época más importante y emblemática de tu vida. ¡No importa si eres un fan de toda la vida o si acabas de conocerlos\, este show es para ti! \n¡No te quedes fuera de la fiesta más grande del año y ven a vivir una experiencia llena de nostalgia\, buena música y mucha diversión! ¡Compra ya tus entradas para este homenaje único antes de que se agoten! \nPD: No apto para nostálgicos. \n\nInformación sobre precios y acceso\nEl espectáculo es en una discoteca. No hay asientos. Todo pista de baile. Según normativa de sala solo podrán acceder personas de 16 y 17 años acompañadas de padre madre tutor. Se PROHÍBE la entrada a los niños menores de 16 años si no van acompañados de padre/madre/tutor.
URL:https://yastaclub.es/event/la-oreja-de-van-gogh-el-tributo/2025-01-24/
LOCATION:Ya’sta Club\, Calle Valverde\, 10\, Madrid\, 28004\, España
ATTACH;FMTTYPE=image/webp:https://yastaclub.es/wp-content/uploads/2024/12/webp.webp
END:VEVENT
BEGIN:VEVENT
DTSTART;TZID=Europe/Madrid:20250124T210000
DTEND;TZID=Europe/Madrid:20250124T230000
DTSTAMP:20260422T100658
CREATED:20241016T093946Z
LAST-MODIFIED:20250905T094428Z
UID:10000933-1737752400-1737759600@yastaclub.es
SUMMARY:Bienvenidos a los 80's
DESCRIPTION:Ven y disfruta de una fiesta inigualable. \nAbrimos la sala Ya’sta Club para recordar los grandes éxitos de los años 80 con cantantes en directo. \nRecordaremos a: \nMiguel Rios · Sabina · Serrat · Bon Jovi · Los rebeldes · Mecano · Radio Futura · Los inhumanos · Madonna · Roy orbinson \nQueen · Danza Invisible · Duncan Duh · Seguridad Social · Alaska · Hombres G · Journey · Rosana · The Bangles · y muchos más… \nLa mejor música española e internacional de todos los tiempos. \n  \nInformación sobre precios y acceso\nEl espectáculo es en una discoteca. No hay asientos. Todo pista de baile. Según normativa de sala solo podrán acceder personas de 16 y 17 años acompañadas de padre madre tutor. Se PROHÍBE la entrada a los niños menores de 16 años si no van acompañados de padre/madre/tutor.
URL:https://yastaclub.es/event/bienvenidos-a-los-80s-2/2025-01-24/
LOCATION:Ya’sta Club\, Calle Valverde\, 10\, Madrid\, 28004\, España
ATTACH;FMTTYPE=image/webp:https://yastaclub.es/wp-content/uploads/2024/10/bienvenidos_ochenta_80s.webp
END:VEVENT
BEGIN:VEVENT
DTSTART;TZID=Europe/Madrid:20250125T190000
DTEND;TZID=Europe/Madrid:20250125T210000
DTSTAMP:20260422T100658
CREATED:20250105T183135Z
LAST-MODIFIED:20250416T210802Z
UID:10000936-1737831600-1737838800@yastaclub.es
SUMMARY:Sufre Mamón: Tributo a Hombres G
DESCRIPTION:SUFRE MAMÓN: TRIBUTO A HOMBRES G\n\n\nPrepárate para una noche inolvidable con los éxitos que marcaron a toda una generación. El Tributo a Hombres G te trae lo mejor de una de las bandas más icónicas del pop rock español. Revive los momentos más emblemáticos de los 80s y canta a todo pulmón temas legendarios como «Devuélveme a mi chica» \, «Te quiero» o «Voy a pasármelo bien» . \nEste espectáculo está diseñado para hacerte bailar\, recordar y disfrutar como nunca de la época más importante y emblemática de tu vida. ¡No importa si eres un fan de toda la vida o si acabas de conocerlos\, este show es para ti! \n¡No te quedes fuera de la fiesta más grande del año y ven a vivir una experiencia llena de nostalgia\, buena música y mucha diversión! ¡Compra ya tus entradas para este homenaje único antes de que se agoten! \nPD: No apto para nostálgicos. \n\nInformación sobre precios y acceso\nEl espectáculo es en una discoteca. No hay asientos. Todo pista de baile. Según normativa de sala solo podrán acceder personas de 16 y 17 años acompañadas de padre madre tutor. Se PROHÍBE la entrada a los niños menores de 16 años si no van acompañados de padre/madre/tutor.
URL:https://yastaclub.es/event/sufre-mamon-tributo-a-hombres-g/2025-01-25/
LOCATION:Ya’sta Club\, Calle Valverde\, 10\, Madrid\, 28004\, España
ATTACH;FMTTYPE=image/webp:https://yastaclub.es/wp-content/uploads/2025/01/sufre_mamon_hombres_g.webp
END:VEVENT
BEGIN:VEVENT
DTSTART;TZID=Europe/Madrid:20250125T210000
DTEND;TZID=Europe/Madrid:20250125T230000
DTSTAMP:20260422T100658
CREATED:20241031T145622Z
LAST-MODIFIED:20251105T172020Z
UID:10000861-1737838800-1737846000@yastaclub.es
SUMMARY:El Gran Bingo Drag
DESCRIPTION:¿Estás preparadx para disfrutar del mejor Bingo de Madrid? \nImagínate a más de 500 personas jugando por llevarse una multitud de premios. Un bingo lleno de fiesta\, comedia\, juegos y por supuesto\, muchos pero muchísimos regalos… \nTe esperamos en la sala Yasta Club con las mejores Drags\, la mejor música y sobre todo mucha pero que mucha diversión. \nLa mejor party del fin de semana. ¡Trae a todxs tus amigxs y compite en este bingo tan loco! \nPresentado por: \n\nSugar Nelly\nChirstina Vergara
URL:https://yastaclub.es/event/el-gran-bingo-drag-3/2025-01-25/
LOCATION:Ya’sta Club\, Calle Valverde\, 10\, Madrid\, 28004\, España
CATEGORIES:Drag Queen 👠,LGTB 🏳️‍🌈
ATTACH;FMTTYPE=image/webp:https://yastaclub.es/wp-content/uploads/2024/10/webp-2.webp
END:VEVENT
BEGIN:VEVENT
DTSTART;TZID=Europe/Madrid:20250125T235900
DTEND;TZID=Europe/Madrid:20250126T060000
DTSTAMP:20260422T100658
CREATED:20240403T191957Z
LAST-MODIFIED:20241226T105441Z
UID:10000716-1737849540-1737871200@yastaclub.es
SUMMARY:BearbiePOP
DESCRIPTION:La sesión POP de Bears por excelencia de Madrid llega a Ya’sta Club. \nTodos los sábados en Calle Valverde\, 10.
URL:https://yastaclub.es/event/bearbiepop-18/2025-01-25/
LOCATION:Ya’sta Club\, Calle Valverde\, 10\, Madrid\, 28004\, España
CATEGORIES:Bear 🐻,LGTB 🏳️‍🌈
ATTACH;FMTTYPE=image/jpeg:https://yastaclub.es/wp-content/uploads/2023/06/bearbie-logo-2022.jpg
END:VEVENT
END:VCALENDAR