BEGIN:VCALENDAR
VERSION:2.0
PRODID:-//Ya&#039;sta Club - ECPv6.15.20//NONSGML v1.0//EN
CALSCALE:GREGORIAN
METHOD:PUBLISH
X-WR-CALNAME:Ya&#039;sta Club
X-ORIGINAL-URL:https://yastaclub.es
X-WR-CALDESC:Eventos para Ya&#039;sta Club
REFRESH-INTERVAL;VALUE=DURATION:PT1H
X-Robots-Tag:noindex
X-PUBLISHED-TTL:PT1H
BEGIN:VTIMEZONE
TZID:Europe/Madrid
BEGIN:DAYLIGHT
TZOFFSETFROM:+0100
TZOFFSETTO:+0200
TZNAME:CEST
DTSTART:20240331T010000
END:DAYLIGHT
BEGIN:STANDARD
TZOFFSETFROM:+0200
TZOFFSETTO:+0100
TZNAME:CET
DTSTART:20241027T010000
END:STANDARD
BEGIN:DAYLIGHT
TZOFFSETFROM:+0100
TZOFFSETTO:+0200
TZNAME:CEST
DTSTART:20250330T010000
END:DAYLIGHT
BEGIN:STANDARD
TZOFFSETFROM:+0200
TZOFFSETTO:+0100
TZNAME:CET
DTSTART:20251026T010000
END:STANDARD
BEGIN:DAYLIGHT
TZOFFSETFROM:+0100
TZOFFSETTO:+0200
TZNAME:CEST
DTSTART:20260329T010000
END:DAYLIGHT
BEGIN:STANDARD
TZOFFSETFROM:+0200
TZOFFSETTO:+0100
TZNAME:CET
DTSTART:20261025T010000
END:STANDARD
END:VTIMEZONE
BEGIN:VEVENT
DTSTART;TZID=Europe/Madrid:20250113T210000
DTEND;TZID=Europe/Madrid:20250113T235900
DTSTAMP:20260422T053432
CREATED:20250103T082125Z
LAST-MODIFIED:20250103T082125Z
UID:10000925-1736802000-1736812740@yastaclub.es
SUMMARY:La Chuecoteca by LGTBailamos
DESCRIPTION:🌈✨ CHUECOTECA LLENA DE DIVINEO ✨🌈\nEl miércoles 15 de enero\, prepárate para darlo todo en nuestra fiesta temática inspirada en el icónico juego Dress to Impress. 👗👑\n🪩 ¿El reto? Ven con tu outfit más hortera\, deslumbra y participa para ganar el título del look Queen del Divineo. 💅🏽🔥 \n📆 13 enero.\n⏰ 21:00h a 00:00.\n💡 Dress Code: Piensa fuera de la caja\, ¡todo vale! 🌈 \n#CHUECOTECA #lgtbailamos #Perreo #divineo #LGBTQ+ #dresstoimpress
URL:https://yastaclub.es/event/la-chuecoteca-by-lgtbailamos-enero-2025/
LOCATION:Ya’sta Club\, Calle Valverde\, 10\, Madrid\, 28004\, España
CATEGORIES:LGTB 🏳️‍🌈
ATTACH;FMTTYPE=image/jpeg:https://yastaclub.es/wp-content/uploads/2025/01/472552792_1679732386291628_6464337497267509796_n.jpg
END:VEVENT
BEGIN:VEVENT
DTSTART;TZID=Europe/Madrid:20250117T190000
DTEND;TZID=Europe/Madrid:20250117T210000
DTSTAMP:20260422T053432
CREATED:20241016T093806Z
LAST-MODIFIED:20250213T095827Z
UID:10000930-1737140400-1737147600@yastaclub.es
SUMMARY:Michael Jackson & Queen: leyendas
DESCRIPTION:TRIBUTO A LAS LEYENDAS\n\n\nMichael Jackson & Freddie Mercury serán homenajeados en la sala Yasta a través de las grandes voces de Irene Mara y Alex Adán en un concierto único. \nViajaremos en el tiempo para repasar los grandes éxitos del Rey del Pop y Queen\, en un tributo con voces en directo. \nPodrás disfrutar de algunos de los temas más legendarios como «Billie Jean«\, «Jailhouse Rock«\, «Bohemian Rhapsody«\, «Thriller«\, «Suspicious Minds» o «We Will Rock You«. \n¿Estás preparado para disfrutar del tributo a las leyendas? \nNO TE LO PUEDES PERDER.
URL:https://yastaclub.es/event/michael-jackson-queen-leyendas/2025-01-17/
LOCATION:Ya’sta Club\, Calle Valverde\, 10\, Madrid\, 28004\, España
ATTACH;FMTTYPE=image/webp:https://yastaclub.es/wp-content/uploads/2024/10/michael_jackson_queen_leyendas.webp
END:VEVENT
BEGIN:VEVENT
DTSTART;TZID=Europe/Madrid:20250117T210000
DTEND;TZID=Europe/Madrid:20250117T230000
DTSTAMP:20260422T053432
CREATED:20250105T182619Z
LAST-MODIFIED:20250905T095018Z
UID:10000938-1737147600-1737154800@yastaclub.es
SUMMARY:Historia del rock español
DESCRIPTION:
URL:https://yastaclub.es/event/historia-del-rock-espanol/2025-01-17/
LOCATION:Ya’sta Club\, Calle Valverde\, 10\, Madrid\, 28004\, España
ATTACH;FMTTYPE=image/webp:https://yastaclub.es/wp-content/uploads/2025/01/webp.webp
END:VEVENT
BEGIN:VEVENT
DTSTART;TZID=Europe/Madrid:20250117T235900
DTEND;TZID=Europe/Madrid:20250118T060000
DTSTAMP:20260422T053432
CREATED:20241226T125117Z
LAST-MODIFIED:20250107T225542Z
UID:10000918-1737158340-1737180000@yastaclub.es
SUMMARY:ROAR Party - Edición Girl Power
DESCRIPTION:
URL:https://yastaclub.es/event/roar-party-edicion-girl-power/
LOCATION:Ya’sta Club\, Calle Valverde\, 10\, Madrid\, 28004\, España
CATEGORIES:Drag Queen 👠,LGTB 🏳️‍🌈
ATTACH;FMTTYPE=image/jpeg:https://yastaclub.es/wp-content/uploads/2025/01/WhatsApp-Image-2025-01-07-at-17.35.04.jpeg
END:VEVENT
BEGIN:VEVENT
DTSTART;TZID=Europe/Madrid:20250118T190000
DTEND;TZID=Europe/Madrid:20250118T210000
DTSTAMP:20260422T053432
CREATED:20240305T212339Z
LAST-MODIFIED:20250416T210828Z
UID:10000931-1737226800-1737234000@yastaclub.es
SUMMARY:Tributo a Queen​
DESCRIPTION:
URL:https://yastaclub.es/event/tributo-a-queen-2/2025-01-18/
LOCATION:Ya’sta Club\, Calle Valverde\, 10\, Madrid\, 28004\, España
ATTACH;FMTTYPE=image/webp:https://yastaclub.es/wp-content/uploads/2025/01/tributo_a_queen.webp
END:VEVENT
BEGIN:VEVENT
DTSTART;TZID=Europe/Madrid:20250118T210000
DTEND;TZID=Europe/Madrid:20250118T230000
DTSTAMP:20260422T053432
CREATED:20241031T145622Z
LAST-MODIFIED:20251105T172020Z
UID:10000860-1737234000-1737241200@yastaclub.es
SUMMARY:El Gran Bingo Drag
DESCRIPTION:¿Estás preparadx para disfrutar del mejor Bingo de Madrid? \nImagínate a más de 500 personas jugando por llevarse una multitud de premios. Un bingo lleno de fiesta\, comedia\, juegos y por supuesto\, muchos pero muchísimos regalos… \nTe esperamos en la sala Yasta Club con las mejores Drags\, la mejor música y sobre todo mucha pero que mucha diversión. \nLa mejor party del fin de semana. ¡Trae a todxs tus amigxs y compite en este bingo tan loco! \nPresentado por: \n\nSugar Nelly\nChirstina Vergara
URL:https://yastaclub.es/event/el-gran-bingo-drag-3/2025-01-18/
LOCATION:Ya’sta Club\, Calle Valverde\, 10\, Madrid\, 28004\, España
CATEGORIES:Drag Queen 👠,LGTB 🏳️‍🌈
ATTACH;FMTTYPE=image/webp:https://yastaclub.es/wp-content/uploads/2024/10/webp-2.webp
END:VEVENT
BEGIN:VEVENT
DTSTART;TZID=Europe/Madrid:20250118T235900
DTEND;TZID=Europe/Madrid:20250119T060000
DTSTAMP:20260422T053432
CREATED:20240403T191957Z
LAST-MODIFIED:20241226T105441Z
UID:10000715-1737244740-1737266400@yastaclub.es
SUMMARY:BearbiePOP
DESCRIPTION:La sesión POP de Bears por excelencia de Madrid llega a Ya’sta Club. \nTodos los sábados en Calle Valverde\, 10.
URL:https://yastaclub.es/event/bearbiepop-18/2025-01-18/
LOCATION:Ya’sta Club\, Calle Valverde\, 10\, Madrid\, 28004\, España
CATEGORIES:Bear 🐻,LGTB 🏳️‍🌈
ATTACH;FMTTYPE=image/jpeg:https://yastaclub.es/wp-content/uploads/2023/06/bearbie-logo-2022.jpg
END:VEVENT
BEGIN:VEVENT
DTSTART;TZID=Europe/Madrid:20250119T180000
DTEND;TZID=Europe/Madrid:20250119T220000
DTSTAMP:20260422T053432
CREATED:20250104T181804Z
LAST-MODIFIED:20250104T181804Z
UID:10000926-1737309600-1737324000@yastaclub.es
SUMMARY:Swing Madrid Night
DESCRIPTION:Nueva Sesión del Yasta para el 2025. Tardeo Swing. Total Swing Un Domingo al Mes. Próximo Domingo 19 de ENERO. \nDoble Sesión\nDe 18.00 a 19.30h. West Coast Swing\nDe 19.30 a 22.00h. Swing\, Rock & Roll y Blues. \nCon la mejor Música de Swing\, Rock & Roll y Blues Dj Swing Madrid. \nENTRADA. Bailes Social + Consumición. Venta Anticipada. \n7€ / 1 Consumición (Agua\, Refresco o Cerveza.)\n10€ / 1 Copa o 2 Consumiciones (Agua\, Refresco o Cerveza.)\nVenta anticipada por Entradium\nhttps://entradium.com/events/swing-madrid-night\n*En Puerta\n12€/ 1 Copa o 2 Consumiciones (Agua\, Refresco o Cerveza.) \nEn Sala Cervezas y Refrescos 3€ y Copas 6€ \n¿Dónde Estamos?\nCalle Valverde 10. Madrid 28004\nMetro. Gran Vía. \nAquí Podrás ver todos Nuestros eventos.\nhttps://blancoynegrostudio.com/calendario-eventos \nBlanco y Negro Studio\nwww.blancoynegrostudio.com\ninfo@blancoynegrostudio.com\nTlf / whatsapp: 687 555 383
URL:https://yastaclub.es/event/swing-madrid-night-6/
LOCATION:Ya’sta Club\, Calle Valverde\, 10\, Madrid\, 28004\, España
CATEGORIES:Swing
ATTACH;FMTTYPE=image/jpeg:https://yastaclub.es/wp-content/uploads/2025/01/WhatsApp-Image-2025-01-04-at-16.32.53.jpeg
END:VEVENT
END:VCALENDAR