BEGIN:VCALENDAR
VERSION:2.0
PRODID:-//Ya&#039;sta Club - ECPv6.15.20//NONSGML v1.0//EN
CALSCALE:GREGORIAN
METHOD:PUBLISH
X-WR-CALNAME:Ya&#039;sta Club
X-ORIGINAL-URL:https://yastaclub.es
X-WR-CALDESC:Eventos para Ya&#039;sta Club
REFRESH-INTERVAL;VALUE=DURATION:PT1H
X-Robots-Tag:noindex
X-PUBLISHED-TTL:PT1H
BEGIN:VTIMEZONE
TZID:Europe/Madrid
BEGIN:DAYLIGHT
TZOFFSETFROM:+0100
TZOFFSETTO:+0200
TZNAME:CEST
DTSTART:20230326T010000
END:DAYLIGHT
BEGIN:STANDARD
TZOFFSETFROM:+0200
TZOFFSETTO:+0100
TZNAME:CET
DTSTART:20231029T010000
END:STANDARD
BEGIN:DAYLIGHT
TZOFFSETFROM:+0100
TZOFFSETTO:+0200
TZNAME:CEST
DTSTART:20240331T010000
END:DAYLIGHT
BEGIN:STANDARD
TZOFFSETFROM:+0200
TZOFFSETTO:+0100
TZNAME:CET
DTSTART:20241027T010000
END:STANDARD
BEGIN:DAYLIGHT
TZOFFSETFROM:+0100
TZOFFSETTO:+0200
TZNAME:CEST
DTSTART:20250330T010000
END:DAYLIGHT
BEGIN:STANDARD
TZOFFSETFROM:+0200
TZOFFSETTO:+0100
TZNAME:CET
DTSTART:20251026T010000
END:STANDARD
BEGIN:DAYLIGHT
TZOFFSETFROM:+0100
TZOFFSETTO:+0200
TZNAME:CEST
DTSTART:20260329T010000
END:DAYLIGHT
BEGIN:STANDARD
TZOFFSETFROM:+0200
TZOFFSETTO:+0100
TZNAME:CET
DTSTART:20261025T010000
END:STANDARD
END:VTIMEZONE
BEGIN:VEVENT
DTSTART;TZID=Europe/Madrid:20241230T200000
DTEND;TZID=Europe/Madrid:20241231T050000
DTSTAMP:20260421T203308
CREATED:20241215T144938Z
LAST-MODIFIED:20241215T144938Z
UID:10000915-1735588800-1735621200@yastaclub.es
SUMMARY:Swing: Sesión pre-nochevieja 2024
DESCRIPTION:Pues si llega el mes este mes de Diciembre por todo lo alto y nuestro *Naviswing 2024* \ny lo que para nosotros es una del las mejores fiestas. La ya tradicional Pre-Noche Vieja del Yasta. \nEste año será de verdad el Lunes 30 de Diciembre de 2024. No te la puedes perder. \n*A si de bien lo pasamos el año Pasado. * \nhttps://www.facebook.com/media/set/?set=a.2480953615413022&type=3 \nComenzaremos a las 20.00h para el tardeo con gran Photocall y terminamos a la 05.00h para el Nocheo. \nCon la Gran actuación y Maestro de Ceremonias Mahnuel Múñoz. \nComo siempre con la mejor música de Dj Swing Madrid y su Coctel Navideño de Swing\, Rock & Roll\, Balboa\, Blues… \nA las 00.00 lo que ya es una tradición nuestras 12 campanadas acompañadas de color\, dulzura y buen rollo para el nuevo año que comienza. Con nuestros «12 Lacasitos» + Nuestro «Pie de la Suerte». Para comenzar con buen pie el 2025 y nos salga a todos bien el Swing Out. \nJaleo\, abrazos\, besos y subidón Musical de Dj Swing Madrid. \nDespués Swingplemente la mejor música Swing\, Rock & Roll y otras músicas del montón para no dejar de bailar hasta las 05.00h \n_*Sala Yasta*_ \nCalle Valverde 10 \nMetro. Gran Vía. \n*Venta Anticipada. Por Entradium.* \n20€. Con 1 Copa / 2 Cervezas o Refrescos. \nEn puerta día del evento 25€ (Sujeto al aforo de La Sala) \n*Ademas tómatela con nosotros. Buena música y el mejor ambiente. Cervezas y Refrescos 4€ y Copas 7€ / Premium +1€. \nTodos nuestros Horarios del curso Regular 2025. \nhttp://blancoynegrostudio.com/horarios-y-precios \n*Blanco y Negro Studio* \nwww.blancoynegrostudio.com \ninfo@blancoynegrostudio.com \nTlf / whatsapp: 687 555 383
URL:https://yastaclub.es/event/swing-sesion-pre-nochevieja-2024/
LOCATION:Ya’sta Club\, Calle Valverde\, 10\, Madrid\, 28004\, España
CATEGORIES:Swing
ATTACH;FMTTYPE=image/jpeg:https://yastaclub.es/wp-content/uploads/2024/12/event_photos_gallery_l_IMG-20241208-WA0010.jpg
END:VEVENT
BEGIN:VEVENT
DTSTART;TZID=Europe/Madrid:20241231T235900
DTEND;TZID=Europe/Madrid:20250101T070000
DTSTAMP:20260421T203308
CREATED:20241205T221444Z
LAST-MODIFIED:20241224T234525Z
UID:10000906-1735689540-1735714800@yastaclub.es
SUMMARY:BearbiePOP - Especial Nochevieja
DESCRIPTION:Entradas anticipadas aquí
URL:https://yastaclub.es/event/bearbiepop-especial-nochevieja-2025/
LOCATION:Ya’sta Club\, Calle Valverde\, 10\, Madrid\, 28004\, España
CATEGORIES:Bear 🐻,LGTB 🏳️‍🌈
ATTACH;FMTTYPE=image/jpeg:https://yastaclub.es/wp-content/uploads/2024/12/WhatsApp-Image-2024-12-12-at-20.37.10.jpeg
END:VEVENT
BEGIN:VEVENT
DTSTART;TZID=Europe/Madrid:20250103T210000
DTEND;TZID=Europe/Madrid:20250103T230000
DTSTAMP:20260421T203308
CREATED:20240831T182028Z
LAST-MODIFIED:20250105T182058Z
UID:10000927-1735938000-1735945200@yastaclub.es
SUMMARY:Grease\, El Tributo
DESCRIPTION:¿Y si revives esas románticas Summer Nights? \nAbren la sala Ya’sta Club para trasladarnos al verano en el que Sandy y Danny han pasado un maravilloso verano juntos. Ven y disfruta de Grease\, el tributo con cantantes en directo que te harán vivir una noche de película. \nInformación sobre precios y acceso\nEl espectáculo es en una discoteca. No hay asientos. Todo pista de baile. Según normativa de sala solo podrán acceder personas mayores de 16 años siempre presentando DNI\, en caso de no llevar DNI podrá ser rechazada su entrada. Menores de 16 años podrán acceder acompañados de padre\, madre o tutor legal y aportando DNI de ambos que acredite la situación o documento legal.
URL:https://yastaclub.es/event/grease-el-tributo/2025-01-03/
LOCATION:Ya’sta Club\, Calle Valverde\, 10\, Madrid\, 28004\, España
ATTACH;FMTTYPE=image/webp:https://yastaclub.es/wp-content/uploads/2024/10/grease.webp
END:VEVENT
BEGIN:VEVENT
DTSTART;TZID=Europe/Madrid:20250104T210000
DTEND;TZID=Europe/Madrid:20250104T230000
DTSTAMP:20260421T203308
CREATED:20241031T145622Z
LAST-MODIFIED:20251105T172020Z
UID:10000858-1736024400-1736031600@yastaclub.es
SUMMARY:El Gran Bingo Drag
DESCRIPTION:¿Estás preparadx para disfrutar del mejor Bingo de Madrid? \nImagínate a más de 500 personas jugando por llevarse una multitud de premios. Un bingo lleno de fiesta\, comedia\, juegos y por supuesto\, muchos pero muchísimos regalos… \nTe esperamos en la sala Yasta Club con las mejores Drags\, la mejor música y sobre todo mucha pero que mucha diversión. \nLa mejor party del fin de semana. ¡Trae a todxs tus amigxs y compite en este bingo tan loco! \nPresentado por: \n\nSugar Nelly\nChirstina Vergara
URL:https://yastaclub.es/event/el-gran-bingo-drag-3/2025-01-04/
LOCATION:Ya’sta Club\, Calle Valverde\, 10\, Madrid\, 28004\, España
CATEGORIES:Drag Queen 👠,LGTB 🏳️‍🌈
ATTACH;FMTTYPE=image/webp:https://yastaclub.es/wp-content/uploads/2024/10/webp-2.webp
END:VEVENT
BEGIN:VEVENT
DTSTART;TZID=Europe/Madrid:20250104T235900
DTEND;TZID=Europe/Madrid:20250105T060000
DTSTAMP:20260421T203308
CREATED:20240403T191957Z
LAST-MODIFIED:20241226T105441Z
UID:10000713-1736035140-1736056800@yastaclub.es
SUMMARY:BearbiePOP
DESCRIPTION:La sesión POP de Bears por excelencia de Madrid llega a Ya’sta Club. \nTodos los sábados en Calle Valverde\, 10.
URL:https://yastaclub.es/event/bearbiepop-18/2025-01-04/
LOCATION:Ya’sta Club\, Calle Valverde\, 10\, Madrid\, 28004\, España
CATEGORIES:Bear 🐻,LGTB 🏳️‍🌈
ATTACH;FMTTYPE=image/jpeg:https://yastaclub.es/wp-content/uploads/2023/06/bearbie-logo-2022.jpg
END:VEVENT
BEGIN:VEVENT
DTSTART;TZID=Europe/Madrid:20250105T235500
DTEND;TZID=Europe/Madrid:20250106T060000
DTSTAMP:20260421T203308
CREATED:20241224T234712Z
LAST-MODIFIED:20241224T234712Z
UID:10000916-1736121300-1736143200@yastaclub.es
SUMMARY:BearbiePOP - Noche de reyes
DESCRIPTION:Entradas anticipadas aquí
URL:https://yastaclub.es/event/bearbiepop-noche-de-reyes/
LOCATION:Ya’sta Club\, Calle Valverde\, 10\, Madrid\, 28004\, España
CATEGORIES:Bear 🐻,LGTB 🏳️‍🌈
ATTACH;FMTTYPE=image/jpeg:https://yastaclub.es/wp-content/uploads/2024/12/reyes-AQEDMRar61IvrrEA.jpg
END:VEVENT
END:VCALENDAR