BEGIN:VCALENDAR
VERSION:2.0
PRODID:-//Ya&#039;sta Club - ECPv6.15.20//NONSGML v1.0//EN
CALSCALE:GREGORIAN
METHOD:PUBLISH
X-ORIGINAL-URL:https://yastaclub.es
X-WR-CALDESC:Eventos para Ya&#039;sta Club
REFRESH-INTERVAL;VALUE=DURATION:PT1H
X-Robots-Tag:noindex
X-PUBLISHED-TTL:PT1H
BEGIN:VTIMEZONE
TZID:Europe/Madrid
BEGIN:DAYLIGHT
TZOFFSETFROM:+0100
TZOFFSETTO:+0200
TZNAME:CEST
DTSTART:20230326T010000
END:DAYLIGHT
BEGIN:STANDARD
TZOFFSETFROM:+0200
TZOFFSETTO:+0100
TZNAME:CET
DTSTART:20231029T010000
END:STANDARD
BEGIN:DAYLIGHT
TZOFFSETFROM:+0100
TZOFFSETTO:+0200
TZNAME:CEST
DTSTART:20240331T010000
END:DAYLIGHT
BEGIN:STANDARD
TZOFFSETFROM:+0200
TZOFFSETTO:+0100
TZNAME:CET
DTSTART:20241027T010000
END:STANDARD
BEGIN:DAYLIGHT
TZOFFSETFROM:+0100
TZOFFSETTO:+0200
TZNAME:CEST
DTSTART:20250330T010000
END:DAYLIGHT
BEGIN:STANDARD
TZOFFSETFROM:+0200
TZOFFSETTO:+0100
TZNAME:CET
DTSTART:20251026T010000
END:STANDARD
END:VTIMEZONE
BEGIN:VEVENT
DTSTART;TZID=Europe/Madrid:20241108T235900
DTEND;TZID=Europe/Madrid:20241109T060000
DTSTAMP:20260421T025227
CREATED:20241026T104021Z
LAST-MODIFIED:20241026T104021Z
UID:10000847-1731110340-1731132000@yastaclub.es
SUMMARY:Titanes on Tour - Divas 2000
DESCRIPTION:💫 Titanes on tour: Divas del 2000 💫 \n¡Es hora de revivir la época dorada de las grandes divas que marcaron los 2000! Desde Mónica Naranjo\, Chenoa o Malú\, hasta Britney\, Beyoncé o Christina Agulera ¡esta es tu oportunidad de brillar como las estrellas que dominaron la música y el estilo de la década! \n🎶 Unai Goiko y Robin Tooth con los mejores éxitos de la época. \n👠 Donna Mercadonna\, Titanax\, Liriana y Lulalá amenazando la noche con los mejores shows y un Bingo musical
URL:https://yastaclub.es/event/titanes-on-tour-divas-2000/
LOCATION:Ya’sta Club\, Calle Valverde\, 10\, Madrid\, 28004\, España
CATEGORIES:Drag Queen 👠,LGTB 🏳️‍🌈
ATTACH;FMTTYPE=image/jpeg:https://yastaclub.es/wp-content/uploads/2024/10/WhatsApp-Image-2024-10-25-at-16.51.55.jpeg
END:VEVENT
BEGIN:VEVENT
DTSTART;TZID=Europe/Madrid:20241109T190000
DTEND;TZID=Europe/Madrid:20241109T210000
DTSTAMP:20260421T025227
CREATED:20241016T094258Z
LAST-MODIFIED:20241016T094258Z
UID:10000843-1731178800-1731186000@yastaclub.es
SUMMARY:Tributo a la Historia del Rock Español​
DESCRIPTION:
URL:https://yastaclub.es/event/tributo-a-la-historia-del-rock-espanol/
LOCATION:Ya’sta Club\, Calle Valverde\, 10\, Madrid\, 28004\, España
ATTACH;FMTTYPE=image/webp:https://yastaclub.es/wp-content/uploads/2024/10/tributo_rocl.webp
END:VEVENT
BEGIN:VEVENT
DTSTART;TZID=Europe/Madrid:20241109T210000
DTEND;TZID=Europe/Madrid:20241109T230000
DTSTAMP:20260421T025227
CREATED:20241031T145622Z
LAST-MODIFIED:20251105T172020Z
UID:10000850-1731186000-1731193200@yastaclub.es
SUMMARY:El Gran Bingo Drag
DESCRIPTION:¿Estás preparadx para disfrutar del mejor Bingo de Madrid? \nImagínate a más de 500 personas jugando por llevarse una multitud de premios. Un bingo lleno de fiesta\, comedia\, juegos y por supuesto\, muchos pero muchísimos regalos… \nTe esperamos en la sala Yasta Club con las mejores Drags\, la mejor música y sobre todo mucha pero que mucha diversión. \nLa mejor party del fin de semana. ¡Trae a todxs tus amigxs y compite en este bingo tan loco! \nPresentado por: \n\nSugar Nelly\nChirstina Vergara
URL:https://yastaclub.es/event/el-gran-bingo-drag-3/2024-11-09/
LOCATION:Ya’sta Club\, Calle Valverde\, 10\, Madrid\, 28004\, España
CATEGORIES:Drag Queen 👠,LGTB 🏳️‍🌈
ATTACH;FMTTYPE=image/webp:https://yastaclub.es/wp-content/uploads/2024/10/webp-2.webp
END:VEVENT
BEGIN:VEVENT
DTSTART;TZID=Europe/Madrid:20241109T235900
DTEND;TZID=Europe/Madrid:20241110T060000
DTSTAMP:20260421T025227
CREATED:20241028T144222Z
LAST-MODIFIED:20241105T145249Z
UID:10000705-1731196740-1731218400@yastaclub.es
SUMMARY:BearbiePOP
DESCRIPTION:La sesión POP de Bears por excelencia de Madrid llega a Ya’sta Club. \nTodos los sábados en Calle Valverde\, 10.
URL:https://yastaclub.es/event/bearbiepop-18-13/
LOCATION:Ya’sta Club\, Calle Valverde\, 10\, Madrid\, 28004\, España
CATEGORIES:Bear 🐻,LGTB 🏳️‍🌈
ATTACH;FMTTYPE=image/jpeg:https://yastaclub.es/wp-content/uploads/2024/10/WhatsApp-Image-2024-11-05-at-11.45.01.jpeg
END:VEVENT
END:VCALENDAR