BEGIN:VCALENDAR
VERSION:2.0
PRODID:-//Ya&#039;sta Club - ECPv6.15.20//NONSGML v1.0//EN
CALSCALE:GREGORIAN
METHOD:PUBLISH
X-WR-CALNAME:Ya&#039;sta Club
X-ORIGINAL-URL:https://yastaclub.es
X-WR-CALDESC:Eventos para Ya&#039;sta Club
REFRESH-INTERVAL;VALUE=DURATION:PT1H
X-Robots-Tag:noindex
X-PUBLISHED-TTL:PT1H
BEGIN:VTIMEZONE
TZID:Europe/Madrid
BEGIN:DAYLIGHT
TZOFFSETFROM:+0100
TZOFFSETTO:+0200
TZNAME:CEST
DTSTART:20230326T010000
END:DAYLIGHT
BEGIN:STANDARD
TZOFFSETFROM:+0200
TZOFFSETTO:+0100
TZNAME:CET
DTSTART:20231029T010000
END:STANDARD
BEGIN:DAYLIGHT
TZOFFSETFROM:+0100
TZOFFSETTO:+0200
TZNAME:CEST
DTSTART:20240331T010000
END:DAYLIGHT
BEGIN:STANDARD
TZOFFSETFROM:+0200
TZOFFSETTO:+0100
TZNAME:CET
DTSTART:20241027T010000
END:STANDARD
BEGIN:DAYLIGHT
TZOFFSETFROM:+0100
TZOFFSETTO:+0200
TZNAME:CEST
DTSTART:20250330T010000
END:DAYLIGHT
BEGIN:STANDARD
TZOFFSETFROM:+0200
TZOFFSETTO:+0100
TZNAME:CET
DTSTART:20251026T010000
END:STANDARD
END:VTIMEZONE
BEGIN:VEVENT
DTSTART;TZID=Europe/Madrid:20241017T210000
DTEND;TZID=Europe/Madrid:20241018T010000
DTSTAMP:20260420T154926
CREATED:20240911T130242Z
LAST-MODIFIED:20240914T075523Z
UID:10000821-1729198800-1729213200@yastaclub.es
SUMMARY:Swing Madrid Night
DESCRIPTION:Vovemos Los Terceros Jueves de Mes. \nClase Gratuita con la entrada + BAILE SOCIAL \nClase de Baile Gratuita\n21.00 a 22.00h \nSocial / Party\n22.00 a 01.00h \nCon la mejor Música de Swing\, Rock & Roll y Blues Dj Swing Madrid. \nENTRADA. Bailes Social + Consumición. Venta Anticipada. \n7€ / 1 Consumición (Agua\, Refresco o Cerveza.)\n10€ / 1 Copa o 2 Consumiciones (Agua\, Refresco o Cerveza.)\nVenta anticipada por Entradium \n*En Puerta\n12€/ 1 Copa o 2 Consumiciones (Agua\, Refresco o Cerveza.) \nEn Sala Cervezas y Refrescos 3€ y Copas 6€ \n¿Dónde Estamos?\nCalle Valverde 10. Madrid 28004\nMetro. Gran Vía. \nAquí Podrás ver todos Nuestros eventos.\nhttps://blancoynegrostudio.com/calendario-eventos \nBlanco y Negro Studio\nwww.blancoynegrostudio.com\ninfo@blancoynegrostudio.com\nTlf / whatsapp: 687 555 383
URL:https://yastaclub.es/event/swing-madrid-night-5/2024-10-17/
LOCATION:Ya’sta Club\, Calle Valverde\, 10\, Madrid\, 28004\, España
CATEGORIES:Swing
ATTACH;FMTTYPE=image/jpeg:https://yastaclub.es/wp-content/uploads/2024/09/WhatsApp-Image-2024-09-11-at-06.56.45.jpeg
END:VEVENT
BEGIN:VEVENT
DTSTART;TZID=Europe/Madrid:20241018T190000
DTEND;TZID=Europe/Madrid:20241018T210000
DTSTAMP:20260420T154926
CREATED:20241016T093651Z
LAST-MODIFIED:20250416T210852Z
UID:10000833-1729278000-1729285200@yastaclub.es
SUMMARY:Fangoria: tributo a Alaska
DESCRIPTION:Alaska y los Pegamoides\, Alaska y Dinarama\, Fangoria o simplemente ALASKA\, da igual su nombre porque su esencia es única. \nLA OPCIÓN PRODUCCIONES te trae un TRIBUTO musical homenajeando a una ESTRELLA internacional. Viaja a través del tiempo por todas las décadas clave del éxito de esta gran artista. Alaska nos ha dado mucho\, así que ha llegado la hora de que sea homenajeada como se merece y le devolvamos\, al menos\, un poquito. \n¡A quién le importa\, Dramas y comedias\, Ni tú ni nadie\, y muchos temas más que harán de este espectáculo una experiencia única! \nInformación sobre precios y acceso\nEl espectáculo es en una discoteca. No hay asientos. Todo en pista de baile. Según normativa de sala solo podrán acceder personas mayores de 16 años siempre presentando DNI\, en caso de no llevar DNI podrá ser rechazada su entrada. Menores de 16 años podrán acceder acompañados de padre\, madre o tutor legal y aportando DNI de ambos que acredite la situación o documento legal. *
URL:https://yastaclub.es/event/fangoria-tributo-a-alaska-5/2024-10-18/
LOCATION:Ya’sta Club\, Calle Valverde\, 10\, Madrid\, 28004\, España
ATTACH;FMTTYPE=image/webp:https://yastaclub.es/wp-content/uploads/2024/10/fangoria_tributo.webp
END:VEVENT
BEGIN:VEVENT
DTSTART;TZID=Europe/Madrid:20241018T210000
DTEND;TZID=Europe/Madrid:20241018T230000
DTSTAMP:20260420T154926
CREATED:20241016T093404Z
LAST-MODIFIED:20250905T094951Z
UID:10000831-1729285200-1729292400@yastaclub.es
SUMMARY:Mamma Mia\, tributo a ABBA
DESCRIPTION:La Opción Producciones te presenta Mamma Mía: Tributo a Abba en el Ya’sta Club. \nSumérgete a través de este homenaje en este viaje a través del tiempo recorriendo los grandes éxitos musicales de este grupo musical que ha dejado una huella perpetua en la historia de la música. \nVive\, baila y canta todos los éxitos icónicos de Abba en versión original\, disfrutando de una historia a ritmo de «Dancing Queen«\, «Mamma Mia» o «Take a Chance on Me«. \n¿Tienes alguna canción favorita? Ven a cantarla y bailarla en este tributo especial. \nInformación sobre precios y acceso\nEl espectáculo es en una discoteca. No hay asientos. Todo pista de baile. Según normativa de sala solo podrán acceder personas de 16 y 17 años acompañadas de padre madre tutor. Se PROHÍBE la entrada a los niños menores de 16 años si no van acompañados de padre/madre/tutor.
URL:https://yastaclub.es/event/mamma-mia-tributo-a-abba/2024-10-18/
LOCATION:Ya’sta Club\, Calle Valverde\, 10\, Madrid\, 28004\, España
ATTACH;FMTTYPE=image/webp:https://yastaclub.es/wp-content/uploads/2024/10/mamma_mia_tributo.webp
END:VEVENT
BEGIN:VEVENT
DTSTART;TZID=Europe/Madrid:20241018T235900
DTEND;TZID=Europe/Madrid:20241019T060000
DTSTAMP:20260420T154926
CREATED:20240922T075753Z
LAST-MODIFIED:20241007T144610Z
UID:10000825-1729295940-1729317600@yastaclub.es
SUMMARY:ROAR Party - Edición Drags del más allá
DESCRIPTION:Este octubre es hora de ponernos un poquito Spooky\, ¿sí o no? \nEl próximo 18 de OCTUBRE cruzamos la puerta roja para volver a la @yastaclublgtb con 5 tías chulísimas que nos darán shows terroríficos con servida de C*: \n🏳️‍⚧️ @laninyadelantro (Drag Race ES 4)\n🐺 @lobamordiscos (regias del drag 2)\n🦞 @lasorny\n⚰️ @aurahsin\n🪦 @3itsjade (@galareinadrag T3) \n🎧 DJs con bien de POP • REGGAETON • HITS 🎧 \n💋 @roxelldj\n🫶 @jaime_rsc\n💋 @somoselnido \n🎟 Anticipadas en roarparty.es. En taquilla 2 copas por 18€ hasta la 01.30\, después 1 por 15€\n📍 @yastaclublgtb \nLa previa\, en nuestros bares de confianza\, ¡consigue tu pulsera en ellos! \n🥂 @barbanarama\n🥂 @liadamadrid\n🥂 @reinapop_\n🥂 @starchueca\n🥂 @el12club \nColabora:\n🥃 @peligrocatrina\, con unos chupitos riquísimos\, os invitamos a probarlos 😜
URL:https://yastaclub.es/event/roar-party-edicion-drags-del-mas-alla/
LOCATION:Ya’sta Club\, Calle Valverde\, 10\, Madrid\, 28004\, España
CATEGORIES:Drag Queen 👠,LGTB 🏳️‍🌈
ATTACH;FMTTYPE=image/jpeg:https://yastaclub.es/wp-content/uploads/2024/10/WhatsApp-Image-2024-10-03-at-09.50.14.jpeg
END:VEVENT
BEGIN:VEVENT
DTSTART;TZID=Europe/Madrid:20241019T190000
DTEND;TZID=Europe/Madrid:20241019T210000
DTSTAMP:20260420T154926
CREATED:20241016T093806Z
LAST-MODIFIED:20250213T095827Z
UID:10000835-1729364400-1729371600@yastaclub.es
SUMMARY:Michael Jackson & Queen: leyendas
DESCRIPTION:TRIBUTO A LAS LEYENDAS\n\n\nMichael Jackson & Freddie Mercury serán homenajeados en la sala Yasta a través de las grandes voces de Irene Mara y Alex Adán en un concierto único. \nViajaremos en el tiempo para repasar los grandes éxitos del Rey del Pop y Queen\, en un tributo con voces en directo. \nPodrás disfrutar de algunos de los temas más legendarios como «Billie Jean«\, «Jailhouse Rock«\, «Bohemian Rhapsody«\, «Thriller«\, «Suspicious Minds» o «We Will Rock You«. \n¿Estás preparado para disfrutar del tributo a las leyendas? \nNO TE LO PUEDES PERDER.
URL:https://yastaclub.es/event/michael-jackson-queen-leyendas/2024-10-19/
LOCATION:Ya’sta Club\, Calle Valverde\, 10\, Madrid\, 28004\, España
ATTACH;FMTTYPE=image/webp:https://yastaclub.es/wp-content/uploads/2024/10/michael_jackson_queen_leyendas.webp
END:VEVENT
BEGIN:VEVENT
DTSTART;TZID=Europe/Madrid:20241019T235900
DTEND;TZID=Europe/Madrid:20241020T060000
DTSTAMP:20260420T154926
CREATED:20241016T090919Z
LAST-MODIFIED:20241016T090920Z
UID:10000702-1729382340-1729404000@yastaclub.es
SUMMARY:BearbiePOP
DESCRIPTION:La sesión POP de Bears por excelencia de Madrid llega a Ya’sta Club. \nTodos los sábados en Calle Valverde\, 10.
URL:https://yastaclub.es/event/bearbiepop-18-12/
LOCATION:Ya’sta Club\, Calle Valverde\, 10\, Madrid\, 28004\, España
CATEGORIES:Bear 🐻,LGTB 🏳️‍🌈
ATTACH;FMTTYPE=image/jpeg:https://yastaclub.es/wp-content/uploads/2024/04/WhatsApp-Image-2024-10-15-at-21.38.21.jpeg
END:VEVENT
END:VCALENDAR