BEGIN:VCALENDAR
VERSION:2.0
PRODID:-//Ya&#039;sta Club - ECPv6.15.20//NONSGML v1.0//EN
CALSCALE:GREGORIAN
METHOD:PUBLISH
X-WR-CALNAME:Ya&#039;sta Club
X-ORIGINAL-URL:https://yastaclub.es
X-WR-CALDESC:Eventos para Ya&#039;sta Club
REFRESH-INTERVAL;VALUE=DURATION:PT1H
X-Robots-Tag:noindex
X-PUBLISHED-TTL:PT1H
BEGIN:VTIMEZONE
TZID:Europe/Madrid
BEGIN:DAYLIGHT
TZOFFSETFROM:+0100
TZOFFSETTO:+0200
TZNAME:CEST
DTSTART:20230326T010000
END:DAYLIGHT
BEGIN:STANDARD
TZOFFSETFROM:+0200
TZOFFSETTO:+0100
TZNAME:CET
DTSTART:20231029T010000
END:STANDARD
BEGIN:DAYLIGHT
TZOFFSETFROM:+0100
TZOFFSETTO:+0200
TZNAME:CEST
DTSTART:20240331T010000
END:DAYLIGHT
BEGIN:STANDARD
TZOFFSETFROM:+0200
TZOFFSETTO:+0100
TZNAME:CET
DTSTART:20241027T010000
END:STANDARD
BEGIN:DAYLIGHT
TZOFFSETFROM:+0100
TZOFFSETTO:+0200
TZNAME:CEST
DTSTART:20250330T010000
END:DAYLIGHT
BEGIN:STANDARD
TZOFFSETFROM:+0200
TZOFFSETTO:+0100
TZNAME:CET
DTSTART:20251026T010000
END:STANDARD
END:VTIMEZONE
BEGIN:VEVENT
DTSTART;TZID=Europe/Madrid:20241004T235900
DTEND;TZID=Europe/Madrid:20241005T060000
DTSTAMP:20260420T095815
CREATED:20240922T160253Z
LAST-MODIFIED:20240922T160253Z
UID:10000826-1728086340-1728108000@yastaclub.es
SUMMARY:PetardaTú - Con Megui Yeillow
DESCRIPTION:¡Petarda Tú presenta!* \n📅 *Viernes 04 de octubre*\n⏰ De 00:00h a 06:00h\n📍 *Sala Yasta Club* – Calle Valverde 10\, Madrid \n✨ *Con MEGUI YEILLOW\, Chonifer López\, y Tiffany Lumberjack* ✨ \n🎧 *DJs*:\n– Gordimad\n– Robin Tooth \n¡Y muchas sorpresas más! 🎉 \n🎟️ *Entradas anticipadas* con descuento disponibles en yastaclub.es/entradas
URL:https://yastaclub.es/event/petardatu-con-megui-yeillow/
LOCATION:Ya’sta Club\, Calle Valverde\, 10\, Madrid\, 28004\, España
CATEGORIES:Drag Queen 👠,LGTB 🏳️‍🌈
ATTACH;FMTTYPE=image/jpeg:https://yastaclub.es/wp-content/uploads/2024/09/WhatsApp-Image-2024-09-22-at-12.09.27.jpeg
END:VEVENT
BEGIN:VEVENT
DTSTART;TZID=Europe/Madrid:20241005T235900
DTEND;TZID=Europe/Madrid:20241006T060000
DTSTAMP:20260420T095815
CREATED:20241003T141809Z
LAST-MODIFIED:20241003T141810Z
UID:10000700-1728172740-1728194400@yastaclub.es
SUMMARY:BearbiePOP
DESCRIPTION:La sesión POP de Bears por excelencia de Madrid llega a Ya’sta Club. \nTodos los sábados en Calle Valverde\, 10.
URL:https://yastaclub.es/event/bearbiepop-18-10/
LOCATION:Ya’sta Club\, Calle Valverde\, 10\, Madrid\, 28004\, España
CATEGORIES:Bear 🐻,LGTB 🏳️‍🌈
ATTACH;FMTTYPE=image/jpeg:https://yastaclub.es/wp-content/uploads/2024/04/WhatsApp-Image-2024-10-02-at-18.38.37.jpeg
END:VEVENT
BEGIN:VEVENT
DTSTART;TZID=Europe/Madrid:20241006T193000
DTEND;TZID=Europe/Madrid:20241006T230000
DTSTAMP:20260420T095815
CREATED:20240831T184848Z
LAST-MODIFIED:20240925T134150Z
UID:10000819-1728243000-1728255600@yastaclub.es
SUMMARY:Gala Reina Drag - All Stars - Viewing Party Drag Race España T4
DESCRIPTION:Llega la edición de Gala Reina Drag que estábais esperando: ¡ALL STARS! \nLas reinas más icónicas de las temporadas 1\, 2 y 3 de GALA REINA DRAG vuelven a la pasarela de @yastaclublgtb para servir shows y lispync. \nSí\, SIGUE estando presentado por Chanel Anorex\, y además\, haremos una VIEWING PARTY para ver a las reinas de Drag Race España T4.
URL:https://yastaclub.es/event/gala-reina-drag-all-stars-viewing-party-drag-race-espana-t4/
LOCATION:Ya’sta Club\, Calle Valverde\, 10\, Madrid\, 28004\, España
CATEGORIES:Drag Queen 👠,LGTB 🏳️‍🌈
ATTACH;FMTTYPE=image/jpeg:https://yastaclub.es/wp-content/uploads/2024/08/WhatsApp-Image-2024-09-23-at-12.28.24.jpeg
END:VEVENT
END:VCALENDAR