BEGIN:VCALENDAR
VERSION:2.0
PRODID:-//Ya&#039;sta Club - ECPv6.15.20//NONSGML v1.0//EN
CALSCALE:GREGORIAN
METHOD:PUBLISH
X-WR-CALNAME:Ya&#039;sta Club
X-ORIGINAL-URL:https://yastaclub.es
X-WR-CALDESC:Eventos para Ya&#039;sta Club
REFRESH-INTERVAL;VALUE=DURATION:PT1H
X-Robots-Tag:noindex
X-PUBLISHED-TTL:PT1H
BEGIN:VTIMEZONE
TZID:Europe/Paris
BEGIN:DAYLIGHT
TZOFFSETFROM:+0100
TZOFFSETTO:+0200
TZNAME:CEST
DTSTART:20220327T010000
END:DAYLIGHT
BEGIN:STANDARD
TZOFFSETFROM:+0200
TZOFFSETTO:+0100
TZNAME:CET
DTSTART:20221030T010000
END:STANDARD
BEGIN:DAYLIGHT
TZOFFSETFROM:+0100
TZOFFSETTO:+0200
TZNAME:CEST
DTSTART:20230326T010000
END:DAYLIGHT
BEGIN:STANDARD
TZOFFSETFROM:+0200
TZOFFSETTO:+0100
TZNAME:CET
DTSTART:20231029T010000
END:STANDARD
BEGIN:DAYLIGHT
TZOFFSETFROM:+0100
TZOFFSETTO:+0200
TZNAME:CEST
DTSTART:20240331T010000
END:DAYLIGHT
BEGIN:STANDARD
TZOFFSETFROM:+0200
TZOFFSETTO:+0100
TZNAME:CET
DTSTART:20241027T010000
END:STANDARD
END:VTIMEZONE
BEGIN:VEVENT
DTSTART;VALUE=DATE:20230818
DTEND;VALUE=DATE:20230820
DTSTAMP:20260420T095815
CREATED:20230808T061131Z
LAST-MODIFIED:20230808T061131Z
UID:10000438-1692338400-1692424799@yastaclub.es
SUMMARY:SoulStep (Mad Bass)
DESCRIPTION:DNB HEADS\n¿Nos habéis echado de menos?\n¡¡Nosotros a vosotrxs muchísimo!! \nPor eso el próximo viernes 18 de agosto estaremos en la Sala Ya’sta a partir de las 23.59h \nEn esta ocasión hemos querido traeros a una dj que ha pegado muy fuerte en esta ultima temporada y a uno de los veteranos de la escena que sigue sentando cátedra cuando se pone a los mandos: ACID DREAMS & REIO \nACID DREAMS\nMiembro del colectivo 40hz ha demostrado que querer es poder.\nUna mujer que en pocos meses se ha abierto un hueco en las cabinas\, pistas de baile de la capital y en nuestros corazones. \nAcid Dreams nos ha enseñado en poco tiempo como ser tenaz y resiliente y hemos visto cómo ha crecido y ha aprendido hasta que ha conseguido (como ella expresaba hace unos meses en un texto) «convertir ser dj en un arte en sí mismo» \nDirecta desde El Pajar de Monegros\, esta noche no pondrá Neuro\, pero estamos seguros de que no nos va a dejar indiferentes. \n@acid_dreams.40hz \nREIO\nPoco podemos decir de este veterano de la escena que no se haya dicho ya. Selecciones originales\, técnica impecable y progresiones equilibradas son sus señas de identidad.\nEsta noche nos acompañará en cabina y sabemos que su set será increíble. \n@reiohuray \nComo siempre\, no podían faltar nuestros dos grandes anfitriones: RUBÉN G y NIGHTWALKER\nYa sabéis como se las gastan en cabina\, porque además\, como ya es tradición\, celebraremos el cumpleaños de Nightwaller. \nNos vemos en menos de dos semanas familia. \nMuchísimo amor para la Drum&Bass Family! \n🗓️Viernes 18 de Agosto de 2023\n🕐 23:59h\n📍Sala Ya’sta (Calle Valverde 10)\n🎫 https://entradium.com/events/soulstep-madrid\n.\n1 copa x 10€ (+ gastos de gestión)\n2 copas x 15€ (+ gastos de gestión)\n.\n.\nENTRADA EN PUERTA\n1 copa x 12€\n2 copas x 18€
URL:https://yastaclub.es/event/soulstep-mad-bass/
LOCATION:Ya’sta Club\, Calle Valverde\, 10\, Madrid\, 28004\, España
ATTACH;FMTTYPE=image/jpeg:https://yastaclub.es/wp-content/uploads/2023/08/365473350_254181460810489_5552478574205176777_n.jpg
END:VEVENT
BEGIN:VEVENT
DTSTART;VALUE=DATE:20230819
DTEND;VALUE=DATE:20230821
DTSTAMP:20260420T095815
CREATED:20230809T163141Z
LAST-MODIFIED:20230818T205924Z
UID:10000439-1692424800-1692511199@yastaclub.es
SUMMARY:BearbiePOP
DESCRIPTION:
URL:https://yastaclub.es/event/bearbiepop-14/
LOCATION:Ya’sta Club\, Calle Valverde\, 10\, Madrid\, 28004\, España
CATEGORIES:Bear 🐻
ATTACH;FMTTYPE=image/jpeg:https://yastaclub.es/wp-content/uploads/2023/08/367688229_838602511008078_5281069348267488217_n.jpg
END:VEVENT
END:VCALENDAR