BEGIN:VCALENDAR
VERSION:2.0
PRODID:-//Ya&#039;sta Club - ECPv6.15.20//NONSGML v1.0//EN
CALSCALE:GREGORIAN
METHOD:PUBLISH
X-ORIGINAL-URL:https://yastaclub.es
X-WR-CALDESC:Eventos para Ya&#039;sta Club
REFRESH-INTERVAL;VALUE=DURATION:PT1H
X-Robots-Tag:noindex
X-PUBLISHED-TTL:PT1H
BEGIN:VTIMEZONE
TZID:Europe/Paris
BEGIN:DAYLIGHT
TZOFFSETFROM:+0100
TZOFFSETTO:+0200
TZNAME:CEST
DTSTART:20220327T010000
END:DAYLIGHT
BEGIN:STANDARD
TZOFFSETFROM:+0200
TZOFFSETTO:+0100
TZNAME:CET
DTSTART:20221030T010000
END:STANDARD
BEGIN:DAYLIGHT
TZOFFSETFROM:+0100
TZOFFSETTO:+0200
TZNAME:CEST
DTSTART:20230326T010000
END:DAYLIGHT
BEGIN:STANDARD
TZOFFSETFROM:+0200
TZOFFSETTO:+0100
TZNAME:CET
DTSTART:20231029T010000
END:STANDARD
BEGIN:DAYLIGHT
TZOFFSETFROM:+0100
TZOFFSETTO:+0200
TZNAME:CEST
DTSTART:20240331T010000
END:DAYLIGHT
BEGIN:STANDARD
TZOFFSETFROM:+0200
TZOFFSETTO:+0100
TZNAME:CET
DTSTART:20241027T010000
END:STANDARD
END:VTIMEZONE
BEGIN:VEVENT
DTSTART;TZID=Europe/Paris:20230315T223000
DTEND;TZID=Europe/Paris:20230316T013000
DTSTAMP:20260420T020023
CREATED:20230306T075313Z
LAST-MODIFIED:20230314T094042Z
UID:10000383-1678919400-1678930200@yastaclub.es
SUMMARY:LGTBailamos: La Chuecoteca
DESCRIPTION:
URL:https://yastaclub.es/event/lgtbailamos-la-chuecoteca-15-03-2023/
LOCATION:Ya’sta Club\, Calle Valverde\, 10\, Madrid\, 28004\, España
CATEGORIES:LGTB 🏳️‍🌈
ATTACH;FMTTYPE=image/jpeg:https://yastaclub.es/wp-content/uploads/2023/03/333411363_761189025357502_7129941067381321290_n.jpg
END:VEVENT
BEGIN:VEVENT
DTSTART;TZID=Europe/Paris:20230317T235500
DTEND;TZID=Europe/Paris:20230318T060000
DTSTAMP:20260420T020023
CREATED:20230225T074500Z
LAST-MODIFIED:20230314T094008Z
UID:10000377-1679097300-1679119200@yastaclub.es
SUMMARY:ROAR Party - Edición Mónica Naranjo
DESCRIPTION:Y este es el cartelazo \n\nEl próximo viernes os esperamos con mucho amor y lujo en ROAR Party – Edición Mónica Naranjo\, con los shows de @Kellyroller_\, @MissGongora y @ChanelAnorex.\n\nEsta vez tendremos de DJ Set invitado a Carlos Salinas de nuestras amigas Churros Con Chocolate (¡qué placer colaborar con ellas!)\, junto con @jaime_rsc y @somoselnido.  POP / REGGAETON & HITS asegurados \n\n Anticipadas a 2 copas por 16€ en roarparty.es\n @yastaclublgtb
URL:https://yastaclub.es/event/roar-party-edicion-monica-naranjo/
LOCATION:Ya’sta Club\, Calle Valverde\, 10\, Madrid\, 28004\, España
CATEGORIES:Drag Queen 👠,LGTB 🏳️‍🌈
ATTACH;FMTTYPE=image/jpeg:https://yastaclub.es/wp-content/uploads/2023/02/WhatsApp-Image-2023-03-09-at-14.08.17.jpeg
END:VEVENT
BEGIN:VEVENT
DTSTART;TZID=Europe/Paris:20230318T235500
DTEND;TZID=Europe/Paris:20230319T060000
DTSTAMP:20260420T020023
CREATED:20230314T080845Z
LAST-MODIFIED:20230315T112315Z
UID:10000386-1679183700-1679205600@yastaclub.es
SUMMARY:BearbiePOP
DESCRIPTION:¡BearbiePOP\, todos los sábados!
URL:https://yastaclub.es/event/bearbiepop-sabado-18-03-2023/
LOCATION:Ya’sta Club\, Calle Valverde\, 10\, Madrid\, 28004\, España
CATEGORIES:Bear 🐻,LGTB 🏳️‍🌈
ATTACH;FMTTYPE=image/jpeg:https://yastaclub.es/wp-content/uploads/2023/03/25febofi2web.jpg
END:VEVENT
BEGIN:VEVENT
DTSTART;TZID=Europe/Paris:20230319T230000
DTEND;TZID=Europe/Paris:20230320T060000
DTSTAMP:20260420T020023
CREATED:20230301T073015Z
LAST-MODIFIED:20230314T094158Z
UID:10000380-1679266800-1679292000@yastaclub.es
SUMMARY:TitanesFest: X Aniversario (víspera de festivo)
DESCRIPTION:TitanesFest: X Aniversario ¡Llega el evento del año! #SeVienenCositas \nMadrid Titanes\, el primer equipo de rugby LGTBI+ inclusivo de España\, cumple 10 años y queremos celebrarlo por todo lo alto con todes vosotres. \nNo te pierdas esta noche llena de música\, drags\, espectáculo\, bingo y muchas\, muchas sorpresas. \n  \n¿A qué esperas? Consigue tu entrada y ven a disfrutar la noche con Titanes.
URL:https://yastaclub.es/event/titanesfest-x-aniversario-19-03-2023/
LOCATION:Ya’sta Club\, Calle Valverde\, 10\, Madrid\, 28004\, España
CATEGORIES:Drag Queen 👠,LGTB 🏳️‍🌈
ATTACH;FMTTYPE=image/jpeg:https://yastaclub.es/wp-content/uploads/2023/03/Cartel_Javi_Ernesto-copia.jpg
END:VEVENT
END:VCALENDAR