BEGIN:VCALENDAR
VERSION:2.0
PRODID:-//Ya&#039;sta Club - ECPv6.15.20//NONSGML v1.0//EN
CALSCALE:GREGORIAN
METHOD:PUBLISH
X-WR-CALNAME:Ya&#039;sta Club
X-ORIGINAL-URL:https://yastaclub.es
X-WR-CALDESC:Eventos para Ya&#039;sta Club
REFRESH-INTERVAL;VALUE=DURATION:PT1H
X-Robots-Tag:noindex
X-PUBLISHED-TTL:PT1H
BEGIN:VTIMEZONE
TZID:UTC
BEGIN:STANDARD
TZOFFSETFROM:+0000
TZOFFSETTO:+0000
TZNAME:UTC
DTSTART:20210101T000000
END:STANDARD
END:VTIMEZONE
BEGIN:VEVENT
DTSTART;TZID=UTC:20221118T235900
DTEND;TZID=UTC:20221119T060000
DTSTAMP:20260421T051207
CREATED:20221025T151857Z
LAST-MODIFIED:20221111T111215Z
UID:10000319-1668815940-1668837600@yastaclub.es
SUMMARY:Roar Party - Tercer aniversario con Beyoncé y Killer Queen
DESCRIPTION:Pues ya estamos todas y tenemos un cartelazo 🤩✨ \nOs esperamos el próximo 18 celebrando nuestro tercer aniversario en esta edición dedicada a #Beyoncé. \nCon \n👠 Killer Queen \n👠 Maryconazo \n👠 Donna Mercadonna \n👠 Buba Anorex \n👠Arrhythmia \n  \nDJs pinchando bien de Pop\, Reggaeton & Hits: \n🎧 Dennis Moore \n🎧 El Nido DJ Group \n🎧 Jaime Caballitos \n🎟 Entradas en beacons.ai/roarparty
URL:https://yastaclub.es/event/roar-party-tercer-aniversario-con-beyonce-18-de-noviembre-2022/
LOCATION:Ya’sta Club\, Calle Valverde\, 10\, Madrid\, 28004\, España
CATEGORIES:LGTB 🏳️‍🌈
ATTACH;FMTTYPE=image/jpeg:https://yastaclub.es/wp-content/uploads/2022/10/roar-party-yastaclub-tercer-aniversario-killer-queen.jpeg
END:VEVENT
BEGIN:VEVENT
DTSTART;TZID=UTC:20221119T235900
DTEND;TZID=UTC:20221120T060000
DTSTAMP:20260421T051207
CREATED:20221115T072153Z
LAST-MODIFIED:20221115T072153Z
UID:10000324-1668902340-1668924000@yastaclub.es
SUMMARY:SoulStep
DESCRIPTION:Bienvenidos DNB HEADS!!! \nPróximo sábado Soulstep!!! Que más que decir… nuestra cita de todos los meses en nuestro templo underground @ya_staclub. \nOs esperamos con muy buenas vibras y la mejor energía de la capital!!! \n#soulstep #yastaclub #drumandbass
URL:https://yastaclub.es/event/soulstep-19-10-2022/
LOCATION:Ya’sta Club\, Calle Valverde\, 10\, Madrid\, 28004\, España
CATEGORIES:Drum n Bass
ATTACH;FMTTYPE=image/jpeg:https://yastaclub.es/wp-content/uploads/2022/11/315543613_6059136717452635_9025490781043676549_n.jpg
END:VEVENT
END:VCALENDAR