BEGIN:VCALENDAR
VERSION:2.0
PRODID:-//Ya&#039;sta Club - ECPv6.15.20//NONSGML v1.0//EN
CALSCALE:GREGORIAN
METHOD:PUBLISH
X-WR-CALNAME:Ya&#039;sta Club
X-ORIGINAL-URL:https://yastaclub.es
X-WR-CALDESC:Eventos para Ya&#039;sta Club
REFRESH-INTERVAL;VALUE=DURATION:PT1H
X-Robots-Tag:noindex
X-PUBLISHED-TTL:PT1H
BEGIN:VTIMEZONE
TZID:UTC
BEGIN:STANDARD
TZOFFSETFROM:+0000
TZOFFSETTO:+0000
TZNAME:UTC
DTSTART:20210101T000000
END:STANDARD
END:VTIMEZONE
BEGIN:VEVENT
DTSTART;TZID=UTC:20220930T233000
DTEND;TZID=UTC:20221001T060000
DTSTAMP:20260421T184040
CREATED:20220919T065718Z
LAST-MODIFIED:20220924T175804Z
UID:10000302-1664580600-1664604000@yastaclub.es
SUMMARY:Asian Party - Back to school
DESCRIPTION:
URL:https://yastaclub.es/event/asian-party-back-to-school-30-09-2022/
LOCATION:Ya’sta Club\, Calle Valverde\, 10\, Madrid\, 28004\, España
CATEGORIES:KPop,LGTB 🏳️‍🌈
ATTACH;FMTTYPE=image/jpeg:https://yastaclub.es/wp-content/uploads/2022/09/asian-party-back-to-school-30.09.2022.jpg
END:VEVENT
BEGIN:VEVENT
DTSTART;TZID=UTC:20221001T235900
DTEND;TZID=UTC:20221002T060000
DTSTAMP:20260421T184040
CREATED:20220929T184500Z
LAST-MODIFIED:20220929T184500Z
UID:10000305-1664668740-1664690400@yastaclub.es
SUMMARY:Bearbie Pop + Bear Sound
DESCRIPTION:¡Este sábado! \n@bearbie_oficial + @bearsound_spain \nSin anticipadas. Sólo en taquilla. ¡Os esperamos! \nPróximos eventos en yastaclub.es
URL:https://yastaclub.es/event/bearbie-pop-bear-sound-01-10-2022/
LOCATION:Ya’sta Club\, Calle Valverde\, 10\, Madrid\, 28004\, España
CATEGORIES:Bear 🐻,Drag Queen 👠,LGTB 🏳️‍🌈
ATTACH;FMTTYPE=image/jpeg:https://yastaclub.es/wp-content/uploads/2022/09/308918933_176457564932831_7739832555971389314_n.jpg
END:VEVENT
END:VCALENDAR