BEGIN:VCALENDAR
VERSION:2.0
PRODID:-//Ya&#039;sta Club - ECPv6.15.20//NONSGML v1.0//EN
CALSCALE:GREGORIAN
METHOD:PUBLISH
X-ORIGINAL-URL:https://yastaclub.es
X-WR-CALDESC:Eventos para Ya&#039;sta Club
REFRESH-INTERVAL;VALUE=DURATION:PT1H
X-Robots-Tag:noindex
X-PUBLISHED-TTL:PT1H
BEGIN:VTIMEZONE
TZID:UTC
BEGIN:STANDARD
TZOFFSETFROM:+0000
TZOFFSETTO:+0000
TZNAME:UTC
DTSTART:20210101T000000
END:STANDARD
END:VTIMEZONE
BEGIN:VEVENT
DTSTART;TZID=UTC:20220909T235500
DTEND;TZID=UTC:20220910T060000
DTSTAMP:20260422T033804
CREATED:20220816T085754Z
LAST-MODIFIED:20220901T055742Z
UID:10000292-1662767700-1662789600@yastaclub.es
SUMMARY:Lolailo
DESCRIPTION:
URL:https://yastaclub.es/event/lolailo-3/
LOCATION:Ya’sta Club\, Calle Valverde\, 10\, Madrid\, 28004\, España
CATEGORIES:Drag Queen 👠,LGTB 🏳️‍🌈
ATTACH;FMTTYPE=image/jpeg:https://yastaclub.es/wp-content/uploads/2022/09/301662903_836598310656511_2526117159145872106_n.jpg
END:VEVENT
BEGIN:VEVENT
DTSTART;TZID=UTC:20220910T235900
DTEND;TZID=UTC:20220911T235900
DTSTAMP:20260422T033804
CREATED:20220908T054209Z
LAST-MODIFIED:20220909T184404Z
UID:10000300-1662854340-1662940740@yastaclub.es
SUMMARY:Bearbie Pop + Bear Sound
DESCRIPTION:¡Este sábado! \n@bearbie_oficial + @bearsound_spain \n🎧 @agustinquerol_dj\n🎧 @aviadordeluxe\n🎧 @julian_almazan \nSin anticipadas. Sólo en taquilla. ¡Os esperamos! \nPróximos eventos en yastaclub.es
URL:https://yastaclub.es/event/bearbie-pop-bear-sound-10-septiembre-2022/
LOCATION:Ya’sta Club\, Calle Valverde\, 10\, Madrid\, 28004\, España
CATEGORIES:Bear 🐻,Drag Queen 👠,LGTB 🏳️‍🌈
ATTACH;FMTTYPE=image/png:https://yastaclub.es/wp-content/uploads/2022/06/bearbie-bear-sound-2022.png
END:VEVENT
BEGIN:VEVENT
DTSTART;TZID=UTC:20220911T200000
DTEND;TZID=UTC:20220911T230000
DTSTAMP:20260422T033804
CREATED:20220827T055034Z
LAST-MODIFIED:20220827T055034Z
UID:10000296-1662926400-1662937200@yastaclub.es
SUMMARY:Swing Madrid Night "Vuelve el Yasta"
DESCRIPTION:
URL:https://yastaclub.es/event/swing-madrid-night-vuelve-el-yasta/
LOCATION:Ya’sta Club\, Calle Valverde\, 10\, Madrid\, 28004\, España
CATEGORIES:Swing
ATTACH;FMTTYPE=image/jpeg:https://yastaclub.es/wp-content/uploads/2022/08/WhatsApp-Image-2022-08-26-at-11.28.47-PM-1.jpeg
END:VEVENT
END:VCALENDAR