BEGIN:VCALENDAR
VERSION:2.0
PRODID:-//Ya&#039;sta Club - ECPv6.15.20//NONSGML v1.0//EN
CALSCALE:GREGORIAN
METHOD:PUBLISH
X-WR-CALNAME:Ya&#039;sta Club
X-ORIGINAL-URL:https://yastaclub.es
X-WR-CALDESC:Eventos para Ya&#039;sta Club
REFRESH-INTERVAL;VALUE=DURATION:PT1H
X-Robots-Tag:noindex
X-PUBLISHED-TTL:PT1H
BEGIN:VTIMEZONE
TZID:UTC
BEGIN:STANDARD
TZOFFSETFROM:+0000
TZOFFSETTO:+0000
TZNAME:UTC
DTSTART:20210101T000000
END:STANDARD
END:VTIMEZONE
BEGIN:VEVENT
DTSTART;VALUE=DATE:20220617
DTEND;VALUE=DATE:20220619
DTSTAMP:20260423T065033
CREATED:20220531T091849Z
LAST-MODIFIED:20220613T153639Z
UID:10000273-1655445600-1655531999@yastaclub.es
SUMMARY:Lolailo - ¡Reinas del destape!
DESCRIPTION:
URL:https://yastaclub.es/event/lolailo-reinas-del-destape/
LOCATION:Ya’sta Club\, Calle Valverde\, 10\, Madrid\, 28004\, España
CATEGORIES:Drag Queen 👠,LGTB 🏳️‍🌈
ATTACH;FMTTYPE=image/jpeg:https://yastaclub.es/wp-content/uploads/2022/05/286427901_152042990727776_8499363758184480037_n.jpg
END:VEVENT
BEGIN:VEVENT
DTSTART;VALUE=DATE:20220618
DTEND;VALUE=DATE:20220620
DTSTAMP:20260423T065033
CREATED:20220612T110154Z
LAST-MODIFIED:20220612T110154Z
UID:10000278-1655532000-1655618399@yastaclub.es
SUMMARY:Soul Step
DESCRIPTION:
URL:https://yastaclub.es/event/soul-step-3/
LOCATION:Ya’sta Club\, Calle Valverde\, 10\, Madrid\, 28004\, España
CATEGORIES:Drum n Bass
ATTACH;FMTTYPE=image/jpeg:https://yastaclub.es/wp-content/uploads/2022/06/WhatsApp-Image-2022-06-12-at-2.20.57-PM.jpeg
END:VEVENT
BEGIN:VEVENT
DTSTART;TZID=UTC:20220619T190000
DTEND;TZID=UTC:20220619T233000
DTSTAMP:20260423T065033
CREATED:20220613T154220Z
LAST-MODIFIED:20220613T154220Z
UID:10000279-1655665200-1655681400@yastaclub.es
SUMMARY:Gala Reina Drag - Gala 3
DESCRIPTION:
URL:https://yastaclub.es/event/gala-reina-drag-gala-3/
LOCATION:Ya’sta Club\, Calle Valverde\, 10\, Madrid\, 28004\, España
CATEGORIES:Drag Queen 👠,LGTB 🏳️‍🌈
ATTACH;FMTTYPE=image/jpeg:https://yastaclub.es/wp-content/uploads/2022/06/WhatsApp-Image-2022-06-07-at-9.49.24-PM.jpeg
END:VEVENT
END:VCALENDAR