BEGIN:VCALENDAR
VERSION:2.0
PRODID:-//Ya&#039;sta Club - ECPv6.15.20//NONSGML v1.0//EN
CALSCALE:GREGORIAN
METHOD:PUBLISH
X-WR-CALNAME:Ya&#039;sta Club
X-ORIGINAL-URL:https://yastaclub.es
X-WR-CALDESC:Eventos para Ya&#039;sta Club
REFRESH-INTERVAL;VALUE=DURATION:PT1H
X-Robots-Tag:noindex
X-PUBLISHED-TTL:PT1H
BEGIN:VTIMEZONE
TZID:UTC
BEGIN:STANDARD
TZOFFSETFROM:+0000
TZOFFSETTO:+0000
TZNAME:UTC
DTSTART:20210101T000000
END:STANDARD
END:VTIMEZONE
BEGIN:VEVENT
DTSTART;VALUE=DATE:20220506
DTEND;VALUE=DATE:20220508
DTSTAMP:20260423T065034
CREATED:20220406T151236Z
LAST-MODIFIED:20220505T060231Z
UID:10000251-1651816800-1651903199@yastaclub.es
SUMMARY:Bearbie + Bear Sound
DESCRIPTION:
URL:https://yastaclub.es/event/bearbie-bear-sound-4/
LOCATION:Ya’sta Club\, Calle Valverde\, 10\, Madrid\, 28004\, España
CATEGORIES:Bear 🐻,LGTB 🏳️‍🌈
ATTACH;FMTTYPE=image/jpeg:https://yastaclub.es/wp-content/uploads/2022/04/279700241_1759555184375533_6939805655584134812_n.jpg
END:VEVENT
BEGIN:VEVENT
DTSTART;VALUE=DATE:20220507
DTEND;VALUE=DATE:20220509
DTSTAMP:20260423T065034
CREATED:20220418T121436Z
LAST-MODIFIED:20220501T054039Z
UID:10000254-1651903200-1651989599@yastaclub.es
SUMMARY:Popperas
DESCRIPTION:
URL:https://yastaclub.es/event/popperas-2/
LOCATION:Ya’sta Club\, Calle Valverde\, 10\, Madrid\, 28004\, España
CATEGORIES:Drag Queen 👠,LGTB 🏳️‍🌈
ATTACH;FMTTYPE=image/jpeg:https://yastaclub.es/wp-content/uploads/2022/04/279372968_529920982041577_6207088309041918086_n.jpg
END:VEVENT
BEGIN:VEVENT
DTSTART;TZID=UTC:20220508T130000
DTEND;TZID=UTC:20220508T190000
DTSTAMP:20260423T065034
CREATED:20220502T170450Z
LAST-MODIFIED:20220502T170450Z
UID:10000258-1652014800-1652036400@yastaclub.es
SUMMARY:Dragalada Madrid
DESCRIPTION:
URL:https://yastaclub.es/event/dragalada-madrid-5/
LOCATION:Ya’sta Club\, Calle Valverde\, 10\, Madrid\, 28004\, España
CATEGORIES:Drag Queen 👠,LGTB 🏳️‍🌈
ATTACH;FMTTYPE=image/png:https://yastaclub.es/wp-content/uploads/2022/03/236472789_107697154957348_5158292883095354539_n.png
END:VEVENT
END:VCALENDAR