BEGIN:VCALENDAR
VERSION:2.0
PRODID:-//Ya&#039;sta Club - ECPv6.15.20//NONSGML v1.0//EN
CALSCALE:GREGORIAN
METHOD:PUBLISH
X-ORIGINAL-URL:https://yastaclub.es
X-WR-CALDESC:Eventos para Ya&#039;sta Club
REFRESH-INTERVAL;VALUE=DURATION:PT1H
X-Robots-Tag:noindex
X-PUBLISHED-TTL:PT1H
BEGIN:VTIMEZONE
TZID:UTC
BEGIN:STANDARD
TZOFFSETFROM:+0000
TZOFFSETTO:+0000
TZNAME:UTC
DTSTART:20210101T000000
END:STANDARD
END:VTIMEZONE
BEGIN:VEVENT
DTSTART;VALUE=DATE:20220422
DTEND;VALUE=DATE:20220424
DTSTAMP:20260423T065026
CREATED:20220326T173142Z
LAST-MODIFIED:20220419T165313Z
UID:10000248-1650607200-1650693599@yastaclub.es
SUMMARY:Roar Rosalía
DESCRIPTION:
URL:https://yastaclub.es/event/roar-rosalia/
LOCATION:Ya’sta Club\, Calle Valverde\, 10\, Madrid\, 28004\, España
CATEGORIES:Drag Queen 👠,LGTB 🏳️‍🌈
ATTACH;FMTTYPE=image/jpeg:https://yastaclub.es/wp-content/uploads/2022/03/WhatsApp-Image-2022-04-07-at-1.46.38-PM.jpeg
END:VEVENT
BEGIN:VEVENT
DTSTART;VALUE=DATE:20220423
DTEND;VALUE=DATE:20220425
DTSTAMP:20260423T065026
CREATED:20220411T140749Z
LAST-MODIFIED:20220411T140749Z
UID:10000252-1650693600-1650779999@yastaclub.es
SUMMARY:Soul Step
DESCRIPTION:Calling all Junglists!!!! \nEl próximo sábado 23 de Abril SoulStep tiene el enorme privilegio de volver a contar en cabina con uno de los Junglists más relevantes de la escena nacional : *DJ EGRES* \nEste veterano nacido en Barcelona pero criado en USA desde 1986 ha crecido con influencias tan variopintas como el Jersey Deep House\, NYC Hip Hop o el Techno. Pero decisivo fueron clásicos del Jungle como Terrorist (Ray Keith) o Helicopter (Deep Blue) para que este Dj\, Productor\, expromotor y melómano convirtiera el Jungle en su estilo de vida. \nTécnica impecable y una habilidad inconmensurable a los platos\, con una selección musical intensa y equilibrada crean una atmósfera impredecible y maravillosa en cada una de sus sesiones. \nPodríamos seguir y seguir hablando largo y extenso sobre sus andaduras y su experiencia (fundador y dj de Jungle Jungle en Bcn\, Dj representante en Europa de Offshore Recordings\, fundador y dj de Surco Sessions…) o sobre los artistas con los que ha compartido cabina (Om Unit\, Phase\, Code\, Dj Trax…) o de su presencia en festivales\, como el último en el que ha participado: Powder\, (en Bansko organizado por Teuf Kulture Bulgaria) pero creemos que es mejor que lo compruebes con tus propios oídos. \nTe dejamos su SoundCloud para que vayas abriendo boca: \nAdemás\, tendremos de nuevo en casa a *Marina Samba* \nEsta increíble MC caba de grabar una tema con el mismísimo Seba para Drum&Bass Arena: How it goes. \nY este verano podrás verla como artista invitada en el festival internacional _Hospitality on the Beach_ . \n \n¡Una vez más\, nos deleitará al micro con su maravillosa voz! \nImprescindibles nuestros residentes: *Rubén G* y *Nightwalker* para completar una noche inolvidable para todos los Junglists. \nComo siempre\, os esperamos a partir de las 00.00h en la Sala Ya’sta para bailar sin parar hasta las 06.00h \n*ENTRADA ANTICIPADA* \n1 copa x 10€ (+ gastos de gestión) \n2 copas x 15€ (+ gastos de gestión) \nENTRADA EN PUERTA \n1 copa x 12€ \n2 copas x 18€ \nINFO en 635658446
URL:https://yastaclub.es/event/soul-step-2/
LOCATION:Ya’sta Club\, Calle Valverde\, 10\, Madrid\, 28004\, España
CATEGORIES:Drum n Bass,Electrónica,Techno
ATTACH;FMTTYPE=image/jpeg:https://yastaclub.es/wp-content/uploads/2022/04/278388095_5432522316780748_5386105837692096257_n.jpg
END:VEVENT
BEGIN:VEVENT
DTSTART;TZID=UTC:20220423T180000
DTEND;TZID=UTC:20220423T230000
DTSTAMP:20260423T065026
CREATED:20220419T165426Z
LAST-MODIFIED:20220419T165426Z
UID:10000256-1650736800-1650754800@yastaclub.es
SUMMARY:LGTBailamos
DESCRIPTION:
URL:https://yastaclub.es/event/lgtbailamos-2/
LOCATION:Ya’sta Club\, Calle Valverde\, 10\, Madrid\, 28004\, España
CATEGORIES:LGTB 🏳️‍🌈
ATTACH;FMTTYPE=image/jpeg:https://yastaclub.es/wp-content/uploads/2022/04/277986527_388208969833313_6091244171122771919_n.jpg
END:VEVENT
BEGIN:VEVENT
DTSTART;TZID=UTC:20220424T130000
DTEND;TZID=UTC:20220424T190000
DTSTAMP:20260423T065026
CREATED:20220412T191824Z
LAST-MODIFIED:20220412T191824Z
UID:10000253-1650805200-1650826800@yastaclub.es
SUMMARY:Dragalada Madrid
DESCRIPTION:
URL:https://yastaclub.es/event/dragalada-madrid-4/
LOCATION:Ya’sta Club\, Calle Valverde\, 10\, Madrid\, 28004\, España
CATEGORIES:Drag Queen 👠,LGTB 🏳️‍🌈
ATTACH;FMTTYPE=image/png:https://yastaclub.es/wp-content/uploads/2022/03/236472789_107697154957348_5158292883095354539_n.png
END:VEVENT
END:VCALENDAR