BEGIN:VCALENDAR
VERSION:2.0
PRODID:-//Ya&#039;sta Club - ECPv6.15.20//NONSGML v1.0//EN
CALSCALE:GREGORIAN
METHOD:PUBLISH
X-ORIGINAL-URL:https://yastaclub.es
X-WR-CALDESC:Eventos para Ya&#039;sta Club
REFRESH-INTERVAL;VALUE=DURATION:PT1H
X-Robots-Tag:noindex
X-PUBLISHED-TTL:PT1H
BEGIN:VTIMEZONE
TZID:UTC
BEGIN:STANDARD
TZOFFSETFROM:+0000
TZOFFSETTO:+0000
TZNAME:UTC
DTSTART:20210101T000000
END:STANDARD
END:VTIMEZONE
BEGIN:VEVENT
DTSTART;VALUE=DATE:20220401
DTEND;VALUE=DATE:20220403
DTSTAMP:20260423T065026
CREATED:20220328T184720Z
LAST-MODIFIED:20220328T184720Z
UID:10000250-1648792800-1648879199@yastaclub.es
SUMMARY:The Gathering
DESCRIPTION:The Gathering\, la reunión de las tribus alternativas que da lugar una vez al mes a vivir una experiencia inmersiva como ninguna.\n\nLos láser rojos y el humo entregan una pista de baile perfecta para esta cita\nUna sala en condiciones para disfrutar en total comodidad de la música que te representa: Alternativa\, rompedora\, oscura\, agresiva\, nostálgica y bien seleccionada por los míticos djs de los clubs donde vivimos tantas noches especiales.\n\nLine Up:\nFrom Hell\, novedad en nuesta cabina\, nos trae un set a vinílos donde demostrará su destreza y callidad musical.\nClubs como Razzmatazz\, Moog\, Sirocco\, Specka\, y paises como Malta\, Italia y Portugal han disfrutado de sus sets.\nRaúl Burnham\, dedicación y pasión por la escena oscura\, residente de Stigmata\, primera vez en The Gathering\, pero seguro que no la última!\nJorge\, director de RARA AVIS en Madrid\, sitio de culto a la música como pocos. El Dj más gamberro de Madrid. No te lo pierdas!\nHells Light\, la nueva reina de nuestra cabina\, presenta su warm-up en esta noche tan especial\nDJ 3RR0R\, de los djs más internacionales de nuestra escena\, productor musical especialista en electrónica alternativa desde hace casi 20 años.\nDJ Feydz\, encargado durante años de amenizar las noches en el 666\, dark hole\, bunker\, cosmos y tantos sitios\, que no hace falta alargar mucho más su presentación.\n\nTodos ellos han pasado por absolutamente todas las sesiones importantes de música «oscura»\, «dark» o «alternativa» de Madrid.\n\nTodos ellos nos han hecho danzar con los ojos cerrados durante innumerables noches.\nLos ingredientes para pasar una noche como nunca están en el plato. Sólo nos faltas tú.\nVen a formar parte de un evento cuidado al milímetro\, y todo especialmente para ti.\n\nNos vemos el viernes 1 de Abril\, desde las 23:00h en la sala Ya’sta.\n07 HORAS DE FIESTA!
URL:https://yastaclub.es/event/the-gathering/
LOCATION:Ya’sta Club\, Calle Valverde\, 10\, Madrid\, 28004\, España
CATEGORIES:Dark
ATTACH;FMTTYPE=image/jpeg:https://yastaclub.es/wp-content/uploads/2022/03/WhatsApp-Video-2022-03-23-at-16.13.32.mp4_snapshot_00.01_2022.03.28_22.28.41.jpg
END:VEVENT
BEGIN:VEVENT
DTSTART;VALUE=DATE:20220402
DTEND;VALUE=DATE:20220404
DTSTAMP:20260423T065026
CREATED:20220311T063925Z
LAST-MODIFIED:20220311T063925Z
UID:10000238-1648879200-1648965599@yastaclub.es
SUMMARY:Popperas
DESCRIPTION:Olé olé y olé 💃🏽 ¿te lo vas a perder? 💃🏽 \nNo te pierdas nuestra próxima entrega POPPERAS FERIA DE ABRIL 🎡🎟 con una invitada de LUJO nuestra madrina MALENA GRACIA que lo dará todo en el escenario💥 con ella estará las grandes Iristerika de los Nervios\, Titanax\, Niña de López\, La Susi y Huma Fuma. 🎈🎈Disfrutaremos también de los beats de nuestro dj residente Robin Toth. \nEn Popperas diviértete como quieras ✅ descarte la app GAYFLIX para más información. \n📍: Sala Yasta (C/ Valverde 10)
URL:https://yastaclub.es/event/popperas-02-04-2022/
LOCATION:Ya’sta Club\, Calle Valverde\, 10\, Madrid\, 28004\, España
CATEGORIES:LGTB 🏳️‍🌈
ATTACH;FMTTYPE=image/jpeg:https://yastaclub.es/wp-content/uploads/2022/03/275183238_542451430367698_2262173021091661680_n.jpg
END:VEVENT
BEGIN:VEVENT
DTSTART;TZID=UTC:20220402T170000
DTEND;TZID=UTC:20220402T230000
DTSTAMP:20260423T065026
CREATED:20220326T172545Z
LAST-MODIFIED:20220326T172545Z
UID:10000245-1648918800-1648940400@yastaclub.es
SUMMARY:La Colmena
DESCRIPTION:¡Que disfruten del día… y que el día disfrute de ustedes!📢📢📢🐝 \n🎼🎭🎨La Colmena. Una propuesta mensual de soirée de artes mixtas en el centro de Madrid. \nTenemos muchas ganas de encontrarnos el sábado. Se acerca el momento y ya sabe a miel🍯 \n🗓\n17 – 23 h\, sábado 2 de Abril\nYa’Sta Club\nValverde 10-METRO:Gran Vía \nEn esta edición del 2️⃣ de ABRIL el programa consta de comedia\, percusión\, exposición de pintura\, banda de música en vivo\, música electrónica ecstática y performances. \nPara celebrar la vida\, sentirte\, bailar\, inspirarte\, experimentar y… \n🎙¡Sacar todo ese arte que llevas dentro en nuestro ¡¡¡Micro Abierto!!! El espacio de creación que dejamos en vuestras manos.\nPara apuntarte escríbenos a https://instagram.com/colmenartists?r=nametag o colmenartists@hotmail.com. \n🎟 Para asistir al evento consigue tu entrada anticipada (12€) aquí https://entradium.com/events/la-colmena-madrid o en taquilla durante toda la tarde del sábado (16€). \n🌀 Un espacio seguro de crecimiento\, celebración\, introspección y unión. Donde ponemos énfasis en dar un valor real a la experiencia humana. \n🐝 ¡Les esperamos! 📢🐝 \n🕰Line-up \n17 h Micro Abierto \n18 h Comedia\nGago y Joan Pico \n18:45 h Percusión\nDúo Patax \n19:15 h Performance\nVocablos Rebeldes \n19:30 h Electroacústica\nSummuS \n21-23 h Ecstátik DJ Set\nAlex Sevilla \nPara conocer a estos y el resto de artistas y actualizar la información de nuestros eventos síguenos en instagram. \n🕸 @colmenartists\n📞 646 68 16 77\n📞 654 46 13 22\n✉️ colmenartists@hotmail.com \n🍯 LA COLMENA 🍯🐝
URL:https://yastaclub.es/event/la-colmena-2/
LOCATION:Ya’sta Club\, Calle Valverde\, 10\, Madrid\, 28004\, España
ATTACH;FMTTYPE=image/jpeg:https://yastaclub.es/wp-content/uploads/2022/03/WhatsApp-Image-2022-03-25-at-16.18.52.jpeg
END:VEVENT
BEGIN:VEVENT
DTSTART;TZID=UTC:20220403T130000
DTEND;TZID=UTC:20220403T190000
DTSTAMP:20260423T065026
CREATED:20220326T173314Z
LAST-MODIFIED:20220326T173314Z
UID:10000249-1648990800-1649012400@yastaclub.es
SUMMARY:Dragalada Madrid
DESCRIPTION:
URL:https://yastaclub.es/event/dragalada-madrid-3/
LOCATION:Ya’sta Club\, Calle Valverde\, 10\, Madrid\, 28004\, España
CATEGORIES:Drag Queen 👠,LGTB 🏳️‍🌈
ATTACH;FMTTYPE=image/png:https://yastaclub.es/wp-content/uploads/2022/03/236472789_107697154957348_5158292883095354539_n.png
END:VEVENT
BEGIN:VEVENT
DTSTART;TZID=UTC:20220403T190000
DTEND;TZID=UTC:20220403T235900
DTSTAMP:20260423T065026
CREATED:20220326T074326Z
LAST-MODIFIED:20220330T125625Z
UID:10000243-1649012400-1649030340@yastaclub.es
SUMMARY:Dragonas Viewing Party
DESCRIPTION:
URL:https://yastaclub.es/event/dragonas-viewing-party-2022-04-03/
LOCATION:Ya’sta Club\, Calle Valverde\, 10\, Madrid\, 28004\, España
CATEGORIES:Drag Queen 👠,LGTB 🏳️‍🌈
ATTACH;FMTTYPE=image/jpeg:https://yastaclub.es/wp-content/uploads/2022/03/cartel-stories2-scaled.jpg
END:VEVENT
END:VCALENDAR