BEGIN:VCALENDAR
VERSION:2.0
PRODID:-//Ya&#039;sta Club - ECPv6.15.20//NONSGML v1.0//EN
CALSCALE:GREGORIAN
METHOD:PUBLISH
X-ORIGINAL-URL:https://yastaclub.es
X-WR-CALDESC:Eventos para Ya&#039;sta Club
REFRESH-INTERVAL;VALUE=DURATION:PT1H
X-Robots-Tag:noindex
X-PUBLISHED-TTL:PT1H
BEGIN:VTIMEZONE
TZID:UTC
BEGIN:STANDARD
TZOFFSETFROM:+0000
TZOFFSETTO:+0000
TZNAME:UTC
DTSTART:20210101T000000
END:STANDARD
END:VTIMEZONE
BEGIN:VEVENT
DTSTART;VALUE=DATE:20220318
DTEND;VALUE=DATE:20220320
DTSTAMP:20260423T142936
CREATED:20220223T172020Z
LAST-MODIFIED:20220304T091145Z
UID:10000228-1647583200-1647669599@yastaclub.es
SUMMARY:ROAR Party
DESCRIPTION:Un descanso porque llevamos un trote… Nah. 👯‍♀️😏 \nEl próximo viernes 18 de marzo volvemos con más dragonas que harán temblar la sala: \n👉 @ariel_rec\n👉 @marisa.prisa\n👉 @estrella.xtravaganza \n❗ Planazo IMPRORROGABLE\nAnticipadas con SÚPER OFERTA ya disponibles en nuestro perfil
URL:https://yastaclub.es/event/roar-party/
LOCATION:Ya’sta Club\, Calle Valverde\, 10\, Madrid\, 28004\, España
CATEGORIES:LGTB 🏳️‍🌈
ATTACH;FMTTYPE=image/jpeg:https://yastaclub.es/wp-content/uploads/2022/02/WhatsApp-Image-2022-02-18-at-12.45.40.jpeg
END:VEVENT
BEGIN:VEVENT
DTSTART;VALUE=DATE:20220319
DTEND;VALUE=DATE:20220321
DTSTAMP:20260423T142936
CREATED:20220311T063706Z
LAST-MODIFIED:20220311T063706Z
UID:10000237-1647669600-1647755999@yastaclub.es
SUMMARY:Soul Step
DESCRIPTION:
URL:https://yastaclub.es/event/soul-step/
LOCATION:Ya’sta Club\, Calle Valverde\, 10\, Madrid\, 28004\, España
CATEGORIES:Drum n Bass,Electrónica,Techno
ATTACH;FMTTYPE=image/jpeg:https://yastaclub.es/wp-content/uploads/2022/03/WhatsApp-Image-2022-03-09-at-18.34.52.jpeg
END:VEVENT
BEGIN:VEVENT
DTSTART;TZID=UTC:20220320T130000
DTEND;TZID=UTC:20220320T190000
DTSTAMP:20260423T142936
CREATED:20220304T092645Z
LAST-MODIFIED:20220317T074012Z
UID:10000235-1647781200-1647802800@yastaclub.es
SUMMARY:Dragalada Madrid
DESCRIPTION:
URL:https://yastaclub.es/event/dragalada-madrid-2/
LOCATION:Ya’sta Club\, Calle Valverde\, 10\, Madrid\, 28004\, España
CATEGORIES:LGTB 🏳️‍🌈
ATTACH;FMTTYPE=image/jpeg:https://yastaclub.es/wp-content/uploads/2022/03/275801658_711118750269730_6498136290059150692_n.jpg
END:VEVENT
END:VCALENDAR