BEGIN:VCALENDAR
VERSION:2.0
PRODID:-//Ya&#039;sta Club - ECPv6.15.20//NONSGML v1.0//EN
CALSCALE:GREGORIAN
METHOD:PUBLISH
X-WR-CALNAME:Ya&#039;sta Club
X-ORIGINAL-URL:https://yastaclub.es
X-WR-CALDESC:Eventos para Ya&#039;sta Club
REFRESH-INTERVAL;VALUE=DURATION:PT1H
X-Robots-Tag:noindex
X-PUBLISHED-TTL:PT1H
BEGIN:VTIMEZONE
TZID:UTC
BEGIN:STANDARD
TZOFFSETFROM:+0000
TZOFFSETTO:+0000
TZNAME:UTC
DTSTART:20210101T000000
END:STANDARD
END:VTIMEZONE
BEGIN:VEVENT
DTSTART;VALUE=DATE:20220311
DTEND;VALUE=DATE:20220313
DTSTAMP:20260423T223327
CREATED:20220303T142347Z
LAST-MODIFIED:20220304T091138Z
UID:10000233-1646978400-1647064799@yastaclub.es
SUMMARY:The Gathering - Dark Alternative Party
DESCRIPTION:
URL:https://yastaclub.es/event/the-gathering-dark-alternative-party/
CATEGORIES:Dark
ATTACH;FMTTYPE=image/jpeg:https://yastaclub.es/wp-content/uploads/2022/03/274522739_144224484730544_4102304467546371632_n.jpg
END:VEVENT
BEGIN:VEVENT
DTSTART;VALUE=DATE:20220312
DTEND;VALUE=DATE:20220314
DTSTAMP:20260423T223327
CREATED:20220307T190528Z
LAST-MODIFIED:20220307T190528Z
UID:10000236-1647064800-1647151199@yastaclub.es
SUMMARY:Bearbie + Bear Sound
DESCRIPTION:
URL:https://yastaclub.es/event/bearbie-bear-sound-2/
CATEGORIES:LGTB 🏳️‍🌈
ATTACH;FMTTYPE=image/jpeg:https://yastaclub.es/wp-content/uploads/2022/03/WhatsApp-Image-2022-03-07-at-17.10.25.jpeg
END:VEVENT
BEGIN:VEVENT
DTSTART;TZID=UTC:20220312T160000
DTEND;TZID=UTC:20220312T230000
DTSTAMP:20260423T223327
CREATED:20220311T080132Z
LAST-MODIFIED:20220311T084542Z
UID:10000240-1647100800-1647126000@yastaclub.es
SUMMARY:LGTBailamos
DESCRIPTION:
URL:https://yastaclub.es/event/lgtbailamos/
LOCATION:Ya’sta Club\, Calle Valverde\, 10\, Madrid\, 28004\, España
CATEGORIES:LGTB 🏳️‍🌈
ATTACH;FMTTYPE=image/jpeg:https://yastaclub.es/wp-content/uploads/2022/03/275500972_126988366562408_3365724009199124704_n.jpg
END:VEVENT
BEGIN:VEVENT
DTSTART;TZID=UTC:20220313T190000
DTEND;TZID=UTC:20220313T230000
DTSTAMP:20260423T223327
CREATED:20220303T141130Z
LAST-MODIFIED:20220303T141130Z
UID:10000232-1647198000-1647212400@yastaclub.es
SUMMARY:Gala Reina Drag
DESCRIPTION:Las 4 reinas de la 1ª edición que no pudieron darlo todo en la Gala de Navidad arruinada por ómicron… ¡están de VUELTA! \nY quieren venganza de tacones👠🔥 \n@nina_de_lopez\, @titanax_\, @satinefansy y @missfuckingtrendy volverán el próximo 13 marzo. \n¡Save the DATE! \nAdemás\, en esta gala especial anunciaremos la apertura del casting de la segunda temporada. Ahí lo dejamos. 🤭🤫 \n🎟 Anticipadas ya disponibles aquí.
URL:https://yastaclub.es/event/gala-reina-drag/
LOCATION:Ya’sta Club\, Calle Valverde\, 10\, Madrid\, 28004\, España
CATEGORIES:LGTB 🏳️‍🌈
ATTACH;FMTTYPE=image/jpeg:https://yastaclub.es/wp-content/uploads/2022/03/WhatsApp-Image-2022-02-28-at-13.16.19.jpeg
END:VEVENT
END:VCALENDAR