BEGIN:VCALENDAR
VERSION:2.0
PRODID:-//Ya&#039;sta Club - ECPv6.15.20//NONSGML v1.0//EN
CALSCALE:GREGORIAN
METHOD:PUBLISH
X-ORIGINAL-URL:https://yastaclub.es
X-WR-CALDESC:Eventos para Ya&#039;sta Club
REFRESH-INTERVAL;VALUE=DURATION:PT1H
X-Robots-Tag:noindex
X-PUBLISHED-TTL:PT1H
BEGIN:VTIMEZONE
TZID:Europe/Madrid
BEGIN:DAYLIGHT
TZOFFSETFROM:+0100
TZOFFSETTO:+0200
TZNAME:CEST
DTSTART:20250330T010000
END:DAYLIGHT
BEGIN:STANDARD
TZOFFSETFROM:+0200
TZOFFSETTO:+0100
TZNAME:CET
DTSTART:20251026T010000
END:STANDARD
BEGIN:DAYLIGHT
TZOFFSETFROM:+0100
TZOFFSETTO:+0200
TZNAME:CEST
DTSTART:20260329T010000
END:DAYLIGHT
BEGIN:STANDARD
TZOFFSETFROM:+0200
TZOFFSETTO:+0100
TZNAME:CET
DTSTART:20261025T010000
END:STANDARD
BEGIN:DAYLIGHT
TZOFFSETFROM:+0100
TZOFFSETTO:+0200
TZNAME:CEST
DTSTART:20270328T010000
END:DAYLIGHT
BEGIN:STANDARD
TZOFFSETFROM:+0200
TZOFFSETTO:+0100
TZNAME:CET
DTSTART:20271031T010000
END:STANDARD
END:VTIMEZONE
BEGIN:VEVENT
DTSTART;TZID=Europe/Madrid:20260425T190000
DTEND;TZID=Europe/Madrid:20260425T210000
DTSTAMP:20260424T020535
CREATED:20260326T190852Z
LAST-MODIFIED:20260326T190852Z
UID:10001248-1777143600-1777150800@yastaclub.es
SUMMARY:FEMME FATALE
DESCRIPTION:FEMME FATALE\n\n\n¡Britney Spears\, Madonna\, Whitney Houston\, Beyoncé y muchas más en un concierto ÚNICO! \nLa Opción Producciones te presenta un tributo homenaje a las grandes divas. Disfruta de grandes voces en directo versionando auténticos éxitos internacionales mientras se sigue haciendo historia. \nCanta\, baila\, ríe y disfruta de un concierto recopilatorio de temas pertenecientes a las artistas más influyentes de la historia. \n¡Compra ya tu entrada y conviértete en una auténtica FEMME FATALE!
URL:https://yastaclub.es/event/femme-fatale/
LOCATION:Ya’sta Club\, Calle Valverde\, 10\, Madrid\, 28004\, España
ATTACH;FMTTYPE=image/webp:https://yastaclub.es/wp-content/uploads/2026/03/webp-6.webp
END:VEVENT
BEGIN:VEVENT
DTSTART;TZID=Europe/Madrid:20260425T210000
DTEND;TZID=Europe/Madrid:20260425T230000
DTSTAMP:20260424T020535
CREATED:20251105T172253Z
LAST-MODIFIED:20260128T113248Z
UID:10001107-1777150800-1777158000@yastaclub.es
SUMMARY:El Gran Bingo Drag
DESCRIPTION:¿Estás preparadx para disfrutar del mejor Bingo de Madrid? \nImagínate a más de 500 personas jugando por llevarse una multitud de premios. Un bingo lleno de fiesta\, comedia\, juegos y por supuesto\, muchos pero muchísimos regalos… \nTe esperamos en la sala Yasta Club con las mejores Drags\, la mejor música y sobre todo mucha pero que mucha diversión. \nLa mejor party del fin de semana. ¡Trae a todxs tus amigxs y compite en este bingo tan loco! \nPresentado por: \n\nSugar Nelly\nChirstina Vergara\n\nEntradas anticipadas aquí.
URL:https://yastaclub.es/event/el-gran-bingo-drag-4/2026-04-25/
LOCATION:Ya’sta Club\, Calle Valverde\, 10\, Madrid\, 28004\, España
CATEGORIES:Drag Queen 👠,LGTB 🏳️‍🌈
ATTACH;FMTTYPE=image/webp:https://yastaclub.es/wp-content/uploads/2024/10/webp-2.webp
END:VEVENT
BEGIN:VEVENT
DTSTART;TZID=Europe/Madrid:20260425T235900
DTEND;TZID=Europe/Madrid:20260426T060000
DTSTAMP:20260424T020535
CREATED:20260422T133647Z
LAST-MODIFIED:20260422T133751Z
UID:10001166-1777161540-1777183200@yastaclub.es
SUMMARY:BearbiePOP
DESCRIPTION:La sesión POP de Bears por excelencia de Madrid llega a Ya’sta Club. \nTodos los sábados en Calle Valverde\, 10. \nConsigue aquí tu entrada anticipada por 2 copas por 15€ (hasta la 01:30\, después 1 copa).
URL:https://yastaclub.es/event/bearbiepop-18-17-2/2026-04-25/
LOCATION:Ya’sta Club\, Calle Valverde\, 10\, Madrid\, 28004\, España
CATEGORIES:Bear 🐻,LGTB 🏳️‍🌈
ATTACH;FMTTYPE=image/jpeg:https://yastaclub.es/wp-content/uploads/2025/12/bearbie-pop-2026.jpg
END:VEVENT
BEGIN:VEVENT
DTSTART;TZID=Europe/Madrid:20260426T180000
DTEND;TZID=Europe/Madrid:20260426T220000
DTSTAMP:20260424T020535
CREATED:20260113T183741Z
LAST-MODIFIED:20260113T183741Z
UID:10001217-1777226400-1777240800@yastaclub.es
SUMMARY:OlimpiaDrags
DESCRIPTION:Entradas anticipadas en La Opción – Producciones
URL:https://yastaclub.es/event/olimpiadrags/2026-04-26/
LOCATION:Ya’sta Club\, Calle Valverde\, 10\, Madrid\, 28004\, España
ATTACH;FMTTYPE=image/webp:https://yastaclub.es/wp-content/uploads/2026/01/602004360_17847483930612023_6553968262748626840_n.webp
END:VEVENT
BEGIN:VEVENT
DTSTART;TZID=Europe/Madrid:20260430T235900
DTEND;TZID=Europe/Madrid:20260501T060000
DTSTAMP:20260424T020535
CREATED:20260422T133900Z
LAST-MODIFIED:20260422T133900Z
UID:10001250-1777593540-1777615200@yastaclub.es
SUMMARY:BearbiePOP - Esp. Aniversario (vísp de festivo)
DESCRIPTION:La sesión POP de Bears por excelencia de Madrid llega a Ya’sta Club. \nTodos los sábados en Calle Valverde\, 10. \nConsigue aquí tu entrada anticipada por 2 copas por 15€ (hasta la 01:30\, después 1 copa).
URL:https://yastaclub.es/event/bearbiepop-18-17-2-2/
LOCATION:Ya’sta Club\, Calle Valverde\, 10\, Madrid\, 28004\, España
CATEGORIES:Bear 🐻,LGTB 🏳️‍🌈
ATTACH;FMTTYPE=image/jpeg:https://yastaclub.es/wp-content/uploads/2026/04/WhatsApp-Image-2026-04-21-at-18.47.50.jpeg
END:VEVENT
BEGIN:VEVENT
DTSTART;TZID=Europe/Madrid:20260501T235900
DTEND;TZID=Europe/Madrid:20260502T060000
DTSTAMP:20260424T020535
CREATED:20260326T185440Z
LAST-MODIFIED:20260326T185440Z
UID:10001239-1777679940-1777701600@yastaclub.es
SUMMARY:Born 2B Bear
DESCRIPTION:Hemos vuelto!!! Y lo hacemos con mas ganas que nunca!!!\nPoco a poco iras encontrando en nuestra nueva web articulos pensados para ti\, clásicos de nuestra colección y nuevos diseños\, camisetas urban y nuestras nuevas oversize y no te pierdas para este invierno proximamente nuestras nuevas sudaderas oversize que te dejaran con ganas de más!!!! \n.\n.#bearinkparty #gay #gayhot #gayspain #gayboy #gaymadrid #gaybear #beard #bear #beargay #osito #osos #ososgay #gaypic #shower #gymmotivation #gymgay #gaymen #gaygym #madbear #madrid #beards #scruffy #instabeard #gayspain #gayboy #gaymadrid #gaybear #beard #bear #beargay #osito #osos #ososgay #musclebear #chueca #playas #musclebears #fotodeldía #gaypic #gymmotivation #gymgay #gaymen
URL:https://yastaclub.es/event/born-2b-bear/
LOCATION:Ya’sta Club\, Calle Valverde\, 10\, Madrid\, 28004\, España
CATEGORIES:Bear 🐻,Techno
ATTACH;FMTTYPE=image/webp:https://yastaclub.es/wp-content/uploads/2026/03/589067377_18300288343280634_1839159838950750749_n.webp
END:VEVENT
BEGIN:VEVENT
DTSTART;TZID=Europe/Madrid:20260502T210000
DTEND;TZID=Europe/Madrid:20260502T230000
DTSTAMP:20260424T020535
CREATED:20251105T172253Z
LAST-MODIFIED:20260128T113248Z
UID:10001108-1777755600-1777762800@yastaclub.es
SUMMARY:El Gran Bingo Drag
DESCRIPTION:¿Estás preparadx para disfrutar del mejor Bingo de Madrid? \nImagínate a más de 500 personas jugando por llevarse una multitud de premios. Un bingo lleno de fiesta\, comedia\, juegos y por supuesto\, muchos pero muchísimos regalos… \nTe esperamos en la sala Yasta Club con las mejores Drags\, la mejor música y sobre todo mucha pero que mucha diversión. \nLa mejor party del fin de semana. ¡Trae a todxs tus amigxs y compite en este bingo tan loco! \nPresentado por: \n\nSugar Nelly\nChirstina Vergara\n\nEntradas anticipadas aquí.
URL:https://yastaclub.es/event/el-gran-bingo-drag-4/2026-05-02/
LOCATION:Ya’sta Club\, Calle Valverde\, 10\, Madrid\, 28004\, España
CATEGORIES:Drag Queen 👠,LGTB 🏳️‍🌈
ATTACH;FMTTYPE=image/webp:https://yastaclub.es/wp-content/uploads/2024/10/webp-2.webp
END:VEVENT
BEGIN:VEVENT
DTSTART;TZID=Europe/Madrid:20260502T235900
DTEND;TZID=Europe/Madrid:20260503T060000
DTSTAMP:20260424T020535
CREATED:20260422T133647Z
LAST-MODIFIED:20260422T133751Z
UID:10001167-1777766340-1777788000@yastaclub.es
SUMMARY:BearbiePOP
DESCRIPTION:La sesión POP de Bears por excelencia de Madrid llega a Ya’sta Club. \nTodos los sábados en Calle Valverde\, 10. \nConsigue aquí tu entrada anticipada por 2 copas por 15€ (hasta la 01:30\, después 1 copa).
URL:https://yastaclub.es/event/bearbiepop-18-17-2/2026-05-02/
LOCATION:Ya’sta Club\, Calle Valverde\, 10\, Madrid\, 28004\, España
CATEGORIES:Bear 🐻,LGTB 🏳️‍🌈
ATTACH;FMTTYPE=image/jpeg:https://yastaclub.es/wp-content/uploads/2025/12/bearbie-pop-2026.jpg
END:VEVENT
BEGIN:VEVENT
DTSTART;TZID=Europe/Madrid:20260503T180000
DTEND;TZID=Europe/Madrid:20260503T220000
DTSTAMP:20260424T020535
CREATED:20260113T183741Z
LAST-MODIFIED:20260113T183741Z
UID:10001218-1777831200-1777845600@yastaclub.es
SUMMARY:OlimpiaDrags
DESCRIPTION:Entradas anticipadas en La Opción – Producciones
URL:https://yastaclub.es/event/olimpiadrags/2026-05-03/
LOCATION:Ya’sta Club\, Calle Valverde\, 10\, Madrid\, 28004\, España
ATTACH;FMTTYPE=image/webp:https://yastaclub.es/wp-content/uploads/2026/01/602004360_17847483930612023_6553968262748626840_n.webp
END:VEVENT
BEGIN:VEVENT
DTSTART;TZID=Europe/Madrid:20260508T235900
DTEND;TZID=Europe/Madrid:20260509T060000
DTSTAMP:20260424T020535
CREATED:20260326T185237Z
LAST-MODIFIED:20260423T190013Z
UID:10001238-1778284740-1778306400@yastaclub.es
SUMMARY:Arteria Club
DESCRIPTION:ARTERIA club vuelve el próximo 8 de mayo. \nARTERIA Club is your new ElectroPop\, Hyperpop & Soft-Techno safe place in Madrid. Expect high BPMs\, ElectroClash\, Soft Techno & HyperPOP. All kind of remixes: Sophie (2) \, Peaches \, The Soft Moon\, Arca \, Vitalic \, Metrika \, Putilatex\, BAJOCERO X\, Artemas\, Dishype\, Xina Mora\, Slayyyter\, TAD\, EMJAY\, Parkineos\, Six Sex \, Ashnikko\, Co Bra \, etc Unlock the experience. \nARTERIA CLUB\nYour new Alt-music + electronic safe\, queer & friendly place.\n🎧 alt Pop – electropop & Clash – High BPMs\n🔻8 MAY\n📍 @yastaclublgtb
URL:https://yastaclub.es/event/arteria-club-2/
LOCATION:Ya’sta Club\, Calle Valverde\, 10\, Madrid\, 28004\, España
CATEGORIES:Alt Music,ElectroClash,Electropop,High BPMs,Hyperpop,Pop & Hits,Queer
ATTACH;FMTTYPE=image/jpeg:https://yastaclub.es/wp-content/uploads/2026/03/WhatsApp-Image-2026-04-07-at-18.10.50.jpeg
END:VEVENT
BEGIN:VEVENT
DTSTART;TZID=Europe/Madrid:20260509T210000
DTEND;TZID=Europe/Madrid:20260509T230000
DTSTAMP:20260424T020535
CREATED:20251105T172253Z
LAST-MODIFIED:20260128T113248Z
UID:10001109-1778360400-1778367600@yastaclub.es
SUMMARY:El Gran Bingo Drag
DESCRIPTION:¿Estás preparadx para disfrutar del mejor Bingo de Madrid? \nImagínate a más de 500 personas jugando por llevarse una multitud de premios. Un bingo lleno de fiesta\, comedia\, juegos y por supuesto\, muchos pero muchísimos regalos… \nTe esperamos en la sala Yasta Club con las mejores Drags\, la mejor música y sobre todo mucha pero que mucha diversión. \nLa mejor party del fin de semana. ¡Trae a todxs tus amigxs y compite en este bingo tan loco! \nPresentado por: \n\nSugar Nelly\nChirstina Vergara\n\nEntradas anticipadas aquí.
URL:https://yastaclub.es/event/el-gran-bingo-drag-4/2026-05-09/
LOCATION:Ya’sta Club\, Calle Valverde\, 10\, Madrid\, 28004\, España
CATEGORIES:Drag Queen 👠,LGTB 🏳️‍🌈
ATTACH;FMTTYPE=image/webp:https://yastaclub.es/wp-content/uploads/2024/10/webp-2.webp
END:VEVENT
BEGIN:VEVENT
DTSTART;TZID=Europe/Madrid:20260509T235900
DTEND;TZID=Europe/Madrid:20260510T060000
DTSTAMP:20260424T020535
CREATED:20260422T133647Z
LAST-MODIFIED:20260422T133751Z
UID:10001168-1778371140-1778392800@yastaclub.es
SUMMARY:BearbiePOP
DESCRIPTION:La sesión POP de Bears por excelencia de Madrid llega a Ya’sta Club. \nTodos los sábados en Calle Valverde\, 10. \nConsigue aquí tu entrada anticipada por 2 copas por 15€ (hasta la 01:30\, después 1 copa).
URL:https://yastaclub.es/event/bearbiepop-18-17-2/2026-05-09/
LOCATION:Ya’sta Club\, Calle Valverde\, 10\, Madrid\, 28004\, España
CATEGORIES:Bear 🐻,LGTB 🏳️‍🌈
ATTACH;FMTTYPE=image/jpeg:https://yastaclub.es/wp-content/uploads/2025/12/bearbie-pop-2026.jpg
END:VEVENT
BEGIN:VEVENT
DTSTART;TZID=Europe/Madrid:20260515T235900
DTEND;TZID=Europe/Madrid:20260516T060000
DTSTAMP:20260424T020535
CREATED:20260420T140001Z
LAST-MODIFIED:20260420T142818Z
UID:10001237-1778889540-1778911200@yastaclub.es
SUMMARY:MOOD POP Club
DESCRIPTION:MOOD POP Club \n«Fabulously alternative. A new pop music experience.” \nVuelve MOOD POP Club a lo grande\, con SONIKKU como DJ invitado para el próximo viernes 6 de Febrero en la Sala Yasta (Calle Valverde 10\, metro Gran Vía\, Chueca o Tribunal). \nSONIKKU\nTORVVIC\nCUERV0
URL:https://yastaclub.es/event/mood-pop-club-2/
LOCATION:Ya’sta Club\, Calle Valverde\, 10\, Madrid\, 28004\, España
CATEGORIES:LGTB 🏳️‍🌈
ATTACH;FMTTYPE=image/jpeg:https://yastaclub.es/wp-content/uploads/2026/01/670607659_18463082467096384_547857663776903976_n.jpg
END:VEVENT
BEGIN:VEVENT
DTSTART;TZID=Europe/Madrid:20260516T210000
DTEND;TZID=Europe/Madrid:20260516T230000
DTSTAMP:20260424T020535
CREATED:20251105T172253Z
LAST-MODIFIED:20260128T113248Z
UID:10001110-1778965200-1778972400@yastaclub.es
SUMMARY:El Gran Bingo Drag
DESCRIPTION:¿Estás preparadx para disfrutar del mejor Bingo de Madrid? \nImagínate a más de 500 personas jugando por llevarse una multitud de premios. Un bingo lleno de fiesta\, comedia\, juegos y por supuesto\, muchos pero muchísimos regalos… \nTe esperamos en la sala Yasta Club con las mejores Drags\, la mejor música y sobre todo mucha pero que mucha diversión. \nLa mejor party del fin de semana. ¡Trae a todxs tus amigxs y compite en este bingo tan loco! \nPresentado por: \n\nSugar Nelly\nChirstina Vergara\n\nEntradas anticipadas aquí.
URL:https://yastaclub.es/event/el-gran-bingo-drag-4/2026-05-16/
LOCATION:Ya’sta Club\, Calle Valverde\, 10\, Madrid\, 28004\, España
CATEGORIES:Drag Queen 👠,LGTB 🏳️‍🌈
ATTACH;FMTTYPE=image/webp:https://yastaclub.es/wp-content/uploads/2024/10/webp-2.webp
END:VEVENT
BEGIN:VEVENT
DTSTART;TZID=Europe/Madrid:20260516T235900
DTEND;TZID=Europe/Madrid:20260517T060000
DTSTAMP:20260424T020535
CREATED:20260422T133647Z
LAST-MODIFIED:20260422T133751Z
UID:10001169-1778975940-1778997600@yastaclub.es
SUMMARY:BearbiePOP
DESCRIPTION:La sesión POP de Bears por excelencia de Madrid llega a Ya’sta Club. \nTodos los sábados en Calle Valverde\, 10. \nConsigue aquí tu entrada anticipada por 2 copas por 15€ (hasta la 01:30\, después 1 copa).
URL:https://yastaclub.es/event/bearbiepop-18-17-2/2026-05-16/
LOCATION:Ya’sta Club\, Calle Valverde\, 10\, Madrid\, 28004\, España
CATEGORIES:Bear 🐻,LGTB 🏳️‍🌈
ATTACH;FMTTYPE=image/jpeg:https://yastaclub.es/wp-content/uploads/2025/12/bearbie-pop-2026.jpg
END:VEVENT
BEGIN:VEVENT
DTSTART;TZID=Europe/Madrid:20260523T210000
DTEND;TZID=Europe/Madrid:20260523T230000
DTSTAMP:20260424T020535
CREATED:20251105T172253Z
LAST-MODIFIED:20260128T113248Z
UID:10001111-1779570000-1779577200@yastaclub.es
SUMMARY:El Gran Bingo Drag
DESCRIPTION:¿Estás preparadx para disfrutar del mejor Bingo de Madrid? \nImagínate a más de 500 personas jugando por llevarse una multitud de premios. Un bingo lleno de fiesta\, comedia\, juegos y por supuesto\, muchos pero muchísimos regalos… \nTe esperamos en la sala Yasta Club con las mejores Drags\, la mejor música y sobre todo mucha pero que mucha diversión. \nLa mejor party del fin de semana. ¡Trae a todxs tus amigxs y compite en este bingo tan loco! \nPresentado por: \n\nSugar Nelly\nChirstina Vergara\n\nEntradas anticipadas aquí.
URL:https://yastaclub.es/event/el-gran-bingo-drag-4/2026-05-23/
LOCATION:Ya’sta Club\, Calle Valverde\, 10\, Madrid\, 28004\, España
CATEGORIES:Drag Queen 👠,LGTB 🏳️‍🌈
ATTACH;FMTTYPE=image/webp:https://yastaclub.es/wp-content/uploads/2024/10/webp-2.webp
END:VEVENT
BEGIN:VEVENT
DTSTART;TZID=Europe/Madrid:20260523T235900
DTEND;TZID=Europe/Madrid:20260524T060000
DTSTAMP:20260424T020535
CREATED:20260422T133647Z
LAST-MODIFIED:20260422T133751Z
UID:10001170-1779580740-1779602400@yastaclub.es
SUMMARY:BearbiePOP
DESCRIPTION:La sesión POP de Bears por excelencia de Madrid llega a Ya’sta Club. \nTodos los sábados en Calle Valverde\, 10. \nConsigue aquí tu entrada anticipada por 2 copas por 15€ (hasta la 01:30\, después 1 copa).
URL:https://yastaclub.es/event/bearbiepop-18-17-2/2026-05-23/
LOCATION:Ya’sta Club\, Calle Valverde\, 10\, Madrid\, 28004\, España
CATEGORIES:Bear 🐻,LGTB 🏳️‍🌈
ATTACH;FMTTYPE=image/jpeg:https://yastaclub.es/wp-content/uploads/2025/12/bearbie-pop-2026.jpg
END:VEVENT
BEGIN:VEVENT
DTSTART;TZID=Europe/Madrid:20260530T210000
DTEND;TZID=Europe/Madrid:20260530T230000
DTSTAMP:20260424T020535
CREATED:20251105T172253Z
LAST-MODIFIED:20260128T113248Z
UID:10001112-1780174800-1780182000@yastaclub.es
SUMMARY:El Gran Bingo Drag
DESCRIPTION:¿Estás preparadx para disfrutar del mejor Bingo de Madrid? \nImagínate a más de 500 personas jugando por llevarse una multitud de premios. Un bingo lleno de fiesta\, comedia\, juegos y por supuesto\, muchos pero muchísimos regalos… \nTe esperamos en la sala Yasta Club con las mejores Drags\, la mejor música y sobre todo mucha pero que mucha diversión. \nLa mejor party del fin de semana. ¡Trae a todxs tus amigxs y compite en este bingo tan loco! \nPresentado por: \n\nSugar Nelly\nChirstina Vergara\n\nEntradas anticipadas aquí.
URL:https://yastaclub.es/event/el-gran-bingo-drag-4/2026-05-30/
LOCATION:Ya’sta Club\, Calle Valverde\, 10\, Madrid\, 28004\, España
CATEGORIES:Drag Queen 👠,LGTB 🏳️‍🌈
ATTACH;FMTTYPE=image/webp:https://yastaclub.es/wp-content/uploads/2024/10/webp-2.webp
END:VEVENT
BEGIN:VEVENT
DTSTART;TZID=Europe/Madrid:20260530T235900
DTEND;TZID=Europe/Madrid:20260531T060000
DTSTAMP:20260424T020535
CREATED:20260422T133647Z
LAST-MODIFIED:20260422T133751Z
UID:10001171-1780185540-1780207200@yastaclub.es
SUMMARY:BearbiePOP
DESCRIPTION:La sesión POP de Bears por excelencia de Madrid llega a Ya’sta Club. \nTodos los sábados en Calle Valverde\, 10. \nConsigue aquí tu entrada anticipada por 2 copas por 15€ (hasta la 01:30\, después 1 copa).
URL:https://yastaclub.es/event/bearbiepop-18-17-2/2026-05-30/
LOCATION:Ya’sta Club\, Calle Valverde\, 10\, Madrid\, 28004\, España
CATEGORIES:Bear 🐻,LGTB 🏳️‍🌈
ATTACH;FMTTYPE=image/jpeg:https://yastaclub.es/wp-content/uploads/2025/12/bearbie-pop-2026.jpg
END:VEVENT
BEGIN:VEVENT
DTSTART;TZID=Europe/Madrid:20260606T210000
DTEND;TZID=Europe/Madrid:20260606T230000
DTSTAMP:20260424T020535
CREATED:20251105T172253Z
LAST-MODIFIED:20260128T113248Z
UID:10001113-1780779600-1780786800@yastaclub.es
SUMMARY:El Gran Bingo Drag
DESCRIPTION:¿Estás preparadx para disfrutar del mejor Bingo de Madrid? \nImagínate a más de 500 personas jugando por llevarse una multitud de premios. Un bingo lleno de fiesta\, comedia\, juegos y por supuesto\, muchos pero muchísimos regalos… \nTe esperamos en la sala Yasta Club con las mejores Drags\, la mejor música y sobre todo mucha pero que mucha diversión. \nLa mejor party del fin de semana. ¡Trae a todxs tus amigxs y compite en este bingo tan loco! \nPresentado por: \n\nSugar Nelly\nChirstina Vergara\n\nEntradas anticipadas aquí.
URL:https://yastaclub.es/event/el-gran-bingo-drag-4/2026-06-06/
LOCATION:Ya’sta Club\, Calle Valverde\, 10\, Madrid\, 28004\, España
CATEGORIES:Drag Queen 👠,LGTB 🏳️‍🌈
ATTACH;FMTTYPE=image/webp:https://yastaclub.es/wp-content/uploads/2024/10/webp-2.webp
END:VEVENT
BEGIN:VEVENT
DTSTART;TZID=Europe/Madrid:20260606T235900
DTEND;TZID=Europe/Madrid:20260607T060000
DTSTAMP:20260424T020535
CREATED:20260422T133647Z
LAST-MODIFIED:20260422T133751Z
UID:10001172-1780790340-1780812000@yastaclub.es
SUMMARY:BearbiePOP
DESCRIPTION:La sesión POP de Bears por excelencia de Madrid llega a Ya’sta Club. \nTodos los sábados en Calle Valverde\, 10. \nConsigue aquí tu entrada anticipada por 2 copas por 15€ (hasta la 01:30\, después 1 copa).
URL:https://yastaclub.es/event/bearbiepop-18-17-2/2026-06-06/
LOCATION:Ya’sta Club\, Calle Valverde\, 10\, Madrid\, 28004\, España
CATEGORIES:Bear 🐻,LGTB 🏳️‍🌈
ATTACH;FMTTYPE=image/jpeg:https://yastaclub.es/wp-content/uploads/2025/12/bearbie-pop-2026.jpg
END:VEVENT
BEGIN:VEVENT
DTSTART;TZID=Europe/Madrid:20260613T210000
DTEND;TZID=Europe/Madrid:20260613T230000
DTSTAMP:20260424T020535
CREATED:20251105T172253Z
LAST-MODIFIED:20260128T113248Z
UID:10001114-1781384400-1781391600@yastaclub.es
SUMMARY:El Gran Bingo Drag
DESCRIPTION:¿Estás preparadx para disfrutar del mejor Bingo de Madrid? \nImagínate a más de 500 personas jugando por llevarse una multitud de premios. Un bingo lleno de fiesta\, comedia\, juegos y por supuesto\, muchos pero muchísimos regalos… \nTe esperamos en la sala Yasta Club con las mejores Drags\, la mejor música y sobre todo mucha pero que mucha diversión. \nLa mejor party del fin de semana. ¡Trae a todxs tus amigxs y compite en este bingo tan loco! \nPresentado por: \n\nSugar Nelly\nChirstina Vergara\n\nEntradas anticipadas aquí.
URL:https://yastaclub.es/event/el-gran-bingo-drag-4/2026-06-13/
LOCATION:Ya’sta Club\, Calle Valverde\, 10\, Madrid\, 28004\, España
CATEGORIES:Drag Queen 👠,LGTB 🏳️‍🌈
ATTACH;FMTTYPE=image/webp:https://yastaclub.es/wp-content/uploads/2024/10/webp-2.webp
END:VEVENT
BEGIN:VEVENT
DTSTART;TZID=Europe/Madrid:20260613T235900
DTEND;TZID=Europe/Madrid:20260614T060000
DTSTAMP:20260424T020535
CREATED:20260422T133647Z
LAST-MODIFIED:20260422T133751Z
UID:10001173-1781395140-1781416800@yastaclub.es
SUMMARY:BearbiePOP
DESCRIPTION:La sesión POP de Bears por excelencia de Madrid llega a Ya’sta Club. \nTodos los sábados en Calle Valverde\, 10. \nConsigue aquí tu entrada anticipada por 2 copas por 15€ (hasta la 01:30\, después 1 copa).
URL:https://yastaclub.es/event/bearbiepop-18-17-2/2026-06-13/
LOCATION:Ya’sta Club\, Calle Valverde\, 10\, Madrid\, 28004\, España
CATEGORIES:Bear 🐻,LGTB 🏳️‍🌈
ATTACH;FMTTYPE=image/jpeg:https://yastaclub.es/wp-content/uploads/2025/12/bearbie-pop-2026.jpg
END:VEVENT
BEGIN:VEVENT
DTSTART;TZID=Europe/Madrid:20260620T210000
DTEND;TZID=Europe/Madrid:20260620T230000
DTSTAMP:20260424T020535
CREATED:20251105T172253Z
LAST-MODIFIED:20260128T113248Z
UID:10001115-1781989200-1781996400@yastaclub.es
SUMMARY:El Gran Bingo Drag
DESCRIPTION:¿Estás preparadx para disfrutar del mejor Bingo de Madrid? \nImagínate a más de 500 personas jugando por llevarse una multitud de premios. Un bingo lleno de fiesta\, comedia\, juegos y por supuesto\, muchos pero muchísimos regalos… \nTe esperamos en la sala Yasta Club con las mejores Drags\, la mejor música y sobre todo mucha pero que mucha diversión. \nLa mejor party del fin de semana. ¡Trae a todxs tus amigxs y compite en este bingo tan loco! \nPresentado por: \n\nSugar Nelly\nChirstina Vergara\n\nEntradas anticipadas aquí.
URL:https://yastaclub.es/event/el-gran-bingo-drag-4/2026-06-20/
LOCATION:Ya’sta Club\, Calle Valverde\, 10\, Madrid\, 28004\, España
CATEGORIES:Drag Queen 👠,LGTB 🏳️‍🌈
ATTACH;FMTTYPE=image/webp:https://yastaclub.es/wp-content/uploads/2024/10/webp-2.webp
END:VEVENT
BEGIN:VEVENT
DTSTART;TZID=Europe/Madrid:20260620T235900
DTEND;TZID=Europe/Madrid:20260621T060000
DTSTAMP:20260424T020535
CREATED:20260422T133647Z
LAST-MODIFIED:20260422T133751Z
UID:10001174-1781999940-1782021600@yastaclub.es
SUMMARY:BearbiePOP
DESCRIPTION:La sesión POP de Bears por excelencia de Madrid llega a Ya’sta Club. \nTodos los sábados en Calle Valverde\, 10. \nConsigue aquí tu entrada anticipada por 2 copas por 15€ (hasta la 01:30\, después 1 copa).
URL:https://yastaclub.es/event/bearbiepop-18-17-2/2026-06-20/
LOCATION:Ya’sta Club\, Calle Valverde\, 10\, Madrid\, 28004\, España
CATEGORIES:Bear 🐻,LGTB 🏳️‍🌈
ATTACH;FMTTYPE=image/jpeg:https://yastaclub.es/wp-content/uploads/2025/12/bearbie-pop-2026.jpg
END:VEVENT
BEGIN:VEVENT
DTSTART;TZID=Europe/Madrid:20260626T235500
DTEND;TZID=Europe/Madrid:20260627T060000
DTSTAMP:20260424T020535
CREATED:20260131T090410Z
LAST-MODIFIED:20260331T081020Z
UID:10001228-1782518100-1782540000@yastaclub.es
SUMMARY:AfterShowParty BTS - After Party BTS by Asian Party
DESCRIPTION:¡ARMY\, la noche no acaba con el concierto!\nEste 𝙑𝙞𝙚𝙧𝙣𝙚𝙨 𝟮𝟲 𝙙𝙚 𝙟𝙪𝙣𝙞𝙤\, prepárate para vivir la MEJOR AFTERSHOW PARTY más esperada de la temporada\, organizada por el equipo de ASIAN PARTY🔥 \nUna 𝙛𝙞𝙚𝙨𝙩𝙖 𝙥𝙚𝙣𝙨𝙖𝙙𝙖 𝙚𝙨𝙥𝙚𝙘𝙞𝙖𝙡𝙢𝙚𝙣𝙩𝙚 𝙥𝙖𝙧𝙖 𝙡𝙤𝙨 𝙛𝙖𝙣𝙨 con una experiencia completa por todo lo alto: los mejores temazos\, luces\, light-shows\, pantalla gigante y un ambiente inmejorable.💥\n¡Madrid se enciende con ARMY!💜 \n⚠️ 𝙀𝙣𝙩𝙧𝙖𝙙𝙖𝙨 𝙖 𝙡𝙖 𝙫𝙚𝙣𝙩𝙖 𝙃𝙊𝙔 𝟭𝟱:𝟬𝟬 desde el enlace de nuestra bio. ¡𝘼𝙛𝙤𝙧𝙤 𝙡𝙞𝙢𝙞𝙩𝙖𝙙𝙤! Si se agotan online 𝙉𝙊 habrá en taquilla ⚠️ \n👇 𝘿𝙀𝙏𝘼𝙇𝙇𝙀𝙎 𝘿𝙀𝙇 𝙀𝙑𝙀𝙉𝙏𝙊:\n📅 Viernes 26 de Junio (𝙣𝙤𝙘𝙝𝙚 𝙙𝙚𝙡 𝙘𝙤𝙣𝙘𝙞𝙚𝙧𝙩𝙤)\n⏰ Desde las 23:59\n📍 Lugar: Sala Ya’sta (C/ Valverde 10\, Madrid) \, comunicación directa desde el concierto\, menos de 5 min desde Gran Vía/Sol/Plaza España\n🔞 Acceso +18\n🎟️ 𝙀𝙣𝙩𝙧𝙖𝙙𝙖𝙨 𝙖𝙣𝙩𝙞𝙘𝙞𝙥𝙖𝙙𝙖𝙨: desde 10€ en nuestra web con consumición incluida / Ofertas para los primeros en comprar.\n🎟️ 𝙀𝙣𝙩𝙧𝙖𝙙𝙖𝙨 𝙚𝙣 𝙩𝙖𝙦𝙪𝙞𝙡𝙡𝙖: (si quedasen): 20€ con una consumición incluida\n🎧 Música por los DJs residentes de Asian Party\n🎁 Regalos y sorteos\n📸 Photocall y animación\n💜Setlist especial con mejores temazos de BTS\n🖥️ Pantalla gigante para ver los MVs\n🕺 Escenario de baile\n🥂 Reservados VIP disponibles\n💥Y muchas sorpresas más \n¡No te pierdas la mejor noche K-POP del verano en Madrid! \n𝑨𝑹𝑴𝒀 𝙁𝘼𝙈𝙄𝙇𝙔… 𝙀𝙎𝙏𝘼 𝙀𝙎 𝙑𝙐𝙀𝙎𝙏𝙍𝘼 𝙉𝙊𝘾𝙃𝙀🔥\nWe are the K-POP revolution🪭 \n#BTSMadrid #BTSSpain #KPOPSpain #KPOPMadrid #AsianParty \n\n19 h
URL:https://yastaclub.es/event/aftershowparty-bts-after-party-bts-by-asian-party/
LOCATION:Ya’sta Club\, Calle Valverde\, 10\, Madrid\, 28004\, España
CATEGORIES:After Party,Asian,KPop
ATTACH;FMTTYPE=image/jpeg:https://yastaclub.es/wp-content/uploads/2026/01/625872556_18442202005105177_6628178217638004753_n.jpg
END:VEVENT
BEGIN:VEVENT
DTSTART;TZID=Europe/Madrid:20260627T210000
DTEND;TZID=Europe/Madrid:20260627T230000
DTSTAMP:20260424T020535
CREATED:20251105T172253Z
LAST-MODIFIED:20260128T113248Z
UID:10001116-1782594000-1782601200@yastaclub.es
SUMMARY:El Gran Bingo Drag
DESCRIPTION:¿Estás preparadx para disfrutar del mejor Bingo de Madrid? \nImagínate a más de 500 personas jugando por llevarse una multitud de premios. Un bingo lleno de fiesta\, comedia\, juegos y por supuesto\, muchos pero muchísimos regalos… \nTe esperamos en la sala Yasta Club con las mejores Drags\, la mejor música y sobre todo mucha pero que mucha diversión. \nLa mejor party del fin de semana. ¡Trae a todxs tus amigxs y compite en este bingo tan loco! \nPresentado por: \n\nSugar Nelly\nChirstina Vergara\n\nEntradas anticipadas aquí.
URL:https://yastaclub.es/event/el-gran-bingo-drag-4/2026-06-27/
LOCATION:Ya’sta Club\, Calle Valverde\, 10\, Madrid\, 28004\, España
CATEGORIES:Drag Queen 👠,LGTB 🏳️‍🌈
ATTACH;FMTTYPE=image/webp:https://yastaclub.es/wp-content/uploads/2024/10/webp-2.webp
END:VEVENT
BEGIN:VEVENT
DTSTART;TZID=Europe/Madrid:20260627T235900
DTEND;TZID=Europe/Madrid:20260628T060000
DTSTAMP:20260424T020535
CREATED:20260422T133647Z
LAST-MODIFIED:20260422T133751Z
UID:10001175-1782604740-1782626400@yastaclub.es
SUMMARY:BearbiePOP
DESCRIPTION:La sesión POP de Bears por excelencia de Madrid llega a Ya’sta Club. \nTodos los sábados en Calle Valverde\, 10. \nConsigue aquí tu entrada anticipada por 2 copas por 15€ (hasta la 01:30\, después 1 copa).
URL:https://yastaclub.es/event/bearbiepop-18-17-2/2026-06-27/
LOCATION:Ya’sta Club\, Calle Valverde\, 10\, Madrid\, 28004\, España
CATEGORIES:Bear 🐻,LGTB 🏳️‍🌈
ATTACH;FMTTYPE=image/jpeg:https://yastaclub.es/wp-content/uploads/2025/12/bearbie-pop-2026.jpg
END:VEVENT
BEGIN:VEVENT
DTSTART;TZID=Europe/Madrid:20260704T210000
DTEND;TZID=Europe/Madrid:20260704T230000
DTSTAMP:20260424T020535
CREATED:20251105T172253Z
LAST-MODIFIED:20260128T113248Z
UID:10001117-1783198800-1783206000@yastaclub.es
SUMMARY:El Gran Bingo Drag
DESCRIPTION:¿Estás preparadx para disfrutar del mejor Bingo de Madrid? \nImagínate a más de 500 personas jugando por llevarse una multitud de premios. Un bingo lleno de fiesta\, comedia\, juegos y por supuesto\, muchos pero muchísimos regalos… \nTe esperamos en la sala Yasta Club con las mejores Drags\, la mejor música y sobre todo mucha pero que mucha diversión. \nLa mejor party del fin de semana. ¡Trae a todxs tus amigxs y compite en este bingo tan loco! \nPresentado por: \n\nSugar Nelly\nChirstina Vergara\n\nEntradas anticipadas aquí.
URL:https://yastaclub.es/event/el-gran-bingo-drag-4/2026-07-04/
LOCATION:Ya’sta Club\, Calle Valverde\, 10\, Madrid\, 28004\, España
CATEGORIES:Drag Queen 👠,LGTB 🏳️‍🌈
ATTACH;FMTTYPE=image/webp:https://yastaclub.es/wp-content/uploads/2024/10/webp-2.webp
END:VEVENT
BEGIN:VEVENT
DTSTART;TZID=Europe/Madrid:20260704T235900
DTEND;TZID=Europe/Madrid:20260705T060000
DTSTAMP:20260424T020535
CREATED:20260422T133647Z
LAST-MODIFIED:20260422T133751Z
UID:10001176-1783209540-1783231200@yastaclub.es
SUMMARY:BearbiePOP
DESCRIPTION:La sesión POP de Bears por excelencia de Madrid llega a Ya’sta Club. \nTodos los sábados en Calle Valverde\, 10. \nConsigue aquí tu entrada anticipada por 2 copas por 15€ (hasta la 01:30\, después 1 copa).
URL:https://yastaclub.es/event/bearbiepop-18-17-2/2026-07-04/
LOCATION:Ya’sta Club\, Calle Valverde\, 10\, Madrid\, 28004\, España
CATEGORIES:Bear 🐻,LGTB 🏳️‍🌈
ATTACH;FMTTYPE=image/jpeg:https://yastaclub.es/wp-content/uploads/2025/12/bearbie-pop-2026.jpg
END:VEVENT
END:VCALENDAR