BEGIN:VCALENDAR
VERSION:2.0
PRODID:-//Ya&#039;sta Club - ECPv6.15.20//NONSGML v1.0//EN
CALSCALE:GREGORIAN
METHOD:PUBLISH
X-WR-CALNAME:Ya&#039;sta Club
X-ORIGINAL-URL:https://yastaclub.es
X-WR-CALDESC:Eventos para Ya&#039;sta Club
REFRESH-INTERVAL;VALUE=DURATION:PT1H
X-Robots-Tag:noindex
X-PUBLISHED-TTL:PT1H
BEGIN:VTIMEZONE
TZID:UTC
BEGIN:STANDARD
TZOFFSETFROM:+0000
TZOFFSETTO:+0000
TZNAME:UTC
DTSTART:20210101T000000
END:STANDARD
END:VTIMEZONE
BEGIN:VEVENT
DTSTART;TZID=UTC:20221001T235900
DTEND;TZID=UTC:20221002T060000
DTSTAMP:20260420T234548
CREATED:20220929T184500Z
LAST-MODIFIED:20220929T184500Z
UID:10000305-1664668740-1664690400@yastaclub.es
SUMMARY:Bearbie Pop + Bear Sound
DESCRIPTION:¡Este sábado! \n@bearbie_oficial + @bearsound_spain \nSin anticipadas. Sólo en taquilla. ¡Os esperamos! \nPróximos eventos en yastaclub.es
URL:https://yastaclub.es/event/bearbie-pop-bear-sound-01-10-2022/
LOCATION:Ya’sta Club\, Calle Valverde\, 10\, Madrid\, 28004\, España
CATEGORIES:Bear 🐻,Drag Queen 👠,LGTB 🏳️‍🌈
ATTACH;FMTTYPE=image/jpeg:https://yastaclub.es/wp-content/uploads/2022/09/308918933_176457564932831_7739832555971389314_n.jpg
END:VEVENT
BEGIN:VEVENT
DTSTART;TZID=UTC:20221006T235500
DTEND;TZID=UTC:20221007T060000
DTSTAMP:20260420T234548
CREATED:20221005T105956Z
LAST-MODIFIED:20221005T110847Z
UID:10000306-1665100500-1665122400@yastaclub.es
SUMMARY:Juerga Party - Reggaeton\, Pop & Hits
DESCRIPTION:¡NOCHE DE JUERGA! 🔥💦 – Regueaton y POP HITS 😈 \nTus noches no volverán a ser igual luego de la inauguración de JUERGA 🔥❤️‍🔥 POWERED by SCRUFF \nEl perreo intenso llegará el próximo jueves 6 de octubre a la sala YASTA (C/ Valverde\, 10) 💥💥 Prepara tus pasos prohibidos porque tendremos: ➡️ competencia de TWERK🍑\, juegos 🎉\, bailoteo 💃🏽y mucha diversión 🥳. NOS VEMOS EN JUERGA 💥🐾\n.\nDRAGS: NINA DE LOPEZ / GLORYA HOLE\n.\nGOGO: DAVID LACRUZ\n.\nDJ SET:\nDRAMMA D’ONORE\nANA FARELO\nVICTOR PÁEZ\n.\nEntrada gratis de 00:00h a 01:00h 10€ hasta las 02:00h y 12€ hasta el cierre🔥💦 \nEntradas:
URL:https://yastaclub.es/event/juerga-party-reggaeton-pop-hits-6-de-octubre-2022/
LOCATION:Ya’sta Club\, Calle Valverde\, 10\, Madrid\, 28004\, España
CATEGORIES:Drag Queen 👠,LGTB 🏳️‍🌈
ATTACH;FMTTYPE=image/jpeg:https://yastaclub.es/wp-content/uploads/2022/10/WhatsApp-Image-2022-09-29-at-17.38.31.jpeg
END:VEVENT
BEGIN:VEVENT
DTSTART;TZID=UTC:20221007T235500
DTEND;TZID=UTC:20221008T060000
DTSTAMP:20260420T234548
CREATED:20221005T110107Z
LAST-MODIFIED:20221005T110259Z
UID:10000307-1665186900-1665208800@yastaclub.es
SUMMARY:Bearbie Sound (sesión House)
DESCRIPTION:Este viernes tenemos @bearbie_oficial + @bearsound_spain edición HOUSE 🎧 \nCon @myprojectdj y @chechuibizadj en cabina. \nNo hay anticipadas. Sólo en taquilla. ¡Ven pronto para asegurar entrada y las dos copas! \nResto de eventos en yastaclub.es
URL:https://yastaclub.es/event/bearbie-sound-sesion-house-viernes-7-octubre-2022/
LOCATION:Ya’sta Club\, Calle Valverde\, 10\, Madrid\, 28004\, España
ATTACH;FMTTYPE=image/jpeg:https://yastaclub.es/wp-content/uploads/2022/10/310423294_624961019218009_5330669451687163979_n.jpg
END:VEVENT
BEGIN:VEVENT
DTSTART;TZID=UTC:20221007T235500
DTEND;TZID=UTC:20221008T060000
DTSTAMP:20260420T234548
CREATED:20221005T110205Z
LAST-MODIFIED:20221005T110238Z
UID:10000308-1665186900-1665208800@yastaclub.es
SUMMARY:Bearbie Pop
DESCRIPTION:Este viernes tenemos @bearbie_oficial + @bearsound_spain edición POP 🎧 \nCon @agustinquerol_dj y @loloflowersdj en cabina. \nY en el escenario\, a @donnamdnn y @tiffany.lumberjack 👠 \nNo hay anticipadas. Sólo en taquilla. ¡Ven pronto para asegurar entrada y las dos copas! \nResto de eventos en yastaclub.es
URL:https://yastaclub.es/event/bearbie-pop-sabado-8-octubre-2022/
LOCATION:Ya’sta Club\, Calle Valverde\, 10\, Madrid\, 28004\, España
CATEGORIES:Bear 🐻,Drag Queen 👠,LGTB 🏳️‍🌈
ATTACH;FMTTYPE=image/jpeg:https://yastaclub.es/wp-content/uploads/2022/10/310827314_194159446362796_6078043751363463700_n.jpg
END:VEVENT
BEGIN:VEVENT
DTSTART;TZID=UTC:20221011T235500
DTEND;TZID=UTC:20221012T060000
DTSTAMP:20260420T234548
CREATED:20221005T111942Z
LAST-MODIFIED:20221005T111942Z
UID:10000312-1665532500-1665554400@yastaclub.es
SUMMARY:Primas Bar 2º aniversario
DESCRIPTION:🌟#Primas Celebra su 2º aniversario🌟 \n🗓️11 – 10 – 2022 \n📍Sala @yastaclublgtb \nContaremos con la final de La Prima del año. Además estarán presentes #LasSuperPrimas (@mikabitchoficial @soylablondy y @sobredosis_gonzalez) \nTodo ello con la mejor música que será a cargo de @carlossalinasdj y @xabiraindj \nOs esperamos a todxs en esta maravillosa fiesta de celebración con muchas sorpresas y la familia Primas que en estos dos años nos habéis acompañado. \nGracias a @bearbiepop por este espacio.
URL:https://yastaclub.es/event/primas-bar-2o-aniversario/
LOCATION:Ya’sta Club\, Calle Valverde\, 10\, Madrid\, 28004\, España
CATEGORIES:Drag Queen 👠,LGTB 🏳️‍🌈
ATTACH;FMTTYPE=image/jpeg:https://yastaclub.es/wp-content/uploads/2022/10/310691871_610025754185333_7923955250684815538_n.jpg
END:VEVENT
BEGIN:VEVENT
DTSTART;TZID=UTC:20221014T235500
DTEND;TZID=UTC:20221015T060000
DTSTAMP:20260420T234548
CREATED:20221005T111522Z
LAST-MODIFIED:20221005T111522Z
UID:10000309-1665791700-1665813600@yastaclub.es
SUMMARY:Las Niñas - Purgatorio
DESCRIPTION:
URL:https://yastaclub.es/event/las-ninas-purgatorio/
LOCATION:Ya’sta Club\, Calle Valverde\, 10\, Madrid\, 28004\, España
CATEGORIES:Drag Queen 👠,LGTB 🏳️‍🌈
ATTACH;FMTTYPE=image/jpeg:https://yastaclub.es/wp-content/uploads/2022/10/WhatsApp-Image-2022-10-05-at-14.09.19-1.jpeg
END:VEVENT
BEGIN:VEVENT
DTSTART;TZID=UTC:20221015T235500
DTEND;TZID=UTC:20221016T060000
DTSTAMP:20260420T234548
CREATED:20221005T111804Z
LAST-MODIFIED:20221011T192417Z
UID:10000310-1665878100-1665900000@yastaclub.es
SUMMARY:Bearbie Pop
DESCRIPTION:
URL:https://yastaclub.es/event/bearbie-pop-15-10-2022/
LOCATION:Ya’sta Club\, Calle Valverde\, 10\, Madrid\, 28004\, España
CATEGORIES:Bear 🐻,Drag Queen 👠,LGTB 🏳️‍🌈
ATTACH;FMTTYPE=image/jpeg:https://yastaclub.es/wp-content/uploads/2022/10/InShot_20221011_175354344.jpg
END:VEVENT
BEGIN:VEVENT
DTSTART;TZID=UTC:20221021T235500
DTEND;TZID=UTC:20221022T060000
DTSTAMP:20260420T234548
CREATED:20220924T191228Z
LAST-MODIFIED:20221017T135903Z
UID:10000304-1666396500-1666418400@yastaclub.es
SUMMARY:Roar Party - Dragonas del más allá (especial Halloween)
DESCRIPTION:¡Pues ya estamos todxs!\nOs esperamos el próximo viernes en ROAR PARTY: Dragonas del más allá con unos shows muy paranormales 🔮😈 y con el mismo ambiente genial de siempre. \nEn nuestro escenario:\n🔮 Europa Vestidero\n🔮 Aurah Sin\n🔮 Satanasa\n🔮 Alakrana\n🔮 Gades \nEn cabina con bien de Pop\, Reggaeton & Hits 🤭: \n🎧 Xabi Rain\n🎧 El Nido DJ Group\n🎧 Jaime Caballitos \n¡Os esperamos! \n🥃 chupitos GRATIS\n🍾 ofertas de cumpleaños \n📍 Ya’sta Club (Calle Valverde\, 10\, Madrid) \n@yastaclublgtb
URL:https://yastaclub.es/event/roar-party-dragonas-del-mas-alla-especial-halloween-21-octubre-2022/
LOCATION:Ya’sta Club\, Calle Valverde\, 10\, Madrid\, 28004\, España
CATEGORIES:Drag Queen 👠,LGTB 🏳️‍🌈
ATTACH;FMTTYPE=image/jpeg:https://yastaclub.es/wp-content/uploads/2022/10/WhatsApp-Image-2022-10-11-at-01.19.31.jpeg
END:VEVENT
BEGIN:VEVENT
DTSTART;TZID=UTC:20221022T235900
DTEND;TZID=UTC:20221023T060000
DTSTAMP:20260420T234548
CREATED:20221017T102919Z
LAST-MODIFIED:20221017T103046Z
UID:10000313-1666483140-1666504800@yastaclub.es
SUMMARY:SoulStep
DESCRIPTION:Calling all DNB Heads!\n.\nSe nos sale el alma del cuerpo por la alegría que nos causa anunciaros que el próximo SÁBADO 22 de Octubre de 2022 celebraremos un SOULSTEP ALL STARS\n.\nJunto a todos los djs de SoulStep (Inertia\, Rubén G y Nightwalker) estará nuestro queridísimo MOA.\n.\nEl hijo prodigo de Mad Bass vuelve a la capital para ponerse a los mandos de la que siempre ha sido su casa.\n.\nNo hace falta que os hablemos de su trayectoria musical pues es uno de los veteranos de la escena dnb de la capital.\nPor si acaso\, te dejamos su soundcloud para que le pegues una escucha y empieces a moverte:\n.\n\n.\nAsí que sin más florituras\, lo único que nos queda decirte es que toda la familia SoulStep te espera para poder pasar una noche épica.\n.\nSoulStep All Stars promete no dejarte indiferente.\n.\n🗓️Sábado 22 de Octubre de 2022\n🕐 23:59h\n📍Sala Ya’sta (Calle Valverde 10)\n🎫
URL:https://yastaclub.es/event/soulstep-22-10-2022/
LOCATION:Ya’sta Club\, Calle Valverde\, 10\, Madrid\, 28004\, España
CATEGORIES:Drum n Bass
ATTACH;FMTTYPE=image/jpeg:https://yastaclub.es/wp-content/uploads/2022/10/WhatsApp-Image-2022-10-14-at-14.49.53.jpeg
END:VEVENT
BEGIN:VEVENT
DTSTART;TZID=UTC:20221028T230000
DTEND;TZID=UTC:20221029T060000
DTSTAMP:20260420T234548
CREATED:20221017T182501Z
LAST-MODIFIED:20221017T182501Z
UID:10000314-1666998000-1667023200@yastaclub.es
SUMMARY:Asian Party
DESCRIPTION:
URL:https://yastaclub.es/event/asian-party-28-10-2022/
LOCATION:Ya’sta Club\, Calle Valverde\, 10\, Madrid\, 28004\, España
CATEGORIES:Asian,KPop
ATTACH;FMTTYPE=image/png:https://yastaclub.es/wp-content/uploads/2022/04/28616873_349995828818480_7591261538816615985_o.png
END:VEVENT
BEGIN:VEVENT
DTSTART;TZID=UTC:20221029T235500
DTEND;TZID=UTC:20221030T060000
DTSTAMP:20260420T234548
CREATED:20221005T111836Z
LAST-MODIFIED:20221025T050003Z
UID:10000311-1667087700-1667109600@yastaclub.es
SUMMARY:Bearbie Pop
DESCRIPTION:
URL:https://yastaclub.es/event/bearbie-pop-29-10-2022/
LOCATION:Ya’sta Club\, Calle Valverde\, 10\, Madrid\, 28004\, España
CATEGORIES:Bear 🐻,Drag Queen 👠,LGTB 🏳️‍🌈
ATTACH;FMTTYPE=image/jpeg:https://yastaclub.es/wp-content/uploads/2022/10/WhatsApp-Image-2022-10-24-at-19.32.46.jpeg
END:VEVENT
BEGIN:VEVENT
DTSTART;TZID=UTC:20221030T235500
DTEND;TZID=UTC:20221031T060000
DTSTAMP:20260420T234548
CREATED:20221020T141816Z
LAST-MODIFIED:20221025T050007Z
UID:10000317-1667174100-1667196000@yastaclub.es
SUMMARY:Bearbie Pop
DESCRIPTION:
URL:https://yastaclub.es/event/bearbie-pop-30-10-2022/
LOCATION:Ya’sta Club\, Calle Valverde\, 10\, Madrid\, 28004\, España
CATEGORIES:Bear 🐻,Drag Queen 👠,LGTB 🏳️‍🌈
ATTACH;FMTTYPE=image/jpeg:https://yastaclub.es/wp-content/uploads/2022/10/WhatsApp-Image-2022-10-24-at-19.33.17.jpeg
END:VEVENT
BEGIN:VEVENT
DTSTART;TZID=UTC:20221031T235500
DTEND;TZID=UTC:20221101T060000
DTSTAMP:20260420T234548
CREATED:20221020T141851Z
LAST-MODIFIED:20221025T050017Z
UID:10000318-1667260500-1667282400@yastaclub.es
SUMMARY:Bearbie Pop especial Halloween (víspera de festivo)
DESCRIPTION:
URL:https://yastaclub.es/event/bearbie-pop-halloween-2022/
LOCATION:Ya’sta Club\, Calle Valverde\, 10\, Madrid\, 28004\, España
CATEGORIES:Bear 🐻,Drag Queen 👠,LGTB 🏳️‍🌈
ATTACH;FMTTYPE=image/jpeg:https://yastaclub.es/wp-content/uploads/2022/10/WhatsApp-Image-2022-10-24-at-19.34.12.jpeg
END:VEVENT
END:VCALENDAR