BEGIN:VCALENDAR
VERSION:2.0
PRODID:-//Ya&#039;sta Club - ECPv6.15.20//NONSGML v1.0//EN
CALSCALE:GREGORIAN
METHOD:PUBLISH
X-ORIGINAL-URL:https://yastaclub.es
X-WR-CALDESC:Eventos para Ya&#039;sta Club
REFRESH-INTERVAL;VALUE=DURATION:PT1H
X-Robots-Tag:noindex
X-PUBLISHED-TTL:PT1H
BEGIN:VTIMEZONE
TZID:UTC
BEGIN:STANDARD
TZOFFSETFROM:+0000
TZOFFSETTO:+0000
TZNAME:UTC
DTSTART:20210101T000000
END:STANDARD
END:VTIMEZONE
BEGIN:VEVENT
DTSTART;VALUE=DATE:20220701
DTEND;VALUE=DATE:20220703
DTSTAMP:20260422T040043
CREATED:20220531T043550Z
LAST-MODIFIED:20220627T190958Z
UID:10000271-1656655200-1656741599@yastaclub.es
SUMMARY:Be Fresh Festival - Con Bimini Bon-Boulash
DESCRIPTION:@befreshfestival viene potente este viernes en @yastaclublgtb 👠✨ \nCon:\n• BIMINI -único show en España-\n• @francisjenkinsz\n• @laca.udilla\n• @akayenesi\n• @yosoylagades\n• @epicsotiri\n• @shanilasanta\n• @domishameless\n• @aitortillacc\n• @monsieurblaya \nDe 0:00 a 6:00 ✨\nAnticipadas en yastaclub.es/entradas. \nArt by @viyusgi
URL:https://yastaclub.es/event/be-fresh-festival-con-bimini-bon-boulash/
LOCATION:Ya’sta Club\, Calle Valverde\, 10\, Madrid\, 28004\, España
CATEGORIES:Drag Queen 👠,LGTB 🏳️‍🌈
ATTACH;FMTTYPE=image/jpeg:https://yastaclub.es/wp-content/uploads/2022/05/281668709_796713867973797_6691978822478979846_n.jpg
END:VEVENT
BEGIN:VEVENT
DTSTART;VALUE=DATE:20220702
DTEND;VALUE=DATE:20220704
DTSTAMP:20260422T040043
CREATED:20220627T190600Z
LAST-MODIFIED:20220627T190600Z
UID:10000285-1656741600-1656827999@yastaclub.es
SUMMARY:Bearbie + Bear Sound
DESCRIPTION:
URL:https://yastaclub.es/event/bearbie-bear-sound-10/
LOCATION:Ya’sta Club\, Calle Valverde\, 10\, Madrid\, 28004\, España
CATEGORIES:Bear 🐻,LGTB 🏳️‍🌈
ATTACH;FMTTYPE=image/png:https://yastaclub.es/wp-content/uploads/2022/06/bearbie-bear-sound-2022.png
END:VEVENT
BEGIN:VEVENT
DTSTART;TZID=UTC:20220703T190000
DTEND;TZID=UTC:20220703T233000
DTSTAMP:20260422T040043
CREATED:20220627T190424Z
LAST-MODIFIED:20220627T190503Z
UID:10000284-1656874800-1656891000@yastaclub.es
SUMMARY:Gala Reina Drag - Gran Final
DESCRIPTION:
URL:https://yastaclub.es/event/gala-reina-drag-gran-final/
LOCATION:Ya’sta Club\, Calle Valverde\, 10\, Madrid\, 28004\, España
CATEGORIES:Drag Queen 👠,LGTB 🏳️‍🌈
ATTACH;FMTTYPE=image/jpeg:https://yastaclub.es/wp-content/uploads/2022/06/WhatsApp-Image-2022-06-24-at-10.07.05-PM.jpeg
END:VEVENT
BEGIN:VEVENT
DTSTART;TZID=UTC:20220703T235900
DTEND;TZID=UTC:20220704T060000
DTSTAMP:20260422T040043
CREATED:20220616T041232Z
LAST-MODIFIED:20220616T125722Z
UID:10000282-1656892740-1656914400@yastaclub.es
SUMMARY:Dragonas Party - Con Choriza May
DESCRIPTION:
URL:https://yastaclub.es/event/dragonas-party-con-choriza-may/
LOCATION:Ya’sta Club\, Calle Valverde\, 10\, Madrid\, 28004\, España
CATEGORIES:Drag Queen 👠,LGTB 🏳️‍🌈,Pride 2022
ATTACH;FMTTYPE=image/jpeg:https://yastaclub.es/wp-content/uploads/2022/06/288068724_698250134606652_668415222833853545_n-1.jpg
END:VEVENT
BEGIN:VEVENT
DTSTART;VALUE=DATE:20220705
DTEND;VALUE=DATE:20220707
DTSTAMP:20260422T040043
CREATED:20220531T044207Z
LAST-MODIFIED:20220609T125845Z
UID:10000272-1657000800-1657087199@yastaclub.es
SUMMARY:Las Bingueras XXL
DESCRIPTION:La edición especial de este #Orgullo2022 de @lasbingueras llega el próximo día 5 de Julio 👋👋👋👋 \nTe lo vas a perder?🎉 \nSabemos que no !!! Nos lo has pedido y aquí te montamos una fiesta con decenas de premios!!!\nCon las artistas de siempre\n👠@yosoylachari\n👠@tiffany.lumberjack\nY la presentación en Madrid de 💖@marpower_oficial \nHosted by REINA 👑 \nAdemás\, tenemos aún una sorpresa más que darte. Para que la versión XXL sea aún más redonda!!! 💥
URL:https://yastaclub.es/event/las-bingueras-xxl/
LOCATION:Ya’sta Club\, Calle Valverde\, 10\, Madrid\, 28004\, España
CATEGORIES:Drag Queen 👠,LGTB 🏳️‍🌈
END:VEVENT
BEGIN:VEVENT
DTSTART;VALUE=DATE:20220708
DTEND;VALUE=DATE:20220710
DTSTAMP:20260422T040043
CREATED:20220531T043521Z
LAST-MODIFIED:20220616T125642Z
UID:10000270-1657260000-1657346399@yastaclub.es
SUMMARY:ROAR Pride - Con Sagittaria
DESCRIPTION:
URL:https://yastaclub.es/event/roar-pride-con-sagittaria/
LOCATION:Ya’sta Club\, Calle Valverde\, 10\, Madrid\, 28004\, España
CATEGORIES:Drag Queen 👠,LGTB 🏳️‍🌈
ATTACH;FMTTYPE=image/jpeg:https://yastaclub.es/wp-content/uploads/2022/05/WhatsApp-Image-2022-06-16-at-12.57.49-AM.jpeg
END:VEVENT
BEGIN:VEVENT
DTSTART;TZID=UTC:20220709T235500
DTEND;TZID=UTC:20220710T060000
DTSTAMP:20260422T040043
CREATED:20220627T190836Z
LAST-MODIFIED:20220627T190836Z
UID:10000286-1657410900-1657432800@yastaclub.es
SUMMARY:Bearbie + Bear Sound
DESCRIPTION:
URL:https://yastaclub.es/event/bearbie-bear-sound-12/
LOCATION:Ya’sta Club\, Calle Valverde\, 10\, Madrid\, 28004\, España
CATEGORIES:Bear 🐻,LGTB 🏳️‍🌈
ATTACH;FMTTYPE=image/png:https://yastaclub.es/wp-content/uploads/2022/06/bearbie-bear-sound-2022.png
END:VEVENT
BEGIN:VEVENT
DTSTART;VALUE=DATE:20220710
DTEND;VALUE=DATE:20220712
DTSTAMP:20260422T040043
CREATED:20220709T105857Z
LAST-MODIFIED:20220709T105857Z
UID:10000288-1657432800-1657519199@yastaclub.es
SUMMARY:HOT
DESCRIPTION:
URL:https://yastaclub.es/event/hot/
LOCATION:Ya’sta Club\, Calle Valverde\, 10\, Madrid\, 28004\, España
CATEGORIES:Bear 🐻,LGTB 🏳️‍🌈
ATTACH;FMTTYPE=image/jpeg:https://yastaclub.es/wp-content/uploads/2022/06/WhatsApp-Image-2022-06-12-at-12.07.56-AM.jpeg
END:VEVENT
BEGIN:VEVENT
DTSTART;VALUE=DATE:20220716
DTEND;VALUE=DATE:20220718
DTSTAMP:20260422T040043
CREATED:20220714T070446Z
LAST-MODIFIED:20220714T070446Z
UID:10000289-1657951200-1658037599@yastaclub.es
SUMMARY:Bearbie + Bear Sound
DESCRIPTION:
URL:https://yastaclub.es/event/bearbie-bear-sound-13/
LOCATION:Ya’sta Club\, Calle Valverde\, 10\, Madrid\, 28004\, España
CATEGORIES:Bear 🐻,Drag Queen 👠,LGTB 🏳️‍🌈
ATTACH;FMTTYPE=image/jpeg:https://yastaclub.es/wp-content/uploads/2022/07/292945453_538840451367696_8457704710549142252_n.jpg
END:VEVENT
BEGIN:VEVENT
DTSTART;VALUE=DATE:20220722
DTEND;VALUE=DATE:20220724
DTSTAMP:20260422T040043
CREATED:20220714T070605Z
LAST-MODIFIED:20220714T070605Z
UID:10000290-1658469600-1658555999@yastaclub.es
SUMMARY:The Gathering
DESCRIPTION:
URL:https://yastaclub.es/event/the-gathering-2/
LOCATION:Ya’sta Club\, Calle Valverde\, 10\, Madrid\, 28004\, España
ATTACH;FMTTYPE=image/jpeg:https://yastaclub.es/wp-content/uploads/2022/07/292186707_5677867872246190_8540097248409780657_n.jpg
END:VEVENT
BEGIN:VEVENT
DTSTART;VALUE=DATE:20220723
DTEND;VALUE=DATE:20220725
DTSTAMP:20260422T040043
CREATED:20220709T105700Z
LAST-MODIFIED:20220709T105700Z
UID:10000287-1658556000-1658642399@yastaclub.es
SUMMARY:SoulStep
DESCRIPTION:
URL:https://yastaclub.es/event/soulstep/
LOCATION:Ya’sta Club\, Calle Valverde\, 10\, Madrid\, 28004\, España
CATEGORIES:Drum n Bass
ATTACH;FMTTYPE=image/jpeg:https://yastaclub.es/wp-content/uploads/2022/07/WhatsApp-Image-2022-07-09-at-2.40.50-PM.jpeg
END:VEVENT
END:VCALENDAR