BEGIN:VCALENDAR
VERSION:2.0
PRODID:-//Ya&#039;sta Club - ECPv6.15.20//NONSGML v1.0//EN
CALSCALE:GREGORIAN
METHOD:PUBLISH
X-ORIGINAL-URL:https://yastaclub.es
X-WR-CALDESC:Eventos para Ya&#039;sta Club
REFRESH-INTERVAL;VALUE=DURATION:PT1H
X-Robots-Tag:noindex
X-PUBLISHED-TTL:PT1H
BEGIN:VTIMEZONE
TZID:UTC
BEGIN:STANDARD
TZOFFSETFROM:+0000
TZOFFSETTO:+0000
TZNAME:UTC
DTSTART:20210101T000000
END:STANDARD
END:VTIMEZONE
BEGIN:VEVENT
DTSTART;VALUE=DATE:20220304
DTEND;VALUE=DATE:20220306
DTSTAMP:20260423T001618
CREATED:20220302T194338Z
LAST-MODIFIED:20220304T091127Z
UID:10000230-1646373600-1646459999@yastaclub.es
SUMMARY:Bearbie + bear sound
DESCRIPTION:⚠️VIERNES 4 Marzo 2022\n👉BEARBIE + BEAR SOUND\n➖➖➖➖➖➖\nYA’STA Club (C/ Valverde 10 Madrid)\n➖➖➖➖➖➖\n🎧 IVAN PEQUEÑO\n🎧 IVAN RINCON\n➖➖➖➖➖➖\n👉Redes sociales de BEARBIE y BEAR SOUND.\n@bearbie_oficial @bearsound_spain
URL:https://yastaclub.es/event/bearbie-bear-sound/
CATEGORIES:LGTB 🏳️‍🌈
ATTACH;FMTTYPE=image/jpeg:https://yastaclub.es/wp-content/uploads/2022/03/274849342_702404944467450_4145984024660822005_n.jpg
END:VEVENT
END:VCALENDAR