BEGIN:VCALENDAR
VERSION:2.0
PRODID:-//Ya&#039;sta Club - ECPv6.15.20//NONSGML v1.0//EN
CALSCALE:GREGORIAN
METHOD:PUBLISH
X-WR-CALNAME:Ya&#039;sta Club
X-ORIGINAL-URL:https://yastaclub.es
X-WR-CALDESC:Eventos para Ya&#039;sta Club
REFRESH-INTERVAL;VALUE=DURATION:PT1H
X-Robots-Tag:noindex
X-PUBLISHED-TTL:PT1H
BEGIN:VTIMEZONE
TZID:Europe/Paris
BEGIN:DAYLIGHT
TZOFFSETFROM:+0100
TZOFFSETTO:+0200
TZNAME:CEST
DTSTART:20220327T010000
END:DAYLIGHT
BEGIN:STANDARD
TZOFFSETFROM:+0200
TZOFFSETTO:+0100
TZNAME:CET
DTSTART:20221030T010000
END:STANDARD
BEGIN:DAYLIGHT
TZOFFSETFROM:+0100
TZOFFSETTO:+0200
TZNAME:CEST
DTSTART:20230326T010000
END:DAYLIGHT
BEGIN:STANDARD
TZOFFSETFROM:+0200
TZOFFSETTO:+0100
TZNAME:CET
DTSTART:20231029T010000
END:STANDARD
BEGIN:DAYLIGHT
TZOFFSETFROM:+0100
TZOFFSETTO:+0200
TZNAME:CEST
DTSTART:20240331T010000
END:DAYLIGHT
BEGIN:STANDARD
TZOFFSETFROM:+0200
TZOFFSETTO:+0100
TZNAME:CET
DTSTART:20241027T010000
END:STANDARD
END:VTIMEZONE
BEGIN:VTIMEZONE
TZID:Europe/Madrid
BEGIN:DAYLIGHT
TZOFFSETFROM:+0100
TZOFFSETTO:+0200
TZNAME:CEST
DTSTART:20220327T010000
END:DAYLIGHT
BEGIN:STANDARD
TZOFFSETFROM:+0200
TZOFFSETTO:+0100
TZNAME:CET
DTSTART:20221030T010000
END:STANDARD
BEGIN:DAYLIGHT
TZOFFSETFROM:+0100
TZOFFSETTO:+0200
TZNAME:CEST
DTSTART:20230326T010000
END:DAYLIGHT
BEGIN:STANDARD
TZOFFSETFROM:+0200
TZOFFSETTO:+0100
TZNAME:CET
DTSTART:20231029T010000
END:STANDARD
BEGIN:DAYLIGHT
TZOFFSETFROM:+0100
TZOFFSETTO:+0200
TZNAME:CEST
DTSTART:20240331T010000
END:DAYLIGHT
BEGIN:STANDARD
TZOFFSETFROM:+0200
TZOFFSETTO:+0100
TZNAME:CET
DTSTART:20241027T010000
END:STANDARD
END:VTIMEZONE
BEGIN:VEVENT
DTSTART;VALUE=DATE:20230908
DTEND;VALUE=DATE:20230910
DTSTAMP:20260419T164143
CREATED:20230820T160830Z
LAST-MODIFIED:20230820T210912Z
UID:10000445-1694152800-1694239199@yastaclub.es
SUMMARY:Lolailo - ¡Cruza el charco!
DESCRIPTION:🌞8 DE SEPTIEMBRE🌞\n✨Llega nuestro especial homenaje al folclore latinoamericano y sus referentes\, a ese plural imaginario que tanto nos ha influido. Llega el momento de usar nuestra pequeña plataforma para crear un espacio de convivencia para artistas queer hispanohablantes✨\nLlega:\n🌞LOLAILO: ¡CRUZA EL CHARCO!🌞 \ncon:\n✨LACA UDILLA – @laca.udilla\n✨PAKITA – @pakitaspain\n✨CARVENTO – @ccarvento \n⭐️y las invitadas especiales:\n✨ VISA – @visa_dragqueen\n✨ CLUSH – @clush_lagillette\n✨ ALTAGRACIA DE LA PALMA – @altagraciadelapalma \nVamos a volver a llenar @yastaclublgtb de ritmo\, pero esta vez con un sabor irrepetible‼️ \nENTRADAS AQUÍ O LINK EN BIO💫\nhttps://entradium.com/events/lolailo \n🖼️Cartel: @viyusgi
URL:https://yastaclub.es/event/lolailo-cruza-el-charco-2/
LOCATION:Ya’sta Club\, Calle Valverde\, 10\, Madrid\, 28004\, España
CATEGORIES:Drag Queen 👠,LGTB 🏳️‍🌈
ATTACH;FMTTYPE=image/jpeg:https://yastaclub.es/wp-content/uploads/2023/08/368579813_6346859742079113_7193222013328995495_n.jpg
END:VEVENT
BEGIN:VEVENT
DTSTART;VALUE=DATE:20230910
DTEND;VALUE=DATE:20230913
DTSTAMP:20260419T164143
CREATED:20230910T092205Z
LAST-MODIFIED:20260326T185533Z
UID:10000497-1694325600-1694498399@yastaclub.es
SUMMARY:Dragalada Madrid
DESCRIPTION:El y tu PRIMER dragtour de confianza y cada día el de más Dragaladers🫣🎀\n📌 Madrid\n📅🤳🏻 TICKETS & FOTOS\n\n\n\nlinktr.ee/dragalada_mad
URL:https://yastaclub.es/event/dragalada-10-09-2023/2023-09-10/
LOCATION:Ya’sta Club\, Calle Valverde\, 10\, Madrid\, 28004\, España
CATEGORIES:Drag Queen 👠,LGTB 🏳️‍🌈
ATTACH;FMTTYPE=image/png:https://yastaclub.es/wp-content/uploads/2022/03/236472789_107697154957348_5158292883095354539_n.png
END:VEVENT
END:VCALENDAR