BEGIN:VCALENDAR
VERSION:2.0
PRODID:-//Ya&#039;sta Club - ECPv6.15.20//NONSGML v1.0//EN
CALSCALE:GREGORIAN
METHOD:PUBLISH
X-WR-CALNAME:Ya&#039;sta Club
X-ORIGINAL-URL:https://yastaclub.es
X-WR-CALDESC:Eventos para Ya&#039;sta Club
REFRESH-INTERVAL;VALUE=DURATION:PT1H
X-Robots-Tag:noindex
X-PUBLISHED-TTL:PT1H
BEGIN:VTIMEZONE
TZID:Europe/Madrid
BEGIN:DAYLIGHT
TZOFFSETFROM:+0100
TZOFFSETTO:+0200
TZNAME:CEST
DTSTART:20230326T010000
END:DAYLIGHT
BEGIN:STANDARD
TZOFFSETFROM:+0200
TZOFFSETTO:+0100
TZNAME:CET
DTSTART:20231029T010000
END:STANDARD
BEGIN:DAYLIGHT
TZOFFSETFROM:+0100
TZOFFSETTO:+0200
TZNAME:CEST
DTSTART:20240331T010000
END:DAYLIGHT
BEGIN:STANDARD
TZOFFSETFROM:+0200
TZOFFSETTO:+0100
TZNAME:CET
DTSTART:20241027T010000
END:STANDARD
BEGIN:DAYLIGHT
TZOFFSETFROM:+0100
TZOFFSETTO:+0200
TZNAME:CEST
DTSTART:20250330T010000
END:DAYLIGHT
BEGIN:STANDARD
TZOFFSETFROM:+0200
TZOFFSETTO:+0100
TZNAME:CET
DTSTART:20251026T010000
END:STANDARD
END:VTIMEZONE
BEGIN:VEVENT
DTSTART;TZID=Europe/Madrid:20241201T193000
DTEND;TZID=Europe/Madrid:20241201T230000
DTSTAMP:20260423T231435
CREATED:20241121T204134Z
LAST-MODIFIED:20241121T204134Z
UID:10000902-1733081400-1733094000@yastaclub.es
SUMMARY:Gala Reina Drag - All Stars - Gala Final​
DESCRIPTION:¡La Gala FINAL de esta edición ALL STARS está a la vuelta de la esquina! \nEste 1 de diciembre coronaremos a esta SuperEstrella Gala Reina DRAG: \n👠 @bubaanorex_\n👠 @capriablack\n👠 @jd_bitch\n👠 @yosoymorfinadrag \n👹 Presentado por @chanelanorex y con @charlottebishhh y @alexcanizares de jurado invitado. \nEmpezamos a las 19:30 con un minireto\, shows y un lipsync final para dejarnos TIESAS a todas. 🫢❤️‍🔥 \nEntradas en link en bio. / 📍 @yastaclublgtb \nColaboran:\n👑 @lasastreriacafebcn (Barcelona)\n👑 @jolgorioclub (Torremolinos)\n👑 @roarpartymadrid\n👑 @elabanicodelaogra (Murcia)\n👑 @grupoarena (Barcelona)\n👑 @tictacgranada\n👑 @claro.boba (A Coruña)\n👑 @el12club (Madrid)\n👑 @lalaruzafa (Valencia)\n💄 @wibo_es\, nuestra marca de maquillaje de confianza\n📸 @alvaropandaa Fotografía
URL:https://yastaclub.es/event/gala-reina-drag-all-stars-gala-final/
LOCATION:Ya’sta Club\, Calle Valverde\, 10\, Madrid\, 28004\, España
CATEGORIES:Drag Queen 👠,LGTB 🏳️‍🌈
ATTACH;FMTTYPE=image/jpeg:https://yastaclub.es/wp-content/uploads/2024/11/WhatsApp-Image-2024-11-21-at-12.46.00.jpeg
END:VEVENT
BEGIN:VEVENT
DTSTART;TZID=Europe/Madrid:20241213T235900
DTEND;TZID=Europe/Madrid:20241214T060000
DTSTAMP:20260423T231435
CREATED:20241205T221245Z
LAST-MODIFIED:20241205T221245Z
UID:10000905-1734134340-1734156000@yastaclub.es
SUMMARY:Lolailo - Quinto Aniversario
DESCRIPTION:Poco más que añadir\, más que volveros a agradecer cada granito de arena que habéis puesto y ponéis en este proyecto\, así sea un aplauso o un like en la distancia🫂 \nPara les gracioses de “mucho texto”\, ¿qué esperabais? las folclóricas somos ante todo\, INTENSAS 🫀 \nY de momento estamos vivitas y meneando la bata de cola\, y os esperamos el ✨13 de DICIEMBRE✨ para divertirnos todas juntas. \nPRONTO CARTEL + ARTISTAS CONFIRMADAS + LINK DE ENTRADAS \n💃🏻Seguimos estando aquí💃🏻 \nPd: ¿Alguien sabe por qué en spotify no está la versión de Marifé?
URL:https://yastaclub.es/event/lolailo-quinto-aniversario/
LOCATION:Ya’sta Club\, Calle Valverde\, 10\, Madrid\, 28004\, España
CATEGORIES:Drag Queen 👠,LGTB 🏳️‍🌈
ATTACH;FMTTYPE=image/jpeg:https://yastaclub.es/wp-content/uploads/2024/12/468330587_487894576984416_6891583740084232569_n.jpg
END:VEVENT
BEGIN:VEVENT
DTSTART;TZID=Europe/Madrid:20241214T210000
DTEND;TZID=Europe/Madrid:20241214T230000
DTSTAMP:20260423T231435
CREATED:20241031T145622Z
LAST-MODIFIED:20251105T172020Z
UID:10000855-1734210000-1734217200@yastaclub.es
SUMMARY:El Gran Bingo Drag
DESCRIPTION:¿Estás preparadx para disfrutar del mejor Bingo de Madrid? \nImagínate a más de 500 personas jugando por llevarse una multitud de premios. Un bingo lleno de fiesta\, comedia\, juegos y por supuesto\, muchos pero muchísimos regalos… \nTe esperamos en la sala Yasta Club con las mejores Drags\, la mejor música y sobre todo mucha pero que mucha diversión. \nLa mejor party del fin de semana. ¡Trae a todxs tus amigxs y compite en este bingo tan loco! \nPresentado por: \n\nSugar Nelly\nChirstina Vergara
URL:https://yastaclub.es/event/el-gran-bingo-drag-3/2024-12-14/
LOCATION:Ya’sta Club\, Calle Valverde\, 10\, Madrid\, 28004\, España
CATEGORIES:Drag Queen 👠,LGTB 🏳️‍🌈
ATTACH;FMTTYPE=image/webp:https://yastaclub.es/wp-content/uploads/2024/10/webp-2.webp
END:VEVENT
BEGIN:VEVENT
DTSTART;TZID=Europe/Madrid:20241220T235900
DTEND;TZID=Europe/Madrid:20241221T060000
DTSTAMP:20260423T231435
CREATED:20241121T145210Z
LAST-MODIFIED:20241213T111123Z
UID:10000901-1734739140-1734760800@yastaclub.es
SUMMARY:ROAR Party - Edición NaviDrag
DESCRIPTION:La NaviDrag está a la vuelta de la esquina y tenemos listas a estas cinco tías chulísimas para descongelar el próximo 20 de diciembre: \n❄️ @glamniss\n❄️ @lucyoctopvssy\n❄️ @prisma.lux\n❄️ @tiffany.lumberjack\n❄️ @shanilasanta \nY sí\, ¡el año del Shanismo no ha acabado! 🙂‍↕️ \nREGGAETON • POP • HITS\n🎧 @unaigoiko / @somoselnido / @jaime_rsc \n🎟 Anticipadas en nuestra web / link en bio . En taquilla 2 copas por 18€ hasta la 01.30\, después 1 por 15€.\n📍 @yastaclublgtb \nLa previa\, en nuestros bares de confianza\, ¡consigue tu flyer con oferta con dos copas en ellos! \n🥂 @barbanarama\n🥂 @liadamadrid\n🥂 @reinapop_\n🥂 @starchueca\n🥂 @el12club \n🎨: @davidolter
URL:https://yastaclub.es/event/roar-party-edicion-navidrag-2/
LOCATION:Ya’sta Club\, Calle Valverde\, 10\, Madrid\, 28004\, España
CATEGORIES:Drag Queen 👠,LGTB 🏳️‍🌈
ATTACH;FMTTYPE=image/jpeg:https://yastaclub.es/wp-content/uploads/2024/11/WhatsApp-Image-2024-12-03-at-18.17.25.jpeg
END:VEVENT
BEGIN:VEVENT
DTSTART;TZID=Europe/Madrid:20241221T210000
DTEND;TZID=Europe/Madrid:20241221T230000
DTSTAMP:20260423T231435
CREATED:20241031T145622Z
LAST-MODIFIED:20251105T172020Z
UID:10000856-1734814800-1734822000@yastaclub.es
SUMMARY:El Gran Bingo Drag
DESCRIPTION:¿Estás preparadx para disfrutar del mejor Bingo de Madrid? \nImagínate a más de 500 personas jugando por llevarse una multitud de premios. Un bingo lleno de fiesta\, comedia\, juegos y por supuesto\, muchos pero muchísimos regalos… \nTe esperamos en la sala Yasta Club con las mejores Drags\, la mejor música y sobre todo mucha pero que mucha diversión. \nLa mejor party del fin de semana. ¡Trae a todxs tus amigxs y compite en este bingo tan loco! \nPresentado por: \n\nSugar Nelly\nChirstina Vergara
URL:https://yastaclub.es/event/el-gran-bingo-drag-3/2024-12-21/
LOCATION:Ya’sta Club\, Calle Valverde\, 10\, Madrid\, 28004\, España
CATEGORIES:Drag Queen 👠,LGTB 🏳️‍🌈
ATTACH;FMTTYPE=image/webp:https://yastaclub.es/wp-content/uploads/2024/10/webp-2.webp
END:VEVENT
BEGIN:VEVENT
DTSTART;TZID=Europe/Madrid:20241228T210000
DTEND;TZID=Europe/Madrid:20241228T230000
DTSTAMP:20260423T231435
CREATED:20241031T145622Z
LAST-MODIFIED:20251105T172020Z
UID:10000857-1735419600-1735426800@yastaclub.es
SUMMARY:El Gran Bingo Drag
DESCRIPTION:¿Estás preparadx para disfrutar del mejor Bingo de Madrid? \nImagínate a más de 500 personas jugando por llevarse una multitud de premios. Un bingo lleno de fiesta\, comedia\, juegos y por supuesto\, muchos pero muchísimos regalos… \nTe esperamos en la sala Yasta Club con las mejores Drags\, la mejor música y sobre todo mucha pero que mucha diversión. \nLa mejor party del fin de semana. ¡Trae a todxs tus amigxs y compite en este bingo tan loco! \nPresentado por: \n\nSugar Nelly\nChirstina Vergara
URL:https://yastaclub.es/event/el-gran-bingo-drag-3/2024-12-28/
LOCATION:Ya’sta Club\, Calle Valverde\, 10\, Madrid\, 28004\, España
CATEGORIES:Drag Queen 👠,LGTB 🏳️‍🌈
ATTACH;FMTTYPE=image/webp:https://yastaclub.es/wp-content/uploads/2024/10/webp-2.webp
END:VEVENT
END:VCALENDAR