BEGIN:VCALENDAR
VERSION:2.0
PRODID:-//Ya&#039;sta Club - ECPv6.15.20//NONSGML v1.0//EN
CALSCALE:GREGORIAN
METHOD:PUBLISH
X-WR-CALNAME:Ya&#039;sta Club
X-ORIGINAL-URL:https://yastaclub.es
X-WR-CALDESC:Eventos para Ya&#039;sta Club
REFRESH-INTERVAL;VALUE=DURATION:PT1H
X-Robots-Tag:noindex
X-PUBLISHED-TTL:PT1H
BEGIN:VTIMEZONE
TZID:Europe/Madrid
BEGIN:DAYLIGHT
TZOFFSETFROM:+0100
TZOFFSETTO:+0200
TZNAME:CEST
DTSTART:20230326T010000
END:DAYLIGHT
BEGIN:STANDARD
TZOFFSETFROM:+0200
TZOFFSETTO:+0100
TZNAME:CET
DTSTART:20231029T010000
END:STANDARD
BEGIN:DAYLIGHT
TZOFFSETFROM:+0100
TZOFFSETTO:+0200
TZNAME:CEST
DTSTART:20240331T010000
END:DAYLIGHT
BEGIN:STANDARD
TZOFFSETFROM:+0200
TZOFFSETTO:+0100
TZNAME:CET
DTSTART:20241027T010000
END:STANDARD
BEGIN:DAYLIGHT
TZOFFSETFROM:+0100
TZOFFSETTO:+0200
TZNAME:CEST
DTSTART:20250330T010000
END:DAYLIGHT
BEGIN:STANDARD
TZOFFSETFROM:+0200
TZOFFSETTO:+0100
TZNAME:CET
DTSTART:20251026T010000
END:STANDARD
END:VTIMEZONE
BEGIN:VEVENT
DTSTART;TZID=Europe/Madrid:20241101T235900
DTEND;TZID=Europe/Madrid:20241102T060000
DTSTAMP:20260423T190951
CREATED:20241003T140441Z
LAST-MODIFIED:20241007T140127Z
UID:10000827-1730505540-1730527200@yastaclub.es
SUMMARY:PetardaTú
DESCRIPTION:PetardaTu Halloween \n¡Este año tenemos una invitada de honor muy especial directamente desde DRAG RACE UK: CHORIZA MAY! \nEstamos ansiosos por verla en acción\, pero eso no es todo… \nTambién estarán con nosotros las fabulosas Chonifer López\, Bellatrix\, Sugar Nelly\, Cherilyn Divine y en las mezclas\, el increíble DJ Robin Tooth . \nPrepárate para una noche de terror y diversión como nunca antes. ¡Ven con tu mejor disfraz y muchas ganas de pasarlo de miedo!\n\nConmemoramos Halloween por todo lo alto el 01 de noviembre desde las 00h hasta las 06h en la Sala Yasta de Madrid\, Calle Valverde\, 10.\n\n¡No te lo pierdas!
URL:https://yastaclub.es/event/petardatu-halloween-1-noviembre/
LOCATION:Ya’sta Club\, Calle Valverde\, 10\, Madrid\, 28004\, España
CATEGORIES:Drag Queen 👠,LGTB 🏳️‍🌈
ATTACH;FMTTYPE=image/jpeg:https://yastaclub.es/wp-content/uploads/2024/10/WhatsApp-Image-2024-10-07-at-14.08.56.jpeg
END:VEVENT
BEGIN:VEVENT
DTSTART;TZID=Europe/Madrid:20241102T210000
DTEND;TZID=Europe/Madrid:20241102T230000
DTSTAMP:20260423T190951
CREATED:20241031T145622Z
LAST-MODIFIED:20251105T172020Z
UID:10000849-1730581200-1730588400@yastaclub.es
SUMMARY:El Gran Bingo Drag
DESCRIPTION:¿Estás preparadx para disfrutar del mejor Bingo de Madrid? \nImagínate a más de 500 personas jugando por llevarse una multitud de premios. Un bingo lleno de fiesta\, comedia\, juegos y por supuesto\, muchos pero muchísimos regalos… \nTe esperamos en la sala Yasta Club con las mejores Drags\, la mejor música y sobre todo mucha pero que mucha diversión. \nLa mejor party del fin de semana. ¡Trae a todxs tus amigxs y compite en este bingo tan loco! \nPresentado por: \n\nSugar Nelly\nChirstina Vergara
URL:https://yastaclub.es/event/el-gran-bingo-drag-3/2024-11-02/
LOCATION:Ya’sta Club\, Calle Valverde\, 10\, Madrid\, 28004\, España
CATEGORIES:Drag Queen 👠,LGTB 🏳️‍🌈
ATTACH;FMTTYPE=image/webp:https://yastaclub.es/wp-content/uploads/2024/10/webp-2.webp
END:VEVENT
BEGIN:VEVENT
DTSTART;TZID=Europe/Madrid:20241108T235900
DTEND;TZID=Europe/Madrid:20241109T060000
DTSTAMP:20260423T190951
CREATED:20241026T104021Z
LAST-MODIFIED:20241026T104021Z
UID:10000847-1731110340-1731132000@yastaclub.es
SUMMARY:Titanes on Tour - Divas 2000
DESCRIPTION:💫 Titanes on tour: Divas del 2000 💫 \n¡Es hora de revivir la época dorada de las grandes divas que marcaron los 2000! Desde Mónica Naranjo\, Chenoa o Malú\, hasta Britney\, Beyoncé o Christina Agulera ¡esta es tu oportunidad de brillar como las estrellas que dominaron la música y el estilo de la década! \n🎶 Unai Goiko y Robin Tooth con los mejores éxitos de la época. \n👠 Donna Mercadonna\, Titanax\, Liriana y Lulalá amenazando la noche con los mejores shows y un Bingo musical
URL:https://yastaclub.es/event/titanes-on-tour-divas-2000/
LOCATION:Ya’sta Club\, Calle Valverde\, 10\, Madrid\, 28004\, España
CATEGORIES:Drag Queen 👠,LGTB 🏳️‍🌈
ATTACH;FMTTYPE=image/jpeg:https://yastaclub.es/wp-content/uploads/2024/10/WhatsApp-Image-2024-10-25-at-16.51.55.jpeg
END:VEVENT
BEGIN:VEVENT
DTSTART;TZID=Europe/Madrid:20241109T210000
DTEND;TZID=Europe/Madrid:20241109T230000
DTSTAMP:20260423T190951
CREATED:20241031T145622Z
LAST-MODIFIED:20251105T172020Z
UID:10000850-1731186000-1731193200@yastaclub.es
SUMMARY:El Gran Bingo Drag
DESCRIPTION:¿Estás preparadx para disfrutar del mejor Bingo de Madrid? \nImagínate a más de 500 personas jugando por llevarse una multitud de premios. Un bingo lleno de fiesta\, comedia\, juegos y por supuesto\, muchos pero muchísimos regalos… \nTe esperamos en la sala Yasta Club con las mejores Drags\, la mejor música y sobre todo mucha pero que mucha diversión. \nLa mejor party del fin de semana. ¡Trae a todxs tus amigxs y compite en este bingo tan loco! \nPresentado por: \n\nSugar Nelly\nChirstina Vergara
URL:https://yastaclub.es/event/el-gran-bingo-drag-3/2024-11-09/
LOCATION:Ya’sta Club\, Calle Valverde\, 10\, Madrid\, 28004\, España
CATEGORIES:Drag Queen 👠,LGTB 🏳️‍🌈
ATTACH;FMTTYPE=image/webp:https://yastaclub.es/wp-content/uploads/2024/10/webp-2.webp
END:VEVENT
BEGIN:VEVENT
DTSTART;TZID=Europe/Madrid:20241115T235500
DTEND;TZID=Europe/Madrid:20241116T060000
DTSTAMP:20260423T190951
CREATED:20241028T144006Z
LAST-MODIFIED:20241104T142754Z
UID:10000848-1731714900-1731736800@yastaclub.es
SUMMARY:ROAR Party - Edición Katy Perry + 5º aniversario
DESCRIPTION:El próximo viernes 15 celebramos 5 años con shows de estas 5 tías chulas que harán de la noche un Teenage Dream inolvidable 💋 \nShows 🫶👠\n👠 @jesuislecoco\n💕 @ditathevain\n👠 @dianadardo_\n💕 @sobredosis_gonzalez\n👠 @robota_cones \nPOP • REGGAETON • HITS\n🎧 @monsieurblaya / @somoselnido / @jaime_rsc \n🎟 Anticipadas en nuestra web / link en bio . En taquilla 2 copas por 18€ hasta la 01.30\, después 1 por 15€.\n📍 @yastaclublgtb \nLa previa\, en nuestros bares de confianza\, ¡consigue tu flyer con oferta con dos copas en ellos! \n🥂 @barbanarama\n🥂 @liadamadrid\n🥂 @reinapop_\n🥂 @starchueca\n🥂 @el12club \nColabora:\n🥃 @peligrocatrina\, con unos chupitos riquísimos\, os invitamos a probarlos 😜 \n🎨: @davidolter
URL:https://yastaclub.es/event/roar-party-edicion-katy-perry-5o-aniversario/
LOCATION:Ya’sta Club\, Calle Valverde\, 10\, Madrid\, 28004\, España
CATEGORIES:Drag Queen 👠,LGTB 🏳️‍🌈
ATTACH;FMTTYPE=image/jpeg:https://yastaclub.es/wp-content/uploads/2024/10/Gbix-7BWQAAeVEf.jpg
END:VEVENT
BEGIN:VEVENT
DTSTART;TZID=Europe/Madrid:20241116T210000
DTEND;TZID=Europe/Madrid:20241116T230000
DTSTAMP:20260423T190951
CREATED:20241031T145622Z
LAST-MODIFIED:20251105T172020Z
UID:10000851-1731790800-1731798000@yastaclub.es
SUMMARY:El Gran Bingo Drag
DESCRIPTION:¿Estás preparadx para disfrutar del mejor Bingo de Madrid? \nImagínate a más de 500 personas jugando por llevarse una multitud de premios. Un bingo lleno de fiesta\, comedia\, juegos y por supuesto\, muchos pero muchísimos regalos… \nTe esperamos en la sala Yasta Club con las mejores Drags\, la mejor música y sobre todo mucha pero que mucha diversión. \nLa mejor party del fin de semana. ¡Trae a todxs tus amigxs y compite en este bingo tan loco! \nPresentado por: \n\nSugar Nelly\nChirstina Vergara
URL:https://yastaclub.es/event/el-gran-bingo-drag-3/2024-11-16/
LOCATION:Ya’sta Club\, Calle Valverde\, 10\, Madrid\, 28004\, España
CATEGORIES:Drag Queen 👠,LGTB 🏳️‍🌈
ATTACH;FMTTYPE=image/webp:https://yastaclub.es/wp-content/uploads/2024/10/webp-2.webp
END:VEVENT
BEGIN:VEVENT
DTSTART;TZID=Europe/Madrid:20241117T190000
DTEND;TZID=Europe/Madrid:20241117T233000
DTSTAMP:20260423T190951
CREATED:20241016T094548Z
LAST-MODIFIED:20241107T165051Z
UID:10000846-1731870000-1731886200@yastaclub.es
SUMMARY:Gala Reina Drag - All Stars - Gala 2 (incluye Viewing Party Drag Race España T4)​
DESCRIPTION:¡La Gala 2 de esta edición ALL STARS es muy fuerch! \nOs esperamos el próximo 17 de NOVIEMBRE (¡guardad la fechita!) con: \n👠 @its_arrhythmia\n👠 @itsiggyv\n👠 @jd_bitch\n👠 @laraxfitqueen\n👠 @yosoymorfinadrag \n👹 Presentado por @chanelanorex y con @itsmarianastars de jurado invitado (durante la gala y no durante el visionado). \nEmpezamos a las 19:00 con una pasarela de introducción de reinas\, después veremos Drag Race España T4 y después continuaremos con los shows\, puntuaciones y lipsync final. \nEntradas en link en bio. / 📍 @yastaclublgtb \nColaboran:\n👑 @lasastreriacafebcn (Barcelona)\n👑 @jolgorioclub (Torremolinos)\n👑 @roarpartymadrid\n👑 @elabanicodelaogra (Murcia)\n👑 @grupoarena (Barcelona)\n👑 @tictacgranada\n👑 @claro.boba (A Coruña)\n👑 @el12club (Madrid)\n👑 @lalaruzafa (Valencia)\n💄 @wibo_es\, nuestra marca de maquillaje de confianza\n📸 @alvaropandaa Fotografía
URL:https://yastaclub.es/event/gala-reina-drag-all-stars-gala-2-incluye-viewing-party-drag-race-espana-t4/
LOCATION:Ya’sta Club\, Calle Valverde\, 10\, Madrid\, 28004\, España
CATEGORIES:Drag Queen 👠,LGTB 🏳️‍🌈
ATTACH;FMTTYPE=image/jpeg:https://yastaclub.es/wp-content/uploads/2024/10/WhatsApp-Image-2024-10-09-at-14.02.57.jpeg
END:VEVENT
BEGIN:VEVENT
DTSTART;TZID=Europe/Madrid:20241123T210000
DTEND;TZID=Europe/Madrid:20241123T230000
DTSTAMP:20260423T190952
CREATED:20241031T145622Z
LAST-MODIFIED:20251105T172020Z
UID:10000852-1732395600-1732402800@yastaclub.es
SUMMARY:El Gran Bingo Drag
DESCRIPTION:¿Estás preparadx para disfrutar del mejor Bingo de Madrid? \nImagínate a más de 500 personas jugando por llevarse una multitud de premios. Un bingo lleno de fiesta\, comedia\, juegos y por supuesto\, muchos pero muchísimos regalos… \nTe esperamos en la sala Yasta Club con las mejores Drags\, la mejor música y sobre todo mucha pero que mucha diversión. \nLa mejor party del fin de semana. ¡Trae a todxs tus amigxs y compite en este bingo tan loco! \nPresentado por: \n\nSugar Nelly\nChirstina Vergara
URL:https://yastaclub.es/event/el-gran-bingo-drag-3/2024-11-23/
LOCATION:Ya’sta Club\, Calle Valverde\, 10\, Madrid\, 28004\, España
CATEGORIES:Drag Queen 👠,LGTB 🏳️‍🌈
ATTACH;FMTTYPE=image/webp:https://yastaclub.es/wp-content/uploads/2024/10/webp-2.webp
END:VEVENT
END:VCALENDAR