BEGIN:VCALENDAR
VERSION:2.0
PRODID:-//Ya&#039;sta Club - ECPv6.15.20//NONSGML v1.0//EN
CALSCALE:GREGORIAN
METHOD:PUBLISH
X-WR-CALNAME:Ya&#039;sta Club
X-ORIGINAL-URL:https://yastaclub.es
X-WR-CALDESC:Eventos para Ya&#039;sta Club
REFRESH-INTERVAL;VALUE=DURATION:PT1H
X-Robots-Tag:noindex
X-PUBLISHED-TTL:PT1H
BEGIN:VTIMEZONE
TZID:Europe/Madrid
BEGIN:DAYLIGHT
TZOFFSETFROM:+0100
TZOFFSETTO:+0200
TZNAME:CEST
DTSTART:20230326T010000
END:DAYLIGHT
BEGIN:STANDARD
TZOFFSETFROM:+0200
TZOFFSETTO:+0100
TZNAME:CET
DTSTART:20231029T010000
END:STANDARD
BEGIN:DAYLIGHT
TZOFFSETFROM:+0100
TZOFFSETTO:+0200
TZNAME:CEST
DTSTART:20240331T010000
END:DAYLIGHT
BEGIN:STANDARD
TZOFFSETFROM:+0200
TZOFFSETTO:+0100
TZNAME:CET
DTSTART:20241027T010000
END:STANDARD
BEGIN:DAYLIGHT
TZOFFSETFROM:+0100
TZOFFSETTO:+0200
TZNAME:CEST
DTSTART:20250330T010000
END:DAYLIGHT
BEGIN:STANDARD
TZOFFSETFROM:+0200
TZOFFSETTO:+0100
TZNAME:CET
DTSTART:20251026T010000
END:STANDARD
END:VTIMEZONE
BEGIN:VEVENT
DTSTART;TZID=Europe/Madrid:20240607T235900
DTEND;TZID=Europe/Madrid:20240608T060000
DTSTAMP:20260422T192736
CREATED:20240602T170819Z
LAST-MODIFIED:20240602T170819Z
UID:10000803-1717804740-1717826400@yastaclub.es
SUMMARY:GloryPOP
DESCRIPTION:
URL:https://yastaclub.es/event/glorypop-07-06-2024/
LOCATION:Ya’sta Club\, Calle Valverde\, 10\, Madrid\, 28004\, España
CATEGORIES:Bear 🐻,Drag Queen 👠,LGTB 🏳️‍🌈
ATTACH;FMTTYPE=image/jpeg:https://yastaclub.es/wp-content/uploads/2024/06/glorypop-07-06-2024.jpg
END:VEVENT
BEGIN:VEVENT
DTSTART;TZID=Europe/Madrid:20240614T235900
DTEND;TZID=Europe/Madrid:20240615T060000
DTSTAMP:20260422T192736
CREATED:20240527T140624Z
LAST-MODIFIED:20240531T203915Z
UID:10000779-1718409540-1718431200@yastaclub.es
SUMMARY:Dragonas Party
DESCRIPTION:Los rumores son ciertos… Dragonas VUELVE a la SALA YASTA en un evento súper especial con temática KLUBKID 🤯 \nHemos reunido a un grupo de súper travestis para dar FIESTA de la buena. Así es\, TODA LA NOCHE!!! 🫦🫦🫦 Apunta; el próximo VIERNES 14 de JUNIO de 00:30 a 6:00AM nos volvemos klubkid todas. \nPreocupada por la música? Imposible porque contamos con la mejor música de @jarvyblaq 😈 \nContando con las SUPERESTRELLAS; \nDiosa del underground\, chica de revista y merecedora de montarse en tu moto; @marinaforev3r no dejará alientos en la sala!💋💄 \nDesde Barcelona\, con su enigmática presencia y su inmaculada estética\, nos visita por primera vez @blue_farbalans !! 💙🔹🩵 \nConocida como “travesti del Perú”\, aunque realmente es conocida en todos lados por su talento y su irreconocible forma de servir; es @gadyola !!! 🌹💄 \nMadres y hechiceras en esta nueva etapa en dragonas; @satinefansy y @maryconazodrag están aquí para hostear el evento!! 🫶❤️‍🩹 \nDonde? Este evento particular se hará en @yastaclublgtb 🏠 \nENTRADAS EN BIO!!! \n#Drag #dragqueen #eventosdragespaña #dragraceEspaña #EventosMadrid #madrideventos
URL:https://yastaclub.es/event/dragonas-party-14-06-2024/
LOCATION:Ya’sta Club\, Calle Valverde\, 10\, Madrid\, 28004\, España
CATEGORIES:Drag Queen 👠,LGTB 🏳️‍🌈
ATTACH;FMTTYPE=image/jpeg:https://yastaclub.es/wp-content/uploads/2024/05/WhatsApp-Image-2024-05-27-at-10.22.46.jpeg
END:VEVENT
BEGIN:VEVENT
DTSTART;TZID=Europe/Madrid:20240621T235900
DTEND;TZID=Europe/Madrid:20240622T060000
DTSTAMP:20260422T192736
CREATED:20240403T192224Z
LAST-MODIFIED:20240531T204201Z
UID:10000765-1719014340-1719036000@yastaclub.es
SUMMARY:ROAR Party - Edición Caribe Mix
DESCRIPTION:
URL:https://yastaclub.es/event/roar-party-edicion-caribe-mix/
LOCATION:Ya’sta Club\, Calle Valverde\, 10\, Madrid\, 28004\, España
CATEGORIES:Drag Queen 👠,LGTB 🏳️‍🌈
ATTACH;FMTTYPE=image/jpeg:https://yastaclub.es/wp-content/uploads/2024/04/WhatsApp-Image-2024-05-20-at-10.37.14-1.jpeg
END:VEVENT
BEGIN:VEVENT
DTSTART;TZID=Europe/Madrid:20240628T235900
DTEND;TZID=Europe/Madrid:20240629T060000
DTSTAMP:20260422T192736
CREATED:20240531T203723Z
LAST-MODIFIED:20240622T125127Z
UID:10000780-1719619140-1719640800@yastaclub.es
SUMMARY:Las Niñas - Orgullo Crítico
DESCRIPTION:DESDE CHIQUETITAS Las Niñas hemos participado en los movimientos de orgullos críticos y combativos. Detestamos el pinkwashing y la capitalización de nuestra lucha. Desde chiquetitas\, antes de tener clara nuestra identidad se nos impuso desde fuera. Ahora lo celebramos.\nVen a celebrar(nos) con nosotras el viernes 28 de junio\nen @yastaclublgtb\ncon los perfoxous de\n@pakitaspain\n@belial_romerito\n@berrenga\n@ccarvento\n@larosariomolina\n@frikigustion \nDJ set @travest15m0 & @frikigustion \nEntradas ya disponibles en el enlace de la bio!! \n#drag #dragshow #madrid #lgtb #queer #orgullo #orgullo critico #travesti #perfoshow #diversion
URL:https://yastaclub.es/event/las-ninas-orgullo-critico/
LOCATION:Ya’sta Club\, Calle Valverde\, 10\, Madrid\, 28004\, España
CATEGORIES:Drag Queen 👠,LGTB 🏳️‍🌈,Pride 2024
ATTACH;FMTTYPE=image/jpeg:https://yastaclub.es/wp-content/uploads/2024/05/446303523_1300737030882803_3427659025925420100_n.jpg
END:VEVENT
END:VCALENDAR