BEGIN:VCALENDAR
VERSION:2.0
PRODID:-//Ya&#039;sta Club - ECPv6.15.20//NONSGML v1.0//EN
CALSCALE:GREGORIAN
METHOD:PUBLISH
X-WR-CALNAME:Ya&#039;sta Club
X-ORIGINAL-URL:https://yastaclub.es
X-WR-CALDESC:Eventos para Ya&#039;sta Club
REFRESH-INTERVAL;VALUE=DURATION:PT1H
X-Robots-Tag:noindex
X-PUBLISHED-TTL:PT1H
BEGIN:VTIMEZONE
TZID:Europe/Madrid
BEGIN:DAYLIGHT
TZOFFSETFROM:+0100
TZOFFSETTO:+0200
TZNAME:CEST
DTSTART:20230326T010000
END:DAYLIGHT
BEGIN:STANDARD
TZOFFSETFROM:+0200
TZOFFSETTO:+0100
TZNAME:CET
DTSTART:20231029T010000
END:STANDARD
BEGIN:DAYLIGHT
TZOFFSETFROM:+0100
TZOFFSETTO:+0200
TZNAME:CEST
DTSTART:20240331T010000
END:DAYLIGHT
BEGIN:STANDARD
TZOFFSETFROM:+0200
TZOFFSETTO:+0100
TZNAME:CET
DTSTART:20241027T010000
END:STANDARD
BEGIN:DAYLIGHT
TZOFFSETFROM:+0100
TZOFFSETTO:+0200
TZNAME:CEST
DTSTART:20250330T010000
END:DAYLIGHT
BEGIN:STANDARD
TZOFFSETFROM:+0200
TZOFFSETTO:+0100
TZNAME:CET
DTSTART:20251026T010000
END:STANDARD
END:VTIMEZONE
BEGIN:VEVENT
DTSTART;TZID=Europe/Madrid:20240510T235900
DTEND;TZID=Europe/Madrid:20240511T060000
DTSTAMP:20260422T155352
CREATED:20240430T135953Z
LAST-MODIFIED:20240430T135953Z
UID:10000773-1715385540-1715407200@yastaclub.es
SUMMARY:GloryPOP
DESCRIPTION:
URL:https://yastaclub.es/event/glorypop/
LOCATION:Ya’sta Club\, Calle Valverde\, 10\, Madrid\, 28004\, España
CATEGORIES:Drag Queen 👠,LGTB 🏳️‍🌈
ATTACH;FMTTYPE=image/jpeg:https://yastaclub.es/wp-content/uploads/2024/04/glory_pop.jpeg
END:VEVENT
BEGIN:VEVENT
DTSTART;TZID=Europe/Madrid:20240517T235900
DTEND;TZID=Europe/Madrid:20240518T060000
DTSTAMP:20260422T155352
CREATED:20240307T144425Z
LAST-MODIFIED:20240430T140409Z
UID:10000635-1715990340-1716012000@yastaclub.es
SUMMARY:ROAR Party - Edición Taylor Swift
DESCRIPTION:💋📞´𝓘’𝓶 𝓼𝓸𝓻𝓻𝔂\, 𝓫𝓾𝓽 𝓽𝓱𝓮 𝓸𝓵𝓭 𝓡𝓞𝓐𝓡 𝓟𝓪𝓻𝓽𝔂 𝓬𝓪𝓷’𝓽 𝓬𝓸𝓶𝓮 𝓽𝓸 𝓽𝓱𝓮 𝓹𝓱𝓸𝓷𝓮 𝓻𝓲𝓰𝓱𝓽 𝓷𝓸𝔀 \nEl próximo 17 de MAYO 5 dragonas aterrizan en la @yastaclublgtb para daros una noche fantástica (no en Jet privado\, eso sí) con la edición ROAR Party – Edición TAYLOR SWIFT ✈️💋. \nShows para garantizaros el mejor Shake It Off: \n✈️ @vaniavainilla\n👠 @itsmarianastars\n✈️ @satinefansy\n👠 @lucyoctopvssy\n✈️ @lasorny \nNuestros DJs pondrán bien de 𝙋𝙊𝙋 · 𝙍𝙀𝙂𝙂𝘼𝙀𝙏𝙊𝙉 · 𝙃𝙄𝙏𝙎 (2000’s/2010’s/actual + Hits Taylor Swift) \n🎧 @fran.lamadrid\n🎧 @somoselnido\n🎧 @jaime_rsc \n🎟 Anticipadas en nuestra web / link en bio. En taquilla 2 copas por 18€ hasta la 01.30\, después 1 por 15€. \n📍 @yastaclublgtb \nLa previa\, en nuestros bares de amigas y drags\, ¡consigue tu pulsera en ellos! \n🥂 @barbanarama\n🥂 @liadamadrid\n🥂 @reinapop_\n🥂 @starchueca \nColabora:\n🥃 @peligrocatrina\, con unos chupitos riquísimos\, os invitamos a probarlos 😜
URL:https://yastaclub.es/event/roar-party-edicion-taylor-swift/
LOCATION:Ya’sta Club\, Calle Valverde\, 10\, Madrid\, 28004\, España
CATEGORIES:Drag Queen 👠,LGTB 🏳️‍🌈
ATTACH;FMTTYPE=image/jpeg:https://yastaclub.es/wp-content/uploads/2024/04/WhatsApp-Image-2024-04-30-at-13.10.25.jpeg
END:VEVENT
BEGIN:VEVENT
DTSTART;TZID=Europe/Madrid:20240524T235900
DTEND;TZID=Europe/Madrid:20240525T060000
DTSTAMP:20260422T155352
CREATED:20240430T142117Z
LAST-MODIFIED:20240519T172136Z
UID:10000775-1716595140-1716616800@yastaclub.es
SUMMARY:Lolailo
DESCRIPTION:📽️PREMIOS LOLAILO: Noche del cine \n🍿VIERNES 24 de Mayo🍿 \nLlega el 🔴último🔴 Lolailo de la temporada‼️\nY no podíamos hacer otra cosa que despedirnos por todo lo alto\, haciendo un homenaje a nuestro cine patrio con una gala sin precedentes y todas juntitas en familia.\nPreparad vuestro mejor look para la red carpet y traed palomitas 🍿🍿🍿 porque no estáis preparades para todas las sorpresas que se vienen. Pronto +info!!\n¿Quién se llevará un Cauda este año? \ncon las más peliculeras:\n⭐️LACA UDILLA @laca.udilla\n⭐️BELIAL @belial_romerito\n⭐️CARVENTO @ccarvento\n⭐️SUSSI @la_sussi_\n⭐️PAKITA @pakitaspain\n⭐️ROSARIO MOLINA @larosariomolina \n🎭Dir. Creativa: @esperanzadtr \n🎟️ENTRADAS DISPONIBLES EN\nhttps://entradium.com/events/lolailo\nO link en bio \n🖼️Cartel y modelo 3D: @viyusgi
URL:https://yastaclub.es/event/lolailo-5/
LOCATION:Ya’sta Club\, Calle Valverde\, 10\, Madrid\, 28004\, España
CATEGORIES:Drag Queen 👠,LGTB 🏳️‍🌈
ATTACH;FMTTYPE=image/jpeg:https://yastaclub.es/wp-content/uploads/2024/04/440982953_404825739084741_3502431121803132775_n.jpg
END:VEVENT
END:VCALENDAR