BEGIN:VCALENDAR
VERSION:2.0
PRODID:-//Ya&#039;sta Club - ECPv6.15.20//NONSGML v1.0//EN
CALSCALE:GREGORIAN
METHOD:PUBLISH
X-ORIGINAL-URL:https://yastaclub.es
X-WR-CALDESC:Eventos para Ya&#039;sta Club
REFRESH-INTERVAL;VALUE=DURATION:PT1H
X-Robots-Tag:noindex
X-PUBLISHED-TTL:PT1H
BEGIN:VTIMEZONE
TZID:Europe/Madrid
BEGIN:DAYLIGHT
TZOFFSETFROM:+0100
TZOFFSETTO:+0200
TZNAME:CEST
DTSTART:20230326T010000
END:DAYLIGHT
BEGIN:STANDARD
TZOFFSETFROM:+0200
TZOFFSETTO:+0100
TZNAME:CET
DTSTART:20231029T010000
END:STANDARD
BEGIN:DAYLIGHT
TZOFFSETFROM:+0100
TZOFFSETTO:+0200
TZNAME:CEST
DTSTART:20240331T010000
END:DAYLIGHT
BEGIN:STANDARD
TZOFFSETFROM:+0200
TZOFFSETTO:+0100
TZNAME:CET
DTSTART:20241027T010000
END:STANDARD
BEGIN:DAYLIGHT
TZOFFSETFROM:+0100
TZOFFSETTO:+0200
TZNAME:CEST
DTSTART:20250330T010000
END:DAYLIGHT
BEGIN:STANDARD
TZOFFSETFROM:+0200
TZOFFSETTO:+0100
TZNAME:CET
DTSTART:20251026T010000
END:STANDARD
END:VTIMEZONE
BEGIN:VEVENT
DTSTART;TZID=Europe/Madrid:20240105T233000
DTEND;TZID=Europe/Madrid:20240106T060000
DTSTAMP:20260421T225101
CREATED:20231201T230331Z
LAST-MODIFIED:20231201T230331Z
UID:10000569-1704497400-1704520800@yastaclub.es
SUMMARY:Drag Domination After Party
DESCRIPTION:
URL:https://yastaclub.es/event/drag-domination-after-party/
LOCATION:Ya’sta Club\, Calle Valverde\, 10\, Madrid\, 28004\, España
CATEGORIES:Drag Queen 👠,LGTB 🏳️‍🌈
ATTACH;FMTTYPE=image/jpeg:https://yastaclub.es/wp-content/uploads/2023/12/407272959_17873153136007482_7491077233058847032_n.jpg
END:VEVENT
BEGIN:VEVENT
DTSTART;TZID=Europe/Madrid:20240112T235900
DTEND;TZID=Europe/Madrid:20240113T060000
DTSTAMP:20260421T225101
CREATED:20231201T230834Z
LAST-MODIFIED:20240105T185145Z
UID:10000570-1705103940-1705125600@yastaclub.es
SUMMARY:ROAR Party - Edición Lady Gaga
DESCRIPTION:El próximo 12 de enero del 2024 empezamos el año haciendo un remember de TODAS las eras de nuestra diva del Pop de los 2010’s: ¡LADY GAGA! ✊👹 \nOs esperamos con los shows de:\n✨ @its_arrhythmia\n✨ @laca.udilla\n✨ @johannaexxo\n✨ @jesuislecoco\n✨ @jenevagina \nY pinchando 𝙋𝙤𝙥 · 𝙍𝙚𝙜𝙜𝙖𝙚𝙩𝙤𝙣 · 𝙃𝙞𝙩𝙨:\n🎧 @robin_tooth\n🎧 @somoselnido\n🎧 @jaime_rsc \n🎟 Anticipadas en roarparty.es. En taquilla 2 copas por 18€ hasta la 01.30\, después 1 por 15€\n📍 @yastaclublgtb (23:59 – 06:00) \nLa previa\, en nuestros bares de confianza\, ¡consigue tu pulsera en ellos! \n🥂 @barbanarama\n🥂 @liadamadrid\n🥂 @reinapop_\n🥂 @starchueca \nColabora:\n🥃 @peligrocatrina\, con unos chupitos riquísimos\, os invitamos a probarlos 😜
URL:https://yastaclub.es/event/roar-party-edicion-lady-gaga/
LOCATION:Ya’sta Club\, Calle Valverde\, 10\, Madrid\, 28004\, España
CATEGORIES:Drag Queen 👠,LGTB 🏳️‍🌈
ATTACH;FMTTYPE=image/jpeg:https://yastaclub.es/wp-content/uploads/2024/01/WhatsApp-Image-2023-12-28-at-10.13.07-1.jpeg
END:VEVENT
BEGIN:VEVENT
DTSTART;TZID=Europe/Madrid:20240119T235900
DTEND;TZID=Europe/Madrid:20240120T060000
DTSTAMP:20260421T225101
CREATED:20231201T230913Z
LAST-MODIFIED:20240105T184958Z
UID:10000571-1705708740-1705730400@yastaclub.es
SUMMARY:MisaPOP
DESCRIPTION:
URL:https://yastaclub.es/event/misapop-4/
LOCATION:Ya’sta Club\, Calle Valverde\, 10\, Madrid\, 28004\, España
CATEGORIES:Drag Queen 👠,LGTB 🏳️‍🌈
ATTACH;FMTTYPE=image/jpeg:https://yastaclub.es/wp-content/uploads/2024/01/photo_2024-01-05_13-53-19.jpg
END:VEVENT
BEGIN:VEVENT
DTSTART;TZID=Europe/Madrid:20240126T235900
DTEND;TZID=Europe/Madrid:20240127T060000
DTSTAMP:20260421T225101
CREATED:20240123T090857Z
LAST-MODIFIED:20240123T091213Z
UID:10000601-1706313540-1706335200@yastaclub.es
SUMMARY:Lolailo - La noche de las mil Caudillas
DESCRIPTION:🥸ESTE VIERNES en @yastaclublgtb celebramos a nuestra querida patrona y benefactodrag Laca Udilla\, traigan sus bigotes y mejor look del régimen a una velada inolvidable para repartir la herencia de la abuelita. \ncon las actuaciones de\n👰🏻‍♂️PAKITA @pakitaspain\n👰🏻‍♂️YENESI @akayenesi\n👰🏻‍♂️BELIAL @belial_romerito\n👰🏻‍♂️CARVENTO @ccarvento\n👰🏻‍♂️ROSARIO MOLINA @larosariomolina \ny por su puesto la dueña del cortijo\n👰🏻‍♂️LACA UDILLA @laca.udilla \n🎧DJ @tejona.wav \n🖼️CARTEL: @viyusgi
URL:https://yastaclub.es/event/lolailo-la-noche-de-las-mil-caudillas/
LOCATION:Ya’sta Club\, Calle Valverde\, 10\, Madrid\, 28004\, España
CATEGORIES:Drag Queen 👠,LGTB 🏳️‍🌈
ATTACH;FMTTYPE=image/jpeg:https://yastaclub.es/wp-content/uploads/2024/01/photo_2024-01-23_10-08-22.jpg
END:VEVENT
END:VCALENDAR