BEGIN:VCALENDAR
VERSION:2.0
PRODID:-//Ya&#039;sta Club - ECPv6.15.20//NONSGML v1.0//EN
CALSCALE:GREGORIAN
METHOD:PUBLISH
X-ORIGINAL-URL:https://yastaclub.es
X-WR-CALDESC:Eventos para Ya&#039;sta Club
REFRESH-INTERVAL;VALUE=DURATION:PT1H
X-Robots-Tag:noindex
X-PUBLISHED-TTL:PT1H
BEGIN:VTIMEZONE
TZID:Europe/Madrid
BEGIN:DAYLIGHT
TZOFFSETFROM:+0100
TZOFFSETTO:+0200
TZNAME:CEST
DTSTART:20240331T010000
END:DAYLIGHT
BEGIN:STANDARD
TZOFFSETFROM:+0200
TZOFFSETTO:+0100
TZNAME:CET
DTSTART:20241027T010000
END:STANDARD
BEGIN:DAYLIGHT
TZOFFSETFROM:+0100
TZOFFSETTO:+0200
TZNAME:CEST
DTSTART:20250330T010000
END:DAYLIGHT
BEGIN:STANDARD
TZOFFSETFROM:+0200
TZOFFSETTO:+0100
TZNAME:CET
DTSTART:20251026T010000
END:STANDARD
BEGIN:DAYLIGHT
TZOFFSETFROM:+0100
TZOFFSETTO:+0200
TZNAME:CEST
DTSTART:20260329T010000
END:DAYLIGHT
BEGIN:STANDARD
TZOFFSETFROM:+0200
TZOFFSETTO:+0100
TZNAME:CET
DTSTART:20261025T010000
END:STANDARD
END:VTIMEZONE
BEGIN:VEVENT
DTSTART;TZID=Europe/Madrid:20250702T235500
DTEND;TZID=Europe/Madrid:20250703T053000
DTSTAMP:20260423T100029
CREATED:20250610T080507Z
LAST-MODIFIED:20250610T080646Z
UID:10001051-1751500500-1751520600@yastaclub.es
SUMMARY:THICK - 8º aniversario - Pride Edition
DESCRIPTION:Thick – 8º aniversario – Pride Edition \nDJS: \nVurdalak DJs \nNeo Scott
URL:https://yastaclub.es/event/thick-8o-aniversario-pride-edition/
LOCATION:Ya’sta Club\, Calle Valverde\, 10\, Madrid\, 28004\, España
CATEGORIES:Bear 🐻,Electrónica,Pride 2025
ATTACH;FMTTYPE=image/png:https://yastaclub.es/wp-content/uploads/2025/06/ANIVERSARIO-8-A4.png
END:VEVENT
BEGIN:VEVENT
DTSTART;TZID=Europe/Madrid:20250703T235500
DTEND;TZID=Europe/Madrid:20250704T060000
DTSTAMP:20260423T100029
CREATED:20250528T172328Z
LAST-MODIFIED:20250528T173946Z
UID:10001049-1751586900-1751608800@yastaclub.es
SUMMARY:BearbiePOP - Especial Orgullo 2025 (jueves)
DESCRIPTION:Entradas anticipadas aquí \n  \nLa sesión POP de Bears por excelencia de Madrid llega a Ya’sta Club. \nTodos los sábados en Calle Valverde\, 10.
URL:https://yastaclub.es/event/bearbiepop-especial-orgullo-2025-jueves/
LOCATION:Ya’sta Club\, Calle Valverde\, 10\, Madrid\, 28004\, España
CATEGORIES:Bear 🐻,Pride 2025
ATTACH;FMTTYPE=image/jpeg:https://yastaclub.es/wp-content/uploads/2025/05/sab5-YZ98q8R1PjfMXlqe-1.jpg
END:VEVENT
BEGIN:VEVENT
DTSTART;TZID=Europe/Madrid:20250705T235900
DTEND;TZID=Europe/Madrid:20250706T060000
DTSTAMP:20260423T100029
CREATED:20250528T172257Z
LAST-MODIFIED:20250528T173916Z
UID:10000739-1751759940-1751781600@yastaclub.es
SUMMARY:BearbiePOP - Especial Orgullo 2025
DESCRIPTION:Entradas anticipadas aquí \n  \nLa sesión POP de Bears por excelencia de Madrid llega a Ya’sta Club. \nTodos los sábados en Calle Valverde\, 10.
URL:https://yastaclub.es/event/bearbiepop-18-16/
LOCATION:Ya’sta Club\, Calle Valverde\, 10\, Madrid\, 28004\, España
CATEGORIES:Bear 🐻,LGTB 🏳️‍🌈,Pride 2025
ATTACH;FMTTYPE=image/jpeg:https://yastaclub.es/wp-content/uploads/2025/05/sab5-YZ98q8R1PjfMXlqe-1.jpg
END:VEVENT
BEGIN:VEVENT
DTSTART;TZID=Europe/Madrid:20250706T234500
DTEND;TZID=Europe/Madrid:20250707T053000
DTSTAMP:20260423T100029
CREATED:20250521T071908Z
LAST-MODIFIED:20250528T173943Z
UID:10001048-1751845500-1751866200@yastaclub.es
SUMMARY:Bear Pride 2025 Madrid
DESCRIPTION:BEAR PRIDE MADRID 2025 – Domingo 6 de julio\nÚnete a la edición más caliente de Bear Pride en plena Semana del Orgullo. \nLa cita será en Sala Ya’sta\, desde las 00:00 hasta las 05:30h\, con la mejor música del Grupo HOT y los DJs Chechu Ibiza & Luis Yanguas. \nEl evento contará con: \n• Espectáculos de gogós \n• Visuales \nEntradas: \n• Anticipadas (cupos limitados): 2 copas por 13€ \n• En puerta con flyer hasta la 01:30h: 2 por 15€ \n• Desde la 01:30h hasta el cierre: Entrada + 1 consumición por 17€ \nPre-Party oficial: desde las 16:00h en HOT \n¡Compra tu entrada ahora y vive la fiesta bear más esperada del Orgullo 2025! \n——————- \nBEAR PRIDE MADRID 2025 – Sunday\, July 6th\nCelebrate Pride Week with one of the most iconic bear events in Madrid! \nJoin us at Ya’sta Club from 12:00 AM to 5:30 AM for a night full of energy\, music\, and surprises. \nFeaturing: \n• HOT Group DJs Chechu Ibiza & Luis Yanguas \n• Go-go dancers \n• Immersive visuals \nTickets: \n• Advance Sale (limited availability): 2 drinks for €13 \n• At the door with flyer (until 1:30 AM): 2 drinks for €15 \n• After 1:30 AM: €17 incl. 1 drink \nOfficial Pre-Party at HOT from 4:00 PM
URL:https://yastaclub.es/event/bear-pride-2025-madrid/
LOCATION:Ya’sta Club\, Calle Valverde\, 10\, Madrid\, 28004\, España
CATEGORIES:Bear 🐻,LGTB 🏳️‍🌈,Pride 2025
ATTACH;FMTTYPE=image/jpeg:https://yastaclub.es/wp-content/uploads/2025/05/WhatsApp-Image-2025-05-19-at-18.17.13.jpeg
END:VEVENT
END:VCALENDAR