BEGIN:VCALENDAR
VERSION:2.0
PRODID:-//Ya&#039;sta Club - ECPv6.15.20//NONSGML v1.0//EN
CALSCALE:GREGORIAN
METHOD:PUBLISH
X-WR-CALNAME:Ya&#039;sta Club
X-ORIGINAL-URL:https://yastaclub.es
X-WR-CALDESC:Eventos para Ya&#039;sta Club
REFRESH-INTERVAL;VALUE=DURATION:PT1H
X-Robots-Tag:noindex
X-PUBLISHED-TTL:PT1H
BEGIN:VTIMEZONE
TZID:Europe/Madrid
BEGIN:DAYLIGHT
TZOFFSETFROM:+0100
TZOFFSETTO:+0200
TZNAME:CEST
DTSTART:20230326T010000
END:DAYLIGHT
BEGIN:STANDARD
TZOFFSETFROM:+0200
TZOFFSETTO:+0100
TZNAME:CET
DTSTART:20231029T010000
END:STANDARD
BEGIN:DAYLIGHT
TZOFFSETFROM:+0100
TZOFFSETTO:+0200
TZNAME:CEST
DTSTART:20240331T010000
END:DAYLIGHT
BEGIN:STANDARD
TZOFFSETFROM:+0200
TZOFFSETTO:+0100
TZNAME:CET
DTSTART:20241027T010000
END:STANDARD
BEGIN:DAYLIGHT
TZOFFSETFROM:+0100
TZOFFSETTO:+0200
TZNAME:CEST
DTSTART:20250330T010000
END:DAYLIGHT
BEGIN:STANDARD
TZOFFSETFROM:+0200
TZOFFSETTO:+0100
TZNAME:CET
DTSTART:20251026T010000
END:STANDARD
END:VTIMEZONE
BEGIN:VEVENT
DTSTART;TZID=Europe/Madrid:20241031T235900
DTEND;TZID=Europe/Madrid:20241101T060000
DTSTAMP:20260419T192834
CREATED:20241007T140635Z
LAST-MODIFIED:20241024T122129Z
UID:10000829-1730419140-1730440800@yastaclub.es
SUMMARY:BearbiePOP - Especial Halloween (víspera de festivo)
DESCRIPTION:Entradas anticipadas en Entradium
URL:https://yastaclub.es/event/bearbiepop-especial-halloween-vispera-de-festivo/
LOCATION:Ya’sta Club\, Calle Valverde\, 10\, Madrid\, 28004\, España
CATEGORIES:Bear 🐻,LGTB 🏳️‍🌈
ATTACH;FMTTYPE=image/jpeg:https://yastaclub.es/wp-content/uploads/2024/10/461939841_18341788705131266_8122295835270766381_n.jpg
END:VEVENT
BEGIN:VEVENT
DTSTART;TZID=Europe/Madrid:20241026T235900
DTEND;TZID=Europe/Madrid:20241027T050000
DTSTAMP:20260419T192834
CREATED:20240403T191957Z
LAST-MODIFIED:20241226T105441Z
UID:10000703-1729987140-1730005200@yastaclub.es
SUMMARY:BearbiePOP
DESCRIPTION:La sesión POP de Bears por excelencia de Madrid llega a Ya’sta Club. \nTodos los sábados en Calle Valverde\, 10.
URL:https://yastaclub.es/event/bearbiepop-18/2024-10-26/
LOCATION:Ya’sta Club\, Calle Valverde\, 10\, Madrid\, 28004\, España
CATEGORIES:Bear 🐻,LGTB 🏳️‍🌈
ATTACH;FMTTYPE=image/jpeg:https://yastaclub.es/wp-content/uploads/2023/06/bearbie-logo-2022.jpg
END:VEVENT
BEGIN:VEVENT
DTSTART;TZID=Europe/Madrid:20241019T235900
DTEND;TZID=Europe/Madrid:20241020T060000
DTSTAMP:20260419T192834
CREATED:20241016T090919Z
LAST-MODIFIED:20241016T090920Z
UID:10000702-1729382340-1729404000@yastaclub.es
SUMMARY:BearbiePOP
DESCRIPTION:La sesión POP de Bears por excelencia de Madrid llega a Ya’sta Club. \nTodos los sábados en Calle Valverde\, 10.
URL:https://yastaclub.es/event/bearbiepop-18-12/
LOCATION:Ya’sta Club\, Calle Valverde\, 10\, Madrid\, 28004\, España
CATEGORIES:Bear 🐻,LGTB 🏳️‍🌈
ATTACH;FMTTYPE=image/jpeg:https://yastaclub.es/wp-content/uploads/2024/04/WhatsApp-Image-2024-10-15-at-21.38.21.jpeg
END:VEVENT
BEGIN:VEVENT
DTSTART;TZID=Europe/Madrid:20241012T235900
DTEND;TZID=Europe/Madrid:20241013T060000
DTSTAMP:20260419T192834
CREATED:20241009T145915Z
LAST-MODIFIED:20241009T145915Z
UID:10000701-1728777540-1728799200@yastaclub.es
SUMMARY:BearbiePOP
DESCRIPTION:La sesión POP de Bears por excelencia de Madrid llega a Ya’sta Club. \nTodos los sábados en Calle Valverde\, 10.
URL:https://yastaclub.es/event/bearbiepop-18-11/
LOCATION:Ya’sta Club\, Calle Valverde\, 10\, Madrid\, 28004\, España
CATEGORIES:Bear 🐻,LGTB 🏳️‍🌈
ATTACH;FMTTYPE=image/jpeg:https://yastaclub.es/wp-content/uploads/2024/04/WhatsApp-Image-2024-10-08-at-12.20.29.jpeg
END:VEVENT
BEGIN:VEVENT
DTSTART;TZID=Europe/Madrid:20241005T235900
DTEND;TZID=Europe/Madrid:20241006T060000
DTSTAMP:20260419T192834
CREATED:20241003T141809Z
LAST-MODIFIED:20241003T141810Z
UID:10000700-1728172740-1728194400@yastaclub.es
SUMMARY:BearbiePOP
DESCRIPTION:La sesión POP de Bears por excelencia de Madrid llega a Ya’sta Club. \nTodos los sábados en Calle Valverde\, 10.
URL:https://yastaclub.es/event/bearbiepop-18-10/
LOCATION:Ya’sta Club\, Calle Valverde\, 10\, Madrid\, 28004\, España
CATEGORIES:Bear 🐻,LGTB 🏳️‍🌈
ATTACH;FMTTYPE=image/jpeg:https://yastaclub.es/wp-content/uploads/2024/04/WhatsApp-Image-2024-10-02-at-18.38.37.jpeg
END:VEVENT
BEGIN:VEVENT
DTSTART;TZID=Europe/Madrid:20240928T235900
DTEND;TZID=Europe/Madrid:20240929T060000
DTSTAMP:20260419T192834
CREATED:20240403T191957Z
LAST-MODIFIED:20241226T105441Z
UID:10000699-1727567940-1727589600@yastaclub.es
SUMMARY:BearbiePOP
DESCRIPTION:La sesión POP de Bears por excelencia de Madrid llega a Ya’sta Club. \nTodos los sábados en Calle Valverde\, 10.
URL:https://yastaclub.es/event/bearbiepop-18/2024-09-28/
LOCATION:Ya’sta Club\, Calle Valverde\, 10\, Madrid\, 28004\, España
CATEGORIES:Bear 🐻,LGTB 🏳️‍🌈
ATTACH;FMTTYPE=image/jpeg:https://yastaclub.es/wp-content/uploads/2023/06/bearbie-logo-2022.jpg
END:VEVENT
BEGIN:VEVENT
DTSTART;TZID=Europe/Madrid:20240921T235900
DTEND;TZID=Europe/Madrid:20240922T060000
DTSTAMP:20260419T192834
CREATED:20240403T191957Z
LAST-MODIFIED:20241226T105441Z
UID:10000698-1726963140-1726984800@yastaclub.es
SUMMARY:BearbiePOP
DESCRIPTION:La sesión POP de Bears por excelencia de Madrid llega a Ya’sta Club. \nTodos los sábados en Calle Valverde\, 10.
URL:https://yastaclub.es/event/bearbiepop-18/2024-09-21/
LOCATION:Ya’sta Club\, Calle Valverde\, 10\, Madrid\, 28004\, España
CATEGORIES:Bear 🐻,LGTB 🏳️‍🌈
ATTACH;FMTTYPE=image/jpeg:https://yastaclub.es/wp-content/uploads/2023/06/bearbie-logo-2022.jpg
END:VEVENT
BEGIN:VEVENT
DTSTART;TZID=Europe/Madrid:20240914T235900
DTEND;TZID=Europe/Madrid:20240915T060000
DTSTAMP:20260419T192834
CREATED:20240910T155451Z
LAST-MODIFIED:20240910T160026Z
UID:10000697-1726358340-1726380000@yastaclub.es
SUMMARY:BearbiePOP
DESCRIPTION:La sesión POP de Bears por excelencia de Madrid llega a Ya’sta Club. \nTodos los sábados en Calle Valverde\, 10.
URL:https://yastaclub.es/event/bearbiepop-18-9/
LOCATION:Ya’sta Club\, Calle Valverde\, 10\, Madrid\, 28004\, España
CATEGORIES:Bear 🐻,LGTB 🏳️‍🌈
ATTACH;FMTTYPE=image/jpeg:https://yastaclub.es/wp-content/uploads/2024/09/458954028_1067368528722855_7819713157429388028_n.jpg
END:VEVENT
BEGIN:VEVENT
DTSTART;TZID=Europe/Madrid:20240907T235900
DTEND;TZID=Europe/Madrid:20240908T060000
DTSTAMP:20260419T192834
CREATED:20240403T191957Z
LAST-MODIFIED:20241226T105441Z
UID:10000696-1725753540-1725775200@yastaclub.es
SUMMARY:BearbiePOP
DESCRIPTION:La sesión POP de Bears por excelencia de Madrid llega a Ya’sta Club. \nTodos los sábados en Calle Valverde\, 10.
URL:https://yastaclub.es/event/bearbiepop-18/2024-09-07/
LOCATION:Ya’sta Club\, Calle Valverde\, 10\, Madrid\, 28004\, España
CATEGORIES:Bear 🐻,LGTB 🏳️‍🌈
ATTACH;FMTTYPE=image/jpeg:https://yastaclub.es/wp-content/uploads/2023/06/bearbie-logo-2022.jpg
END:VEVENT
BEGIN:VEVENT
DTSTART;TZID=Europe/Madrid:20240831T235900
DTEND;TZID=Europe/Madrid:20240901T060000
DTSTAMP:20260419T192834
CREATED:20240806T112031Z
LAST-MODIFIED:20240806T112032Z
UID:10000695-1725148740-1725170400@yastaclub.es
SUMMARY:BearbiePOP
DESCRIPTION:La sesión POP de Bears por excelencia de Madrid llega a Ya’sta Club. \nTodos los sábados en Calle Valverde\, 10.
URL:https://yastaclub.es/event/bearbiepop-18-8/
LOCATION:Ya’sta Club\, Calle Valverde\, 10\, Madrid\, 28004\, España
CATEGORIES:Bear 🐻,LGTB 🏳️‍🌈
ATTACH;FMTTYPE=image/jpeg:https://yastaclub.es/wp-content/uploads/2024/04/WhatsApp-Image-2024-08-04-at-17.53.53.jpeg
END:VEVENT
BEGIN:VEVENT
DTSTART;TZID=Europe/Madrid:20240824T235900
DTEND;TZID=Europe/Madrid:20240825T060000
DTSTAMP:20260419T192834
CREATED:20240806T112027Z
LAST-MODIFIED:20240806T112027Z
UID:10000694-1724543940-1724565600@yastaclub.es
SUMMARY:BearbiePOP
DESCRIPTION:La sesión POP de Bears por excelencia de Madrid llega a Ya’sta Club. \nTodos los sábados en Calle Valverde\, 10.
URL:https://yastaclub.es/event/bearbiepop-18-7/
LOCATION:Ya’sta Club\, Calle Valverde\, 10\, Madrid\, 28004\, España
CATEGORIES:Bear 🐻,LGTB 🏳️‍🌈
ATTACH;FMTTYPE=image/jpeg:https://yastaclub.es/wp-content/uploads/2024/04/WhatsApp-Image-2024-08-04-at-17.53.53.jpeg
END:VEVENT
BEGIN:VEVENT
DTSTART;TZID=Europe/Madrid:20240817T235900
DTEND;TZID=Europe/Madrid:20240818T060000
DTSTAMP:20260419T192834
CREATED:20240813T094044Z
LAST-MODIFIED:20240813T094044Z
UID:10000808-1723939140-1723960800@yastaclub.es
SUMMARY:BearbiePOP
DESCRIPTION:
URL:https://yastaclub.es/event/bearbiepop-19/
LOCATION:Ya’sta Club\, Calle Valverde\, 10\, Madrid\, 28004\, España
CATEGORIES:Bear 🐻,LGTB 🏳️‍🌈
ATTACH;FMTTYPE=image/jpeg:https://yastaclub.es/wp-content/uploads/2024/08/b1.jpg
END:VEVENT
BEGIN:VEVENT
DTSTART;TZID=Europe/Madrid:20240810T235900
DTEND;TZID=Europe/Madrid:20240811T060000
DTSTAMP:20260419T192834
CREATED:20240806T112010Z
LAST-MODIFIED:20240806T112011Z
UID:10000692-1723334340-1723356000@yastaclub.es
SUMMARY:BearbiePOP
DESCRIPTION:La sesión POP de Bears por excelencia de Madrid llega a Ya’sta Club. \nTodos los sábados en Calle Valverde\, 10.
URL:https://yastaclub.es/event/bearbiepop-18-6/
LOCATION:Ya’sta Club\, Calle Valverde\, 10\, Madrid\, 28004\, España
CATEGORIES:Bear 🐻,LGTB 🏳️‍🌈
ATTACH;FMTTYPE=image/jpeg:https://yastaclub.es/wp-content/uploads/2024/04/WhatsApp-Image-2024-08-04-at-17.53.53.jpeg
END:VEVENT
BEGIN:VEVENT
DTSTART;TZID=Europe/Madrid:20240803T235900
DTEND;TZID=Europe/Madrid:20240804T060000
DTSTAMP:20260419T192834
CREATED:20240730T122301Z
LAST-MODIFIED:20240730T122303Z
UID:10000691-1722729540-1722751200@yastaclub.es
SUMMARY:BearbiePOP
DESCRIPTION:La sesión POP de Bears por excelencia de Madrid llega a Ya’sta Club. \nTodos los sábados en Calle Valverde\, 10.
URL:https://yastaclub.es/event/bearbiepop-18-5/
LOCATION:Ya’sta Club\, Calle Valverde\, 10\, Madrid\, 28004\, España
CATEGORIES:Bear 🐻,LGTB 🏳️‍🌈
ATTACH;FMTTYPE=image/jpeg:https://yastaclub.es/wp-content/uploads/2024/04/WhatsApp-Image-2024-07-30-at-07.54.06.jpeg
END:VEVENT
BEGIN:VEVENT
DTSTART;TZID=Europe/Madrid:20240727T235900
DTEND;TZID=Europe/Madrid:20240728T060000
DTSTAMP:20260419T192834
CREATED:20240403T191957Z
LAST-MODIFIED:20241226T105441Z
UID:10000690-1722124740-1722146400@yastaclub.es
SUMMARY:BearbiePOP
DESCRIPTION:La sesión POP de Bears por excelencia de Madrid llega a Ya’sta Club. \nTodos los sábados en Calle Valverde\, 10.
URL:https://yastaclub.es/event/bearbiepop-18/2024-07-27/
LOCATION:Ya’sta Club\, Calle Valverde\, 10\, Madrid\, 28004\, España
CATEGORIES:Bear 🐻,LGTB 🏳️‍🌈
ATTACH;FMTTYPE=image/jpeg:https://yastaclub.es/wp-content/uploads/2023/06/bearbie-logo-2022.jpg
END:VEVENT
BEGIN:VEVENT
DTSTART;TZID=Europe/Madrid:20240720T235900
DTEND;TZID=Europe/Madrid:20240721T060000
DTSTAMP:20260419T192834
CREATED:20240403T191957Z
LAST-MODIFIED:20241226T105441Z
UID:10000689-1721519940-1721541600@yastaclub.es
SUMMARY:BearbiePOP
DESCRIPTION:La sesión POP de Bears por excelencia de Madrid llega a Ya’sta Club. \nTodos los sábados en Calle Valverde\, 10.
URL:https://yastaclub.es/event/bearbiepop-18/2024-07-20/
LOCATION:Ya’sta Club\, Calle Valverde\, 10\, Madrid\, 28004\, España
CATEGORIES:Bear 🐻,LGTB 🏳️‍🌈
ATTACH;FMTTYPE=image/jpeg:https://yastaclub.es/wp-content/uploads/2023/06/bearbie-logo-2022.jpg
END:VEVENT
BEGIN:VEVENT
DTSTART;TZID=Europe/Madrid:20240713T235900
DTEND;TZID=Europe/Madrid:20240714T060000
DTSTAMP:20260419T192834
CREATED:20240403T191957Z
LAST-MODIFIED:20241226T105441Z
UID:10000688-1720915140-1720936800@yastaclub.es
SUMMARY:BearbiePOP
DESCRIPTION:La sesión POP de Bears por excelencia de Madrid llega a Ya’sta Club. \nTodos los sábados en Calle Valverde\, 10.
URL:https://yastaclub.es/event/bearbiepop-18/2024-07-13/
LOCATION:Ya’sta Club\, Calle Valverde\, 10\, Madrid\, 28004\, España
CATEGORIES:Bear 🐻,LGTB 🏳️‍🌈
ATTACH;FMTTYPE=image/jpeg:https://yastaclub.es/wp-content/uploads/2023/06/bearbie-logo-2022.jpg
END:VEVENT
BEGIN:VEVENT
DTSTART;TZID=Europe/Madrid:20240706T235900
DTEND;TZID=Europe/Madrid:20240707T060000
DTSTAMP:20260419T192834
CREATED:20240519T174950Z
LAST-MODIFIED:20240622T125130Z
UID:10000687-1720310340-1720332000@yastaclub.es
SUMMARY:BearbiePOP - Especial Pride 2024
DESCRIPTION:Especial Pride 2024 – Entradas en yastaclub.es/entradas\nLa sesión POP de Bears por excelencia de Madrid llega a Ya’sta Club. \nTodos los sábados en Calle Valverde\, 10.
URL:https://yastaclub.es/event/bearbiepop-18-2/
LOCATION:Ya’sta Club\, Calle Valverde\, 10\, Madrid\, 28004\, España
CATEGORIES:Bear 🐻,LGTB 🏳️‍🌈,Pride 2024
ATTACH;FMTTYPE=image/jpeg:https://yastaclub.es/wp-content/uploads/2024/05/bearbie_pride2024.jpg
END:VEVENT
BEGIN:VEVENT
DTSTART;TZID=Europe/Madrid:20240704T235900
DTEND;TZID=Europe/Madrid:20240705T053000
DTSTAMP:20260419T192834
CREATED:20240622T125048Z
LAST-MODIFIED:20240622T125048Z
UID:10000805-1720137540-1720157400@yastaclub.es
SUMMARY:BearbiePOP - Pride 2024
DESCRIPTION:
URL:https://yastaclub.es/event/bearbiepop-pride-2024/
LOCATION:Ya’sta Club\, Calle Valverde\, 10\, Madrid\, 28004\, España
CATEGORIES:Bear 🐻,LGTB 🏳️‍🌈,Pride 2024
ATTACH;FMTTYPE=image/avif:https://yastaclub.es/wp-content/uploads/2024/06/4thu-AoPepjOvX9frKDM6-1.avif
END:VEVENT
BEGIN:VEVENT
DTSTART;TZID=Europe/Madrid:20240703T235900
DTEND;TZID=Europe/Madrid:20240704T060000
DTSTAMP:20260419T192834
CREATED:20240622T124659Z
LAST-MODIFIED:20240622T124659Z
UID:10000804-1720051140-1720072800@yastaclub.es
SUMMARY:Thick - 7º aniversario - Pride Edition
DESCRIPTION:Thick – 7º aniversario – Pride Edition \nDJS: \nLuis Morillo \nNeo Scott \nEntradas
URL:https://yastaclub.es/event/thick-7o-aniversario-pride-edition/
LOCATION:Ya’sta Club\, Calle Valverde\, 10\, Madrid\, 28004\, España
CATEGORIES:Bear 🐻,LGTB 🏳️‍🌈,Pride 2024
ATTACH;FMTTYPE=image/jpeg:https://yastaclub.es/wp-content/uploads/2024/06/ANIVERSARIO-THICK.jpg
END:VEVENT
BEGIN:VEVENT
DTSTART;TZID=Europe/Madrid:20240629T235900
DTEND;TZID=Europe/Madrid:20240630T060000
DTSTAMP:20260419T192834
CREATED:20240403T191957Z
LAST-MODIFIED:20241226T105441Z
UID:10000686-1719705540-1719727200@yastaclub.es
SUMMARY:BearbiePOP
DESCRIPTION:La sesión POP de Bears por excelencia de Madrid llega a Ya’sta Club. \nTodos los sábados en Calle Valverde\, 10.
URL:https://yastaclub.es/event/bearbiepop-18/2024-06-29/
LOCATION:Ya’sta Club\, Calle Valverde\, 10\, Madrid\, 28004\, España
CATEGORIES:Bear 🐻,LGTB 🏳️‍🌈
ATTACH;FMTTYPE=image/jpeg:https://yastaclub.es/wp-content/uploads/2023/06/bearbie-logo-2022.jpg
END:VEVENT
BEGIN:VEVENT
DTSTART;TZID=Europe/Madrid:20240622T235900
DTEND;TZID=Europe/Madrid:20240623T060000
DTSTAMP:20260419T192834
CREATED:20240403T191957Z
LAST-MODIFIED:20241226T105441Z
UID:10000685-1719100740-1719122400@yastaclub.es
SUMMARY:BearbiePOP
DESCRIPTION:La sesión POP de Bears por excelencia de Madrid llega a Ya’sta Club. \nTodos los sábados en Calle Valverde\, 10.
URL:https://yastaclub.es/event/bearbiepop-18/2024-06-22/
LOCATION:Ya’sta Club\, Calle Valverde\, 10\, Madrid\, 28004\, España
CATEGORIES:Bear 🐻,LGTB 🏳️‍🌈
ATTACH;FMTTYPE=image/jpeg:https://yastaclub.es/wp-content/uploads/2023/06/bearbie-logo-2022.jpg
END:VEVENT
BEGIN:VEVENT
DTSTART;TZID=Europe/Madrid:20240615T235900
DTEND;TZID=Europe/Madrid:20240616T060000
DTSTAMP:20260419T192834
CREATED:20240403T191957Z
LAST-MODIFIED:20241226T105441Z
UID:10000684-1718495940-1718517600@yastaclub.es
SUMMARY:BearbiePOP
DESCRIPTION:La sesión POP de Bears por excelencia de Madrid llega a Ya’sta Club. \nTodos los sábados en Calle Valverde\, 10.
URL:https://yastaclub.es/event/bearbiepop-18/2024-06-15/
LOCATION:Ya’sta Club\, Calle Valverde\, 10\, Madrid\, 28004\, España
CATEGORIES:Bear 🐻,LGTB 🏳️‍🌈
ATTACH;FMTTYPE=image/jpeg:https://yastaclub.es/wp-content/uploads/2023/06/bearbie-logo-2022.jpg
END:VEVENT
BEGIN:VEVENT
DTSTART;TZID=Europe/Madrid:20240608T235900
DTEND;TZID=Europe/Madrid:20240609T060000
DTSTAMP:20260419T192834
CREATED:20240403T191957Z
LAST-MODIFIED:20241226T105441Z
UID:10000683-1717891140-1717912800@yastaclub.es
SUMMARY:BearbiePOP
DESCRIPTION:La sesión POP de Bears por excelencia de Madrid llega a Ya’sta Club. \nTodos los sábados en Calle Valverde\, 10.
URL:https://yastaclub.es/event/bearbiepop-18/2024-06-08/
LOCATION:Ya’sta Club\, Calle Valverde\, 10\, Madrid\, 28004\, España
CATEGORIES:Bear 🐻,LGTB 🏳️‍🌈
ATTACH;FMTTYPE=image/jpeg:https://yastaclub.es/wp-content/uploads/2023/06/bearbie-logo-2022.jpg
END:VEVENT
BEGIN:VEVENT
DTSTART;TZID=Europe/Madrid:20240607T235900
DTEND;TZID=Europe/Madrid:20240608T060000
DTSTAMP:20260419T192834
CREATED:20240602T170819Z
LAST-MODIFIED:20240602T170819Z
UID:10000803-1717804740-1717826400@yastaclub.es
SUMMARY:GloryPOP
DESCRIPTION:
URL:https://yastaclub.es/event/glorypop-07-06-2024/
LOCATION:Ya’sta Club\, Calle Valverde\, 10\, Madrid\, 28004\, España
CATEGORIES:Bear 🐻,Drag Queen 👠,LGTB 🏳️‍🌈
ATTACH;FMTTYPE=image/jpeg:https://yastaclub.es/wp-content/uploads/2024/06/glorypop-07-06-2024.jpg
END:VEVENT
BEGIN:VEVENT
DTSTART;TZID=Europe/Madrid:20240601T235900
DTEND;TZID=Europe/Madrid:20240602T060000
DTSTAMP:20260419T192834
CREATED:20240531T204207Z
LAST-MODIFIED:20240531T205032Z
UID:10000682-1717286340-1717308000@yastaclub.es
SUMMARY:BearbiePOP
DESCRIPTION:La sesión POP de Bears por excelencia de Madrid llega a Ya’sta Club. \nTodos los sábados en Calle Valverde\, 10.
URL:https://yastaclub.es/event/bearbiepop-18-4/
LOCATION:Ya’sta Club\, Calle Valverde\, 10\, Madrid\, 28004\, España
CATEGORIES:Bear 🐻,LGTB 🏳️‍🌈
ATTACH;FMTTYPE=image/jpeg:https://yastaclub.es/wp-content/uploads/2024/04/446777839_832602798725043_6110840907978376319_n.jpg
END:VEVENT
BEGIN:VEVENT
DTSTART;TZID=Europe/Madrid:20240525T235900
DTEND;TZID=Europe/Madrid:20240526T060000
DTSTAMP:20260419T192834
CREATED:20240521T170920Z
LAST-MODIFIED:20240521T170921Z
UID:10000681-1716681540-1716703200@yastaclub.es
SUMMARY:BearbiePOP
DESCRIPTION:La sesión POP de Bears por excelencia de Madrid llega a Ya’sta Club. \nTodos los sábados en Calle Valverde\, 10.
URL:https://yastaclub.es/event/bearbiepop-18-3/
LOCATION:Ya’sta Club\, Calle Valverde\, 10\, Madrid\, 28004\, España
CATEGORIES:Bear 🐻,LGTB 🏳️‍🌈
ATTACH;FMTTYPE=image/jpeg:https://yastaclub.es/wp-content/uploads/2024/04/WhatsApp-Image-2024-05-21-at-13.19.18.jpeg
END:VEVENT
BEGIN:VEVENT
DTSTART;TZID=Europe/Madrid:20240518T235900
DTEND;TZID=Europe/Madrid:20240519T060000
DTSTAMP:20260419T192834
CREATED:20240403T191957Z
LAST-MODIFIED:20241226T105441Z
UID:10000680-1716076740-1716098400@yastaclub.es
SUMMARY:BearbiePOP
DESCRIPTION:La sesión POP de Bears por excelencia de Madrid llega a Ya’sta Club. \nTodos los sábados en Calle Valverde\, 10.
URL:https://yastaclub.es/event/bearbiepop-18/2024-05-18/
LOCATION:Ya’sta Club\, Calle Valverde\, 10\, Madrid\, 28004\, España
CATEGORIES:Bear 🐻,LGTB 🏳️‍🌈
ATTACH;FMTTYPE=image/jpeg:https://yastaclub.es/wp-content/uploads/2023/06/bearbie-logo-2022.jpg
END:VEVENT
BEGIN:VEVENT
DTSTART;TZID=Europe/Madrid:20240511T235900
DTEND;TZID=Europe/Madrid:20240512T060000
DTSTAMP:20260419T192834
CREATED:20240403T191957Z
LAST-MODIFIED:20241226T105441Z
UID:10000679-1715471940-1715493600@yastaclub.es
SUMMARY:BearbiePOP
DESCRIPTION:La sesión POP de Bears por excelencia de Madrid llega a Ya’sta Club. \nTodos los sábados en Calle Valverde\, 10.
URL:https://yastaclub.es/event/bearbiepop-18/2024-05-11/
LOCATION:Ya’sta Club\, Calle Valverde\, 10\, Madrid\, 28004\, España
CATEGORIES:Bear 🐻,LGTB 🏳️‍🌈
ATTACH;FMTTYPE=image/jpeg:https://yastaclub.es/wp-content/uploads/2023/06/bearbie-logo-2022.jpg
END:VEVENT
BEGIN:VEVENT
DTSTART;TZID=Europe/Madrid:20240504T235900
DTEND;TZID=Europe/Madrid:20240505T060000
DTSTAMP:20260419T192834
CREATED:20240403T191957Z
LAST-MODIFIED:20241226T105441Z
UID:10000678-1714867140-1714888800@yastaclub.es
SUMMARY:BearbiePOP
DESCRIPTION:La sesión POP de Bears por excelencia de Madrid llega a Ya’sta Club. \nTodos los sábados en Calle Valverde\, 10.
URL:https://yastaclub.es/event/bearbiepop-18/2024-05-04/
LOCATION:Ya’sta Club\, Calle Valverde\, 10\, Madrid\, 28004\, España
CATEGORIES:Bear 🐻,LGTB 🏳️‍🌈
ATTACH;FMTTYPE=image/jpeg:https://yastaclub.es/wp-content/uploads/2023/06/bearbie-logo-2022.jpg
END:VEVENT
END:VCALENDAR