BEGIN:VCALENDAR
VERSION:2.0
PRODID:-//Ya&#039;sta Club - ECPv6.15.20//NONSGML v1.0//EN
CALSCALE:GREGORIAN
METHOD:PUBLISH
X-ORIGINAL-URL:https://yastaclub.es
X-WR-CALDESC:Eventos para Ya&#039;sta Club
REFRESH-INTERVAL;VALUE=DURATION:PT1H
X-Robots-Tag:noindex
X-PUBLISHED-TTL:PT1H
BEGIN:VTIMEZONE
TZID:UTC
BEGIN:STANDARD
TZOFFSETFROM:+0000
TZOFFSETTO:+0000
TZNAME:UTC
DTSTART:20210101T000000
END:STANDARD
END:VTIMEZONE
BEGIN:VEVENT
DTSTART;TZID=UTC:20221001T235900
DTEND;TZID=UTC:20221002T060000
DTSTAMP:20260422T023252
CREATED:20220929T184500Z
LAST-MODIFIED:20220929T184500Z
UID:10000305-1664668740-1664690400@yastaclub.es
SUMMARY:Bearbie Pop + Bear Sound
DESCRIPTION:¡Este sábado! \n@bearbie_oficial + @bearsound_spain \nSin anticipadas. Sólo en taquilla. ¡Os esperamos! \nPróximos eventos en yastaclub.es
URL:https://yastaclub.es/event/bearbie-pop-bear-sound-01-10-2022/
LOCATION:Ya’sta Club\, Calle Valverde\, 10\, Madrid\, 28004\, España
CATEGORIES:Bear 🐻,Drag Queen 👠,LGTB 🏳️‍🌈
ATTACH;FMTTYPE=image/jpeg:https://yastaclub.es/wp-content/uploads/2022/09/308918933_176457564932831_7739832555971389314_n.jpg
END:VEVENT
BEGIN:VEVENT
DTSTART;TZID=UTC:20220910T235900
DTEND;TZID=UTC:20220911T235900
DTSTAMP:20260422T023252
CREATED:20220908T054209Z
LAST-MODIFIED:20220909T184404Z
UID:10000300-1662854340-1662940740@yastaclub.es
SUMMARY:Bearbie Pop + Bear Sound
DESCRIPTION:¡Este sábado! \n@bearbie_oficial + @bearsound_spain \n🎧 @agustinquerol_dj\n🎧 @aviadordeluxe\n🎧 @julian_almazan \nSin anticipadas. Sólo en taquilla. ¡Os esperamos! \nPróximos eventos en yastaclub.es
URL:https://yastaclub.es/event/bearbie-pop-bear-sound-10-septiembre-2022/
LOCATION:Ya’sta Club\, Calle Valverde\, 10\, Madrid\, 28004\, España
CATEGORIES:Bear 🐻,Drag Queen 👠,LGTB 🏳️‍🌈
ATTACH;FMTTYPE=image/png:https://yastaclub.es/wp-content/uploads/2022/06/bearbie-bear-sound-2022.png
END:VEVENT
BEGIN:VEVENT
DTSTART;TZID=UTC:20220903T235900
DTEND;TZID=UTC:20220904T235900
DTSTAMP:20260422T023252
CREATED:20220901T062002Z
LAST-MODIFIED:20220901T062002Z
UID:10000298-1662249540-1662335940@yastaclub.es
SUMMARY:Bearbie Pop
DESCRIPTION:
URL:https://yastaclub.es/event/bearbie-pop-3-de-septiembre-2022/
LOCATION:Ya’sta Club\, Calle Valverde\, 10\, Madrid\, 28004\, España
CATEGORIES:Bear 🐻,LGTB 🏳️‍🌈
ATTACH;FMTTYPE=image/jpeg:https://yastaclub.es/wp-content/uploads/2022/09/301275560_647489016783955_3310191500993183935_n.jpg
END:VEVENT
BEGIN:VEVENT
DTSTART;TZID=UTC:20220827T235500
DTEND;TZID=UTC:20220828T060000
DTSTAMP:20260422T023252
CREATED:20220822T182554Z
LAST-MODIFIED:20220822T182554Z
UID:10000295-1661644500-1661666400@yastaclub.es
SUMMARY:Bearbie POP
DESCRIPTION:
URL:https://yastaclub.es/event/bearbie-pop-27-08-2022/
LOCATION:Ya’sta Club\, Calle Valverde\, 10\, Madrid\, 28004\, España
CATEGORIES:Bear 🐻,LGTB 🏳️‍🌈
ATTACH;FMTTYPE=image/jpeg:https://yastaclub.es/wp-content/uploads/2022/08/WhatsApp-Image-2022-08-22-at-7.39.44-PM.jpeg
END:VEVENT
BEGIN:VEVENT
DTSTART;VALUE=DATE:20220716
DTEND;VALUE=DATE:20220718
DTSTAMP:20260422T023252
CREATED:20220714T070446Z
LAST-MODIFIED:20220714T070446Z
UID:10000289-1657951200-1658037599@yastaclub.es
SUMMARY:Bearbie + Bear Sound
DESCRIPTION:
URL:https://yastaclub.es/event/bearbie-bear-sound-13/
LOCATION:Ya’sta Club\, Calle Valverde\, 10\, Madrid\, 28004\, España
CATEGORIES:Bear 🐻,Drag Queen 👠,LGTB 🏳️‍🌈
ATTACH;FMTTYPE=image/jpeg:https://yastaclub.es/wp-content/uploads/2022/07/292945453_538840451367696_8457704710549142252_n.jpg
END:VEVENT
BEGIN:VEVENT
DTSTART;VALUE=DATE:20220710
DTEND;VALUE=DATE:20220712
DTSTAMP:20260422T023252
CREATED:20220709T105857Z
LAST-MODIFIED:20220709T105857Z
UID:10000288-1657432800-1657519199@yastaclub.es
SUMMARY:HOT
DESCRIPTION:
URL:https://yastaclub.es/event/hot/
LOCATION:Ya’sta Club\, Calle Valverde\, 10\, Madrid\, 28004\, España
CATEGORIES:Bear 🐻,LGTB 🏳️‍🌈
ATTACH;FMTTYPE=image/jpeg:https://yastaclub.es/wp-content/uploads/2022/06/WhatsApp-Image-2022-06-12-at-12.07.56-AM.jpeg
END:VEVENT
BEGIN:VEVENT
DTSTART;TZID=UTC:20220709T235500
DTEND;TZID=UTC:20220710T060000
DTSTAMP:20260422T023252
CREATED:20220627T190836Z
LAST-MODIFIED:20220627T190836Z
UID:10000286-1657410900-1657432800@yastaclub.es
SUMMARY:Bearbie + Bear Sound
DESCRIPTION:
URL:https://yastaclub.es/event/bearbie-bear-sound-12/
LOCATION:Ya’sta Club\, Calle Valverde\, 10\, Madrid\, 28004\, España
CATEGORIES:Bear 🐻,LGTB 🏳️‍🌈
ATTACH;FMTTYPE=image/png:https://yastaclub.es/wp-content/uploads/2022/06/bearbie-bear-sound-2022.png
END:VEVENT
BEGIN:VEVENT
DTSTART;VALUE=DATE:20220702
DTEND;VALUE=DATE:20220704
DTSTAMP:20260422T023252
CREATED:20220627T190600Z
LAST-MODIFIED:20220627T190600Z
UID:10000285-1656741600-1656827999@yastaclub.es
SUMMARY:Bearbie + Bear Sound
DESCRIPTION:
URL:https://yastaclub.es/event/bearbie-bear-sound-10/
LOCATION:Ya’sta Club\, Calle Valverde\, 10\, Madrid\, 28004\, España
CATEGORIES:Bear 🐻,LGTB 🏳️‍🌈
ATTACH;FMTTYPE=image/png:https://yastaclub.es/wp-content/uploads/2022/06/bearbie-bear-sound-2022.png
END:VEVENT
BEGIN:VEVENT
DTSTART;VALUE=DATE:20220625
DTEND;VALUE=DATE:20220627
DTSTAMP:20260422T023252
CREATED:20220613T154306Z
LAST-MODIFIED:20220613T154306Z
UID:10000280-1656136800-1656223199@yastaclub.es
SUMMARY:Bearbie + Bear Sound
DESCRIPTION:
URL:https://yastaclub.es/event/bearbie-bear-sound-9/
LOCATION:Ya’sta Club\, Calle Valverde\, 10\, Madrid\, 28004\, España
CATEGORIES:Bear 🐻,LGTB 🏳️‍🌈
ATTACH;FMTTYPE=image/jpeg:https://yastaclub.es/wp-content/uploads/2022/06/WhatsApp-Image-2022-06-09-at-11.17.40-AM.jpeg
END:VEVENT
BEGIN:VEVENT
DTSTART;VALUE=DATE:20220611
DTEND;VALUE=DATE:20220613
DTSTAMP:20260422T023252
CREATED:20220609T130225Z
LAST-MODIFIED:20220609T130225Z
UID:10000277-1654927200-1655013599@yastaclub.es
SUMMARY:Bearbie + Bear Sound
DESCRIPTION:
URL:https://yastaclub.es/event/bearbie-bear-sound-8/
LOCATION:Ya’sta Club\, Calle Valverde\, 10\, Madrid\, 28004\, España
CATEGORIES:Bear 🐻,LGTB 🏳️‍🌈
ATTACH;FMTTYPE=image/jpeg:https://yastaclub.es/wp-content/uploads/2022/06/WhatsApp-Image-2022-06-09-at-11.17.26-AM.jpeg
END:VEVENT
BEGIN:VEVENT
DTSTART;VALUE=DATE:20220604
DTEND;VALUE=DATE:20220606
DTSTAMP:20260422T023252
CREATED:20220531T043433Z
LAST-MODIFIED:20220531T171206Z
UID:10000269-1654322400-1654408799@yastaclub.es
SUMMARY:Bearbie + Bear Sound
DESCRIPTION:
URL:https://yastaclub.es/event/bearbie-bear-sound-7/
LOCATION:Ya’sta Club\, Calle Valverde\, 10\, Madrid\, 28004\, España
CATEGORIES:Bear 🐻,LGTB 🏳️‍🌈
ATTACH;FMTTYPE=image/jpeg:https://yastaclub.es/wp-content/uploads/2022/05/WhatsApp-Image-2022-05-31-at-4.09.51-PM.jpeg
END:VEVENT
BEGIN:VEVENT
DTSTART;VALUE=DATE:20220528
DTEND;VALUE=DATE:20220530
DTSTAMP:20260422T023252
CREATED:20220524T122355Z
LAST-MODIFIED:20220524T122355Z
UID:10000266-1653717600-1653803999@yastaclub.es
SUMMARY:Bearbie + Bear Sound
DESCRIPTION:
URL:https://yastaclub.es/event/bearbie-bear-sound-6/
LOCATION:Ya’sta Club\, Calle Valverde\, 10\, Madrid\, 28004\, España
CATEGORIES:Bear 🐻,LGTB 🏳️‍🌈
ATTACH;FMTTYPE=image/jpeg:https://yastaclub.es/wp-content/uploads/2022/05/283048886_692583215359610_8961051173173908604_n.jpg
END:VEVENT
BEGIN:VEVENT
DTSTART;VALUE=DATE:20220514
DTEND;VALUE=DATE:20220516
DTSTAMP:20260422T023252
CREATED:20220512T101358Z
LAST-MODIFIED:20220512T101358Z
UID:10000263-1652508000-1652594399@yastaclub.es
SUMMARY:Bearbie + Bear Sound
DESCRIPTION:
URL:https://yastaclub.es/event/bearbie-bear-sound-5/
LOCATION:Ya’sta Club\, Calle Valverde\, 10\, Madrid\, 28004\, España
CATEGORIES:Bear 🐻,LGTB 🏳️‍🌈
ATTACH;FMTTYPE=image/jpeg:https://yastaclub.es/wp-content/uploads/2022/05/280206279_1333706710453732_8244044733490140728_n.jpg
END:VEVENT
BEGIN:VEVENT
DTSTART;VALUE=DATE:20220512
DTEND;VALUE=DATE:20220514
DTSTAMP:20260422T023252
CREATED:20220508T053955Z
LAST-MODIFIED:20220508T053955Z
UID:10000262-1652335200-1652421599@yastaclub.es
SUMMARY:Bearbie POP
DESCRIPTION:
URL:https://yastaclub.es/event/bearbie-pop/
LOCATION:Ya’sta Club\, Calle Valverde\, 10\, Madrid\, 28004\, España
CATEGORIES:Bear 🐻,Drag Queen 👠,LGTB 🏳️‍🌈
ATTACH;FMTTYPE=image/jpeg:https://yastaclub.es/wp-content/uploads/2022/05/280066181_146948964533003_2489313632756658857_n.jpg
END:VEVENT
BEGIN:VEVENT
DTSTART;VALUE=DATE:20220506
DTEND;VALUE=DATE:20220508
DTSTAMP:20260422T023252
CREATED:20220406T151236Z
LAST-MODIFIED:20220505T060231Z
UID:10000251-1651816800-1651903199@yastaclub.es
SUMMARY:Bearbie + Bear Sound
DESCRIPTION:
URL:https://yastaclub.es/event/bearbie-bear-sound-4/
LOCATION:Ya’sta Club\, Calle Valverde\, 10\, Madrid\, 28004\, España
CATEGORIES:Bear 🐻,LGTB 🏳️‍🌈
ATTACH;FMTTYPE=image/jpeg:https://yastaclub.es/wp-content/uploads/2022/04/279700241_1759555184375533_6939805655584134812_n.jpg
END:VEVENT
BEGIN:VEVENT
DTSTART;VALUE=DATE:20220326
DTEND;VALUE=DATE:20220328
DTSTAMP:20260422T023252
CREATED:20220311T064415Z
LAST-MODIFIED:20220321T075638Z
UID:10000239-1648274400-1648360799@yastaclub.es
SUMMARY:Bearbie + Bear Sound
DESCRIPTION:
URL:https://yastaclub.es/event/bearbie-bear-sound-3/
LOCATION:Ya’sta Club\, Calle Valverde\, 10\, Madrid\, 28004\, España
CATEGORIES:Bear 🐻,LGTB 🏳️‍🌈
ATTACH;FMTTYPE=image/jpeg:https://yastaclub.es/wp-content/uploads/2022/03/276978450_330977242427025_7771402380315665026_n-e1652909442326.jpg
END:VEVENT
END:VCALENDAR