BEGIN:VCALENDAR
VERSION:2.0
PRODID:-//Ya&#039;sta Club - ECPv6.15.20//NONSGML v1.0//EN
CALSCALE:GREGORIAN
METHOD:PUBLISH
X-ORIGINAL-URL:https://yastaclub.es
X-WR-CALDESC:Eventos para Ya&#039;sta Club
REFRESH-INTERVAL;VALUE=DURATION:PT1H
X-Robots-Tag:noindex
X-PUBLISHED-TTL:PT1H
BEGIN:VTIMEZONE
TZID:Europe/Paris
BEGIN:DAYLIGHT
TZOFFSETFROM:+0100
TZOFFSETTO:+0200
TZNAME:CEST
DTSTART:20220327T010000
END:DAYLIGHT
BEGIN:STANDARD
TZOFFSETFROM:+0200
TZOFFSETTO:+0100
TZNAME:CET
DTSTART:20221030T010000
END:STANDARD
BEGIN:DAYLIGHT
TZOFFSETFROM:+0100
TZOFFSETTO:+0200
TZNAME:CEST
DTSTART:20230326T010000
END:DAYLIGHT
BEGIN:STANDARD
TZOFFSETFROM:+0200
TZOFFSETTO:+0100
TZNAME:CET
DTSTART:20231029T010000
END:STANDARD
BEGIN:DAYLIGHT
TZOFFSETFROM:+0100
TZOFFSETTO:+0200
TZNAME:CEST
DTSTART:20240331T010000
END:DAYLIGHT
BEGIN:STANDARD
TZOFFSETFROM:+0200
TZOFFSETTO:+0100
TZNAME:CET
DTSTART:20241027T010000
END:STANDARD
END:VTIMEZONE
BEGIN:VTIMEZONE
TZID:UTC
BEGIN:STANDARD
TZOFFSETFROM:+0000
TZOFFSETTO:+0000
TZNAME:UTC
DTSTART:20210101T000000
END:STANDARD
END:VTIMEZONE
BEGIN:VEVENT
DTSTART;VALUE=DATE:20230624
DTEND;VALUE=DATE:20230626
DTSTAMP:20260421T180207
CREATED:20230606T082304Z
LAST-MODIFIED:20230623T084450Z
UID:10000428-1687586400-1687672799@yastaclub.es
SUMMARY:BearbiePOP
DESCRIPTION:
URL:https://yastaclub.es/event/bearbiepop-11/
LOCATION:Ya’sta Club\, Calle Valverde\, 10\, Madrid\, 28004\, España
CATEGORIES:Bear 🐻,LGTB 🏳️‍🌈
ATTACH;FMTTYPE=image/jpeg:https://yastaclub.es/wp-content/uploads/2023/06/bearbie-logo-2022.jpg
END:VEVENT
BEGIN:VEVENT
DTSTART;VALUE=DATE:20230617
DTEND;VALUE=DATE:20230619
DTSTAMP:20260421T180207
CREATED:20230606T065032Z
LAST-MODIFIED:20230612T163037Z
UID:10000426-1686981600-1687067999@yastaclub.es
SUMMARY:BearbiePOP
DESCRIPTION:
URL:https://yastaclub.es/event/bearbiepop-10/
LOCATION:Ya’sta Club\, Calle Valverde\, 10\, Madrid\, 28004\, España
CATEGORIES:Bear 🐻,LGTB 🏳️‍🌈
ATTACH;FMTTYPE=image/jpeg:https://yastaclub.es/wp-content/uploads/2023/06/WhatsApp-Image-2023-06-12-at-18.34.36.jpeg
END:VEVENT
BEGIN:VEVENT
DTSTART;VALUE=DATE:20230610
DTEND;VALUE=DATE:20230612
DTSTAMP:20260421T180207
CREATED:20230602T105546Z
LAST-MODIFIED:20230602T105546Z
UID:10000423-1686376800-1686463199@yastaclub.es
SUMMARY:BearbiePOP
DESCRIPTION:
URL:https://yastaclub.es/event/bearbiepop-9/
LOCATION:Ya’sta Club\, Calle Valverde\, 10\, Madrid\, 28004\, España
CATEGORIES:Bear 🐻
ATTACH;FMTTYPE=image/jpeg:https://yastaclub.es/wp-content/uploads/2023/06/10_06_02.jpg
END:VEVENT
BEGIN:VEVENT
DTSTART;VALUE=DATE:20230603
DTEND;VALUE=DATE:20230605
DTSTAMP:20260421T180207
CREATED:20230601T154244Z
LAST-MODIFIED:20230601T154244Z
UID:10000422-1685772000-1685858399@yastaclub.es
SUMMARY:BearbiePOP
DESCRIPTION:
URL:https://yastaclub.es/event/bearbiepop/
LOCATION:Ya’sta Club\, Calle Valverde\, 10\, Madrid\, 28004\, España
CATEGORIES:Bear 🐻
ATTACH;FMTTYPE=image/jpeg:https://yastaclub.es/wp-content/uploads/2023/06/WhatsApp-Image-2023-05-30-at-17.22.10.jpeg
END:VEVENT
BEGIN:VEVENT
DTSTART;VALUE=DATE:20230527
DTEND;VALUE=DATE:20230530
DTSTAMP:20260421T180207
CREATED:20230511T073421Z
LAST-MODIFIED:20230527T070405Z
UID:10000418-1685167200-1685339999@yastaclub.es
SUMMARY:BearbiePOP
DESCRIPTION:
URL:https://yastaclub.es/event/bearbiepop-27-05-2023/
LOCATION:Ya’sta Club\, Calle Valverde\, 10\, Madrid\, 28004\, España
CATEGORIES:Bear 🐻,LGTB 🏳️‍🌈
ATTACH;FMTTYPE=image/jpeg:https://yastaclub.es/wp-content/uploads/2023/05/25febofi2web-2.jpg
END:VEVENT
BEGIN:VEVENT
DTSTART;TZID=Europe/Paris:20230520T235500
DTEND;TZID=Europe/Paris:20230521T060000
DTSTAMP:20260421T180207
CREATED:20230511T073124Z
LAST-MODIFIED:20230517T082538Z
UID:10000416-1684626900-1684648800@yastaclub.es
SUMMARY:BearbiePOP
DESCRIPTION:
URL:https://yastaclub.es/event/bearbiepop-20-05-2023/
LOCATION:Ya’sta Club\, Calle Valverde\, 10\, Madrid\, 28004\, España
CATEGORIES:Bear 🐻,LGTB 🏳️‍🌈
ATTACH;FMTTYPE=image/jpeg:https://yastaclub.es/wp-content/uploads/2023/05/25febofi2web-1.jpg
END:VEVENT
BEGIN:VEVENT
DTSTART;TZID=Europe/Paris:20230513T235900
DTEND;TZID=Europe/Paris:20230514T060000
DTSTAMP:20260421T180207
CREATED:20230509T141939Z
LAST-MODIFIED:20230511T084426Z
UID:10000412-1684022340-1684044000@yastaclub.es
SUMMARY:BearbiePOP
DESCRIPTION:Este sábado\, BearbiePop después de ver Eurovisión 🇪🇺🕊️ \nDJs:\n🎧 @agustinquerol_dj\n🎧 @aviadordeluxe\n🎧 @marianodj1973
URL:https://yastaclub.es/event/bearbiepop-13-05-2023/
LOCATION:Ya’sta Club\, Calle Valverde\, 10\, Madrid\, 28004\, España
CATEGORIES:Bear 🐻
ATTACH;FMTTYPE=image/jpeg:https://yastaclub.es/wp-content/uploads/2023/05/25febofi2web.jpg
END:VEVENT
BEGIN:VEVENT
DTSTART;TZID=Europe/Paris:20230506T235500
DTEND;TZID=Europe/Paris:20230507T060000
DTSTAMP:20260421T180207
CREATED:20230504T053148Z
LAST-MODIFIED:20230504T053201Z
UID:10000409-1683417300-1683439200@yastaclub.es
SUMMARY:BearbiePOP
DESCRIPTION:
URL:https://yastaclub.es/event/bearbiepop-07-05-2023/
LOCATION:Ya’sta Club\, Calle Valverde\, 10\, Madrid\, 28004\, España
CATEGORIES:Bear 🐻,LGTB 🏳️‍🌈
ATTACH;FMTTYPE=image/jpeg:https://yastaclub.es/wp-content/uploads/2023/05/344765331_889969178741460_8335488645918511823_n-1.jpg
END:VEVENT
BEGIN:VEVENT
DTSTART;TZID=Europe/Paris:20230429T235900
DTEND;TZID=Europe/Paris:20230430T060000
DTSTAMP:20260421T180207
CREATED:20230427T065226Z
LAST-MODIFIED:20230427T065226Z
UID:10000403-1682812740-1682834400@yastaclub.es
SUMMARY:Bearbie POP
DESCRIPTION:
URL:https://yastaclub.es/event/bearbie-pop-2/
LOCATION:Ya’sta Club\, Calle Valverde\, 10\, Madrid\, 28004\, España
CATEGORIES:Bear 🐻,LGTB 🏳️‍🌈
ATTACH;FMTTYPE=image/jpeg:https://yastaclub.es/wp-content/uploads/2023/04/343309348_160126663661657_1218537330111451680_n.jpg
END:VEVENT
BEGIN:VEVENT
DTSTART;TZID=Europe/Paris:20230422T235500
DTEND;TZID=Europe/Paris:20230423T060000
DTSTAMP:20260421T180207
CREATED:20230411T192631Z
LAST-MODIFIED:20230419T073811Z
UID:10000400-1682207700-1682229600@yastaclub.es
SUMMARY:BearbiePop
DESCRIPTION:
URL:https://yastaclub.es/event/bearbiepop-22-04-2023/
LOCATION:Ya’sta Club\, Calle Valverde\, 10\, Madrid\, 28004\, España
CATEGORIES:Bear 🐻
ATTACH;FMTTYPE=image/jpeg:https://yastaclub.es/wp-content/uploads/2023/04/WhatsApp-Image-2023-04-17-at-21.07.57.jpeg
END:VEVENT
BEGIN:VEVENT
DTSTART;TZID=Europe/Paris:20230415T235900
DTEND;TZID=Europe/Paris:20230416T060000
DTSTAMP:20260421T180207
CREATED:20230411T192444Z
LAST-MODIFIED:20230411T192444Z
UID:10000398-1681603140-1681624800@yastaclub.es
SUMMARY:BearbiePOP
DESCRIPTION:
URL:https://yastaclub.es/event/bearbiepop-15-04-2023/
LOCATION:Ya’sta Club\, Calle Valverde\, 10\, Madrid\, 28004\, España
CATEGORIES:Bear 🐻,Drag Queen 👠
ATTACH;FMTTYPE=image/jpeg:https://yastaclub.es/wp-content/uploads/2023/04/WhatsApp-Image-2023-04-11-at-11.46.59.jpeg
END:VEVENT
BEGIN:VEVENT
DTSTART;TZID=Europe/Paris:20230408T235500
DTEND;TZID=Europe/Paris:20230409T060000
DTSTAMP:20260421T180207
CREATED:20230314T081143Z
LAST-MODIFIED:20230405T110321Z
UID:10000389-1680998100-1681020000@yastaclub.es
SUMMARY:BearbiePOP
DESCRIPTION:¡BearbiePOP\, todos los sábados!
URL:https://yastaclub.es/event/bearbiepop-sabado-08-04-2023/
LOCATION:Ya’sta Club\, Calle Valverde\, 10\, Madrid\, 28004\, España
CATEGORIES:Bear 🐻,LGTB 🏳️‍🌈
ATTACH;FMTTYPE=image/jpeg:https://yastaclub.es/wp-content/uploads/2023/03/WhatsApp-Image-2023-04-03-at-14.36.31.jpeg
END:VEVENT
BEGIN:VEVENT
DTSTART;TZID=Europe/Paris:20230401T235500
DTEND;TZID=Europe/Paris:20230402T060000
DTSTAMP:20260421T180207
CREATED:20230314T081058Z
LAST-MODIFIED:20230328T072439Z
UID:10000388-1680393300-1680415200@yastaclub.es
SUMMARY:BearbiePOP
DESCRIPTION:¡BearbiePOP\, todos los sábados!
URL:https://yastaclub.es/event/bearbiepop-sabado-01-04-2023/
LOCATION:Ya’sta Club\, Calle Valverde\, 10\, Madrid\, 28004\, España
CATEGORIES:Bear 🐻,LGTB 🏳️‍🌈
ATTACH;FMTTYPE=image/jpeg:https://yastaclub.es/wp-content/uploads/2023/03/WhatsApp-Image-2023-03-27-at-21.45.43.jpeg
END:VEVENT
BEGIN:VEVENT
DTSTART;TZID=Europe/Paris:20230325T235500
DTEND;TZID=Europe/Paris:20230326T060000
DTSTAMP:20260421T180207
CREATED:20230321T100515Z
LAST-MODIFIED:20230321T103319Z
UID:10000392-1679788500-1679810400@yastaclub.es
SUMMARY:BearbiePOP
DESCRIPTION:
URL:https://yastaclub.es/event/bearbiepop-25-03-2023/
LOCATION:Ya’sta Club\, Calle Valverde\, 10\, Madrid\, 28004\, España
CATEGORIES:Bear 🐻,LGTB 🏳️‍🌈
ATTACH;FMTTYPE=image/jpeg:https://yastaclub.es/wp-content/uploads/2023/03/WhatsApp-Image-2023-03-21-at-09.29.41.jpeg
END:VEVENT
BEGIN:VEVENT
DTSTART;TZID=Europe/Paris:20230318T235500
DTEND;TZID=Europe/Paris:20230319T060000
DTSTAMP:20260421T180207
CREATED:20230314T080845Z
LAST-MODIFIED:20230315T112315Z
UID:10000386-1679183700-1679205600@yastaclub.es
SUMMARY:BearbiePOP
DESCRIPTION:¡BearbiePOP\, todos los sábados!
URL:https://yastaclub.es/event/bearbiepop-sabado-18-03-2023/
LOCATION:Ya’sta Club\, Calle Valverde\, 10\, Madrid\, 28004\, España
CATEGORIES:Bear 🐻,LGTB 🏳️‍🌈
ATTACH;FMTTYPE=image/jpeg:https://yastaclub.es/wp-content/uploads/2023/03/25febofi2web.jpg
END:VEVENT
BEGIN:VEVENT
DTSTART;TZID=UTC:20230311T235900
DTEND;TZID=UTC:20230312T060000
DTSTAMP:20260421T180207
CREATED:20230308T085201Z
LAST-MODIFIED:20230308T085202Z
UID:10000354-1678579140-1678600800@yastaclub.es
SUMMARY:BearbiePOP
DESCRIPTION:
URL:https://yastaclub.es/event/bearbiepop-8/
LOCATION:Ya’sta Club\, Calle Valverde\, 10\, Madrid\, 28004\, España
CATEGORIES:Bear 🐻,Drag Queen 👠,LGTB 🏳️‍🌈,Pop & Hits
ATTACH;FMTTYPE=image/jpeg:https://yastaclub.es/wp-content/uploads/2023/01/WEBF-1.jpg
END:VEVENT
BEGIN:VEVENT
DTSTART;TZID=UTC:20230304T235900
DTEND;TZID=UTC:20230305T060000
DTSTAMP:20260421T180207
CREATED:20230301T065513Z
LAST-MODIFIED:20230301T065514Z
UID:10000353-1677974340-1677996000@yastaclub.es
SUMMARY:BearbiePOP
DESCRIPTION:
URL:https://yastaclub.es/event/bearbiepop-7/
LOCATION:Ya’sta Club\, Calle Valverde\, 10\, Madrid\, 28004\, España
CATEGORIES:Bear 🐻,Drag Queen 👠,LGTB 🏳️‍🌈,Pop & Hits
ATTACH;FMTTYPE=image/jpeg:https://yastaclub.es/wp-content/uploads/2023/01/WhatsApp-Image-2023-02-28-at-22.04.17.jpeg
END:VEVENT
BEGIN:VEVENT
DTSTART;TZID=UTC:20230225T235900
DTEND;TZID=UTC:20230226T060000
DTSTAMP:20260421T180207
CREATED:20230224T224712Z
LAST-MODIFIED:20230224T224713Z
UID:10000352-1677369540-1677391200@yastaclub.es
SUMMARY:BearbiePOP
DESCRIPTION:
URL:https://yastaclub.es/event/bearbiepop-6/
LOCATION:Ya’sta Club\, Calle Valverde\, 10\, Madrid\, 28004\, España
CATEGORIES:Bear 🐻,Drag Queen 👠,LGTB 🏳️‍🌈,Pop & Hits
ATTACH;FMTTYPE=image/jpeg:https://yastaclub.es/wp-content/uploads/2023/01/331822470_232896692416689_8364547265904659353_n.jpg
END:VEVENT
BEGIN:VEVENT
DTSTART;TZID=UTC:20230218T235900
DTEND;TZID=UTC:20230219T060000
DTSTAMP:20260421T180207
CREATED:20230215T083737Z
LAST-MODIFIED:20230215T083737Z
UID:10000351-1676764740-1676786400@yastaclub.es
SUMMARY:BearbiePOP
DESCRIPTION:
URL:https://yastaclub.es/event/bearbiepop-5/
LOCATION:Ya’sta Club\, Calle Valverde\, 10\, Madrid\, 28004\, España
CATEGORIES:Bear 🐻,Drag Queen 👠,LGTB 🏳️‍🌈,Pop & Hits
ATTACH;FMTTYPE=image/jpeg:https://yastaclub.es/wp-content/uploads/2023/01/WEBF.jpg
END:VEVENT
BEGIN:VEVENT
DTSTART;TZID=UTC:20230211T235900
DTEND;TZID=UTC:20230212T060000
DTSTAMP:20260421T180207
CREATED:20230208T092649Z
LAST-MODIFIED:20230208T092649Z
UID:10000350-1676159940-1676181600@yastaclub.es
SUMMARY:BearbiePOP
DESCRIPTION:
URL:https://yastaclub.es/event/bearbiepop-4/
LOCATION:Ya’sta Club\, Calle Valverde\, 10\, Madrid\, 28004\, España
CATEGORIES:Bear 🐻,Drag Queen 👠,LGTB 🏳️‍🌈,Pop & Hits
ATTACH;FMTTYPE=image/jpeg:https://yastaclub.es/wp-content/uploads/2023/01/photo_2023-02-08_11-24-19-1.jpg
END:VEVENT
BEGIN:VEVENT
DTSTART;TZID=UTC:20230204T235900
DTEND;TZID=UTC:20230205T060000
DTSTAMP:20260421T180208
CREATED:20230131T141632Z
LAST-MODIFIED:20230131T141632Z
UID:10000349-1675555140-1675576800@yastaclub.es
SUMMARY:BearbiePOP
DESCRIPTION:
URL:https://yastaclub.es/event/bearbiepop-3/
LOCATION:Ya’sta Club\, Calle Valverde\, 10\, Madrid\, 28004\, España
CATEGORIES:Bear 🐻,Drag Queen 👠,LGTB 🏳️‍🌈,Pop & Hits
ATTACH;FMTTYPE=image/jpeg:https://yastaclub.es/wp-content/uploads/2023/01/bearbiepop-04-02-2023.jpg
END:VEVENT
BEGIN:VEVENT
DTSTART;TZID=UTC:20230203T235900
DTEND;TZID=UTC:20230204T060000
DTSTAMP:20260421T180208
CREATED:20230131T141546Z
LAST-MODIFIED:20230131T141546Z
UID:10000365-1675468740-1675490400@yastaclub.es
SUMMARY:Bearbie DRAG
DESCRIPTION:
URL:https://yastaclub.es/event/bearbie-drag-03-02-2023/
LOCATION:Ya’sta Club\, Calle Valverde\, 10\, Madrid\, 28004\, España
CATEGORIES:Bear 🐻,Drag Queen 👠,LGTB 🏳️‍🌈
ATTACH;FMTTYPE=image/jpeg:https://yastaclub.es/wp-content/uploads/2023/01/bearbie-drag-03-02-2023.jpg
END:VEVENT
BEGIN:VEVENT
DTSTART;TZID=UTC:20230107T235900
DTEND;TZID=UTC:20230108T060000
DTSTAMP:20260421T180208
CREATED:20230104T110227Z
LAST-MODIFIED:20230104T110444Z
UID:10000345-1673135940-1673157600@yastaclub.es
SUMMARY:BearbiePOP
DESCRIPTION:
URL:https://yastaclub.es/event/bearbiepop-2/
LOCATION:Ya’sta Club\, Calle Valverde\, 10\, Madrid\, 28004\, España
CATEGORIES:Bear 🐻,Drag Queen 👠,LGTB 🏳️‍🌈,Pop & Hits
ATTACH;FMTTYPE=image/jpeg:https://yastaclub.es/wp-content/uploads/2023/01/323836726_840414167063299_5878747315995170231_n.jpg
END:VEVENT
BEGIN:VEVENT
DTSTART;TZID=UTC:20221231T235900
DTEND;TZID=UTC:20230101T070000
DTSTAMP:20260421T180208
CREATED:20221213T095705Z
LAST-MODIFIED:20221226T202825Z
UID:10000339-1672531140-1672556400@yastaclub.es
SUMMARY:BearbiePop edición Nochevieja
DESCRIPTION:Bearbie Pop día 31 de diciembrede 2022. Nochevieja en Madrid. \n 
URL:https://yastaclub.es/event/bearbiepop-31-12-2022-nochevieja/
LOCATION:Ya’sta Club\, Calle Valverde\, 10\, Madrid\, 28004\, España
CATEGORIES:Bear 🐻,LGTB 🏳️‍🌈
ATTACH;FMTTYPE=image/jpeg:https://yastaclub.es/wp-content/uploads/2022/12/WhatsApp-Image-2022-12-26-at-14.34.56.jpeg
END:VEVENT
BEGIN:VEVENT
DTSTART;TZID=UTC:20221224T235900
DTEND;TZID=UTC:20221225T060000
DTSTAMP:20260421T180208
CREATED:20221213T095629Z
LAST-MODIFIED:20221221T171824Z
UID:10000338-1671926340-1671948000@yastaclub.es
SUMMARY:BearbiePop
DESCRIPTION:Bearbie Pop día 24 de diciembre de 2022.
URL:https://yastaclub.es/event/bearbiepop-24-12-2022/
LOCATION:Ya’sta Club\, Calle Valverde\, 10\, Madrid\, 28004\, España
CATEGORIES:Bear 🐻,LGTB 🏳️‍🌈
ATTACH;FMTTYPE=image/jpeg:https://yastaclub.es/wp-content/uploads/2022/12/WhatsApp-Image-2022-12-19-at-21.55.47.jpeg
END:VEVENT
BEGIN:VEVENT
DTSTART;TZID=UTC:20221217T235900
DTEND;TZID=UTC:20221218T060000
DTSTAMP:20260421T180208
CREATED:20221213T095519Z
LAST-MODIFIED:20221213T095527Z
UID:10000337-1671321540-1671343200@yastaclub.es
SUMMARY:BearbiePop
DESCRIPTION:Bearbie Pop día 17 de diciembre de 2022.
URL:https://yastaclub.es/event/bearbiepop-17-12-2022/
LOCATION:Ya’sta Club\, Calle Valverde\, 10\, Madrid\, 28004\, España
CATEGORIES:Bear 🐻,LGTB 🏳️‍🌈
ATTACH;FMTTYPE=image/jpeg:https://yastaclub.es/wp-content/uploads/2022/12/WhatsApp-Image-2022-12-12-at-16.25.50.jpeg
END:VEVENT
BEGIN:VEVENT
DTSTART;VALUE=DATE:20221205
DTEND;VALUE=DATE:20221213
DTSTAMP:20260421T180208
CREATED:20221111T132923Z
LAST-MODIFIED:20221111T133010Z
UID:10000323-1670220000-1670824799@yastaclub.es
SUMMARY:MadBear 2022
DESCRIPTION:Tickets available on madbear.org\nTickets disponibles en madbear.org
URL:https://yastaclub.es/event/madbear-2022-2/
LOCATION:Ya’sta Club\, Calle Valverde\, 10\, Madrid\, 28004\, España
CATEGORIES:Bear 🐻,LGTB 🏳️‍🌈
ATTACH;FMTTYPE=image/jpeg:https://yastaclub.es/wp-content/uploads/2022/11/WhatsApp-Image-2022-11-09-at-16.14.12.jpeg
END:VEVENT
BEGIN:VEVENT
DTSTART;TZID=UTC:20221203T235900
DTEND;TZID=UTC:20221204T060000
DTSTAMP:20260421T180208
CREATED:20221201T133633Z
LAST-MODIFIED:20221201T133633Z
UID:10000333-1670111940-1670133600@yastaclub.es
SUMMARY:BearbiePop
DESCRIPTION:Bearbie Pop día 3 de diciembrede 2022.
URL:https://yastaclub.es/event/bearbiepop-03-12-2022/
LOCATION:Ya’sta Club\, Calle Valverde\, 10\, Madrid\, 28004\, España
CATEGORIES:Bear 🐻,LGTB 🏳️‍🌈
ATTACH;FMTTYPE=image/jpeg:https://yastaclub.es/wp-content/uploads/2022/12/WhatsApp-Image-2022-11-29-at-12.08.03.jpeg
END:VEVENT
BEGIN:VEVENT
DTSTART;TZID=UTC:20221126T235900
DTEND;TZID=UTC:20221127T060000
DTSTAMP:20260421T180208
CREATED:20221115T072603Z
LAST-MODIFIED:20221124T094130Z
UID:10000326-1669507140-1669528800@yastaclub.es
SUMMARY:BearbiePop
DESCRIPTION:Bearbie Pop día 26 de noviembre de 2022.
URL:https://yastaclub.es/event/bearbiepop-26-11-2022/
LOCATION:Ya’sta Club\, Calle Valverde\, 10\, Madrid\, 28004\, España
CATEGORIES:Bear 🐻,LGTB 🏳️‍🌈
ATTACH;FMTTYPE=image/jpeg:https://yastaclub.es/wp-content/uploads/2022/11/26_1-1920w.jpg
END:VEVENT
BEGIN:VEVENT
DTSTART;TZID=UTC:20221112T235500
DTEND;TZID=UTC:20221113T060000
DTSTAMP:20260421T180208
CREATED:20221102T154417Z
LAST-MODIFIED:20221108T194058Z
UID:10000322-1668297300-1668319200@yastaclub.es
SUMMARY:Bearbie Pop
DESCRIPTION:
URL:https://yastaclub.es/event/bearbie-pop-12-11-2022/
LOCATION:Ya’sta Club\, Calle Valverde\, 10\, Madrid\, 28004\, España
CATEGORIES:Bear 🐻,Drag Queen 👠,LGTB 🏳️‍🌈
ATTACH;FMTTYPE=image/jpeg:https://yastaclub.es/wp-content/uploads/2022/11/photo_2022-11-08_20-53-44.jpg
END:VEVENT
END:VCALENDAR