BEGIN:VCALENDAR
VERSION:2.0
PRODID:-//Ya&#039;sta Club - ECPv6.15.20//NONSGML v1.0//EN
CALSCALE:GREGORIAN
METHOD:PUBLISH
X-ORIGINAL-URL:https://yastaclub.es
X-WR-CALDESC:Eventos para Ya&#039;sta Club
REFRESH-INTERVAL;VALUE=DURATION:PT1H
X-Robots-Tag:noindex
X-PUBLISHED-TTL:PT1H
BEGIN:VTIMEZONE
TZID:Europe/Madrid
BEGIN:DAYLIGHT
TZOFFSETFROM:+0100
TZOFFSETTO:+0200
TZNAME:CEST
DTSTART:20220327T010000
END:DAYLIGHT
BEGIN:STANDARD
TZOFFSETFROM:+0200
TZOFFSETTO:+0100
TZNAME:CET
DTSTART:20221030T010000
END:STANDARD
BEGIN:DAYLIGHT
TZOFFSETFROM:+0100
TZOFFSETTO:+0200
TZNAME:CEST
DTSTART:20230326T010000
END:DAYLIGHT
BEGIN:STANDARD
TZOFFSETFROM:+0200
TZOFFSETTO:+0100
TZNAME:CET
DTSTART:20231029T010000
END:STANDARD
BEGIN:DAYLIGHT
TZOFFSETFROM:+0100
TZOFFSETTO:+0200
TZNAME:CEST
DTSTART:20240331T010000
END:DAYLIGHT
BEGIN:STANDARD
TZOFFSETFROM:+0200
TZOFFSETTO:+0100
TZNAME:CET
DTSTART:20241027T010000
END:STANDARD
BEGIN:DAYLIGHT
TZOFFSETFROM:+0100
TZOFFSETTO:+0200
TZNAME:CEST
DTSTART:20250330T010000
END:DAYLIGHT
BEGIN:STANDARD
TZOFFSETFROM:+0200
TZOFFSETTO:+0100
TZNAME:CET
DTSTART:20251026T010000
END:STANDARD
END:VTIMEZONE
BEGIN:VTIMEZONE
TZID:Europe/Paris
BEGIN:DAYLIGHT
TZOFFSETFROM:+0100
TZOFFSETTO:+0200
TZNAME:CEST
DTSTART:20220327T010000
END:DAYLIGHT
BEGIN:STANDARD
TZOFFSETFROM:+0200
TZOFFSETTO:+0100
TZNAME:CET
DTSTART:20221030T010000
END:STANDARD
BEGIN:DAYLIGHT
TZOFFSETFROM:+0100
TZOFFSETTO:+0200
TZNAME:CEST
DTSTART:20230326T010000
END:DAYLIGHT
BEGIN:STANDARD
TZOFFSETFROM:+0200
TZOFFSETTO:+0100
TZNAME:CET
DTSTART:20231029T010000
END:STANDARD
BEGIN:DAYLIGHT
TZOFFSETFROM:+0100
TZOFFSETTO:+0200
TZNAME:CEST
DTSTART:20240331T010000
END:DAYLIGHT
BEGIN:STANDARD
TZOFFSETFROM:+0200
TZOFFSETTO:+0100
TZNAME:CET
DTSTART:20241027T010000
END:STANDARD
END:VTIMEZONE
BEGIN:VEVENT
DTSTART;TZID=Europe/Madrid:20240607T235900
DTEND;TZID=Europe/Madrid:20240608T060000
DTSTAMP:20260420T120401
CREATED:20240602T170819Z
LAST-MODIFIED:20240602T170819Z
UID:10000803-1717804740-1717826400@yastaclub.es
SUMMARY:GloryPOP
DESCRIPTION:
URL:https://yastaclub.es/event/glorypop-07-06-2024/
LOCATION:Ya’sta Club\, Calle Valverde\, 10\, Madrid\, 28004\, España
CATEGORIES:Bear 🐻,Drag Queen 👠,LGTB 🏳️‍🌈
ATTACH;FMTTYPE=image/jpeg:https://yastaclub.es/wp-content/uploads/2024/06/glorypop-07-06-2024.jpg
END:VEVENT
BEGIN:VEVENT
DTSTART;TZID=Europe/Madrid:20240601T235900
DTEND;TZID=Europe/Madrid:20240602T060000
DTSTAMP:20260420T120401
CREATED:20240531T204207Z
LAST-MODIFIED:20240531T205032Z
UID:10000682-1717286340-1717308000@yastaclub.es
SUMMARY:BearbiePOP
DESCRIPTION:La sesión POP de Bears por excelencia de Madrid llega a Ya’sta Club. \nTodos los sábados en Calle Valverde\, 10.
URL:https://yastaclub.es/event/bearbiepop-18-4/
LOCATION:Ya’sta Club\, Calle Valverde\, 10\, Madrid\, 28004\, España
CATEGORIES:Bear 🐻,LGTB 🏳️‍🌈
ATTACH;FMTTYPE=image/jpeg:https://yastaclub.es/wp-content/uploads/2024/04/446777839_832602798725043_6110840907978376319_n.jpg
END:VEVENT
BEGIN:VEVENT
DTSTART;TZID=Europe/Madrid:20240525T235900
DTEND;TZID=Europe/Madrid:20240526T060000
DTSTAMP:20260420T120401
CREATED:20240521T170920Z
LAST-MODIFIED:20240521T170921Z
UID:10000681-1716681540-1716703200@yastaclub.es
SUMMARY:BearbiePOP
DESCRIPTION:La sesión POP de Bears por excelencia de Madrid llega a Ya’sta Club. \nTodos los sábados en Calle Valverde\, 10.
URL:https://yastaclub.es/event/bearbiepop-18-3/
LOCATION:Ya’sta Club\, Calle Valverde\, 10\, Madrid\, 28004\, España
CATEGORIES:Bear 🐻,LGTB 🏳️‍🌈
ATTACH;FMTTYPE=image/jpeg:https://yastaclub.es/wp-content/uploads/2024/04/WhatsApp-Image-2024-05-21-at-13.19.18.jpeg
END:VEVENT
BEGIN:VEVENT
DTSTART;TZID=Europe/Madrid:20240518T235900
DTEND;TZID=Europe/Madrid:20240519T060000
DTSTAMP:20260420T120401
CREATED:20240403T191957Z
LAST-MODIFIED:20241226T105441Z
UID:10000680-1716076740-1716098400@yastaclub.es
SUMMARY:BearbiePOP
DESCRIPTION:La sesión POP de Bears por excelencia de Madrid llega a Ya’sta Club. \nTodos los sábados en Calle Valverde\, 10.
URL:https://yastaclub.es/event/bearbiepop-18/2024-05-18/
LOCATION:Ya’sta Club\, Calle Valverde\, 10\, Madrid\, 28004\, España
CATEGORIES:Bear 🐻,LGTB 🏳️‍🌈
ATTACH;FMTTYPE=image/jpeg:https://yastaclub.es/wp-content/uploads/2023/06/bearbie-logo-2022.jpg
END:VEVENT
BEGIN:VEVENT
DTSTART;TZID=Europe/Madrid:20240511T235900
DTEND;TZID=Europe/Madrid:20240512T060000
DTSTAMP:20260420T120401
CREATED:20240403T191957Z
LAST-MODIFIED:20241226T105441Z
UID:10000679-1715471940-1715493600@yastaclub.es
SUMMARY:BearbiePOP
DESCRIPTION:La sesión POP de Bears por excelencia de Madrid llega a Ya’sta Club. \nTodos los sábados en Calle Valverde\, 10.
URL:https://yastaclub.es/event/bearbiepop-18/2024-05-11/
LOCATION:Ya’sta Club\, Calle Valverde\, 10\, Madrid\, 28004\, España
CATEGORIES:Bear 🐻,LGTB 🏳️‍🌈
ATTACH;FMTTYPE=image/jpeg:https://yastaclub.es/wp-content/uploads/2023/06/bearbie-logo-2022.jpg
END:VEVENT
BEGIN:VEVENT
DTSTART;TZID=Europe/Madrid:20240504T235900
DTEND;TZID=Europe/Madrid:20240505T060000
DTSTAMP:20260420T120401
CREATED:20240403T191957Z
LAST-MODIFIED:20241226T105441Z
UID:10000678-1714867140-1714888800@yastaclub.es
SUMMARY:BearbiePOP
DESCRIPTION:La sesión POP de Bears por excelencia de Madrid llega a Ya’sta Club. \nTodos los sábados en Calle Valverde\, 10.
URL:https://yastaclub.es/event/bearbiepop-18/2024-05-04/
LOCATION:Ya’sta Club\, Calle Valverde\, 10\, Madrid\, 28004\, España
CATEGORIES:Bear 🐻,LGTB 🏳️‍🌈
ATTACH;FMTTYPE=image/jpeg:https://yastaclub.es/wp-content/uploads/2023/06/bearbie-logo-2022.jpg
END:VEVENT
BEGIN:VEVENT
DTSTART;TZID=Europe/Madrid:20240427T235900
DTEND;TZID=Europe/Madrid:20240428T060000
DTSTAMP:20260420T120401
CREATED:20240403T191957Z
LAST-MODIFIED:20241226T105441Z
UID:10000677-1714262340-1714284000@yastaclub.es
SUMMARY:BearbiePOP
DESCRIPTION:La sesión POP de Bears por excelencia de Madrid llega a Ya’sta Club. \nTodos los sábados en Calle Valverde\, 10.
URL:https://yastaclub.es/event/bearbiepop-18/2024-04-27/
LOCATION:Ya’sta Club\, Calle Valverde\, 10\, Madrid\, 28004\, España
CATEGORIES:Bear 🐻,LGTB 🏳️‍🌈
ATTACH;FMTTYPE=image/jpeg:https://yastaclub.es/wp-content/uploads/2023/06/bearbie-logo-2022.jpg
END:VEVENT
BEGIN:VEVENT
DTSTART;TZID=Europe/Madrid:20240420T235900
DTEND;TZID=Europe/Madrid:20240421T060000
DTSTAMP:20260420T120401
CREATED:20240403T191957Z
LAST-MODIFIED:20241226T105441Z
UID:10000676-1713657540-1713679200@yastaclub.es
SUMMARY:BearbiePOP
DESCRIPTION:La sesión POP de Bears por excelencia de Madrid llega a Ya’sta Club. \nTodos los sábados en Calle Valverde\, 10.
URL:https://yastaclub.es/event/bearbiepop-18/2024-04-20/
LOCATION:Ya’sta Club\, Calle Valverde\, 10\, Madrid\, 28004\, España
CATEGORIES:Bear 🐻,LGTB 🏳️‍🌈
ATTACH;FMTTYPE=image/jpeg:https://yastaclub.es/wp-content/uploads/2023/06/bearbie-logo-2022.jpg
END:VEVENT
BEGIN:VEVENT
DTSTART;TZID=Europe/Madrid:20240413T235900
DTEND;TZID=Europe/Madrid:20240414T060000
DTSTAMP:20260420T120401
CREATED:20240403T191957Z
LAST-MODIFIED:20241226T105441Z
UID:10000675-1713052740-1713074400@yastaclub.es
SUMMARY:BearbiePOP
DESCRIPTION:La sesión POP de Bears por excelencia de Madrid llega a Ya’sta Club. \nTodos los sábados en Calle Valverde\, 10.
URL:https://yastaclub.es/event/bearbiepop-18/2024-04-13/
LOCATION:Ya’sta Club\, Calle Valverde\, 10\, Madrid\, 28004\, España
CATEGORIES:Bear 🐻,LGTB 🏳️‍🌈
ATTACH;FMTTYPE=image/jpeg:https://yastaclub.es/wp-content/uploads/2023/06/bearbie-logo-2022.jpg
END:VEVENT
BEGIN:VEVENT
DTSTART;TZID=Europe/Madrid:20240406T235900
DTEND;TZID=Europe/Madrid:20240407T060000
DTSTAMP:20260420T120401
CREATED:20240403T083423Z
LAST-MODIFIED:20240403T083423Z
UID:10000488-1712447940-1712469600@yastaclub.es
SUMMARY:BearbiePOP
DESCRIPTION:
URL:https://yastaclub.es/event/bearbiepop-17-18/
LOCATION:Ya’sta Club\, Calle Valverde\, 10\, Madrid\, 28004\, España
CATEGORIES:Bear 🐻,LGTB 🏳️‍🌈
ATTACH;FMTTYPE=image/jpeg:https://yastaclub.es/wp-content/uploads/2023/09/Captura-de-pantalla-2024-04-03-103329.jpg
END:VEVENT
BEGIN:VEVENT
DTSTART;TZID=Europe/Madrid:20240405T235900
DTEND;TZID=Europe/Madrid:20240406T060000
DTSTAMP:20260420T120401
CREATED:20240326T112136Z
LAST-MODIFIED:20240403T083400Z
UID:10000636-1712361540-1712383200@yastaclub.es
SUMMARY:Titanes on Tour
DESCRIPTION:TITANES ON TOUR: 🌟 Neon party 🌟 \nVolvemos el próximo 5 de abril a partir de las 00h\, en la @yastaclublgtb \, con la fiesta más brillante de Titanes. Trae tu look más flúor y brilla toda la noche. La mejor música\, las mejores drags\, bingo y muchas sorpresas nos esperan. \n🎟 Consigue tu entrada en yastaclub.es/entradas
URL:https://yastaclub.es/event/titanes-on-tour/
LOCATION:Ya’sta Club\, Calle Valverde\, 10\, Madrid\, 28004\, España
CATEGORIES:Bear 🐻,Drag Queen 👠,LGTB 🏳️‍🌈
ATTACH;FMTTYPE=image/jpeg:https://yastaclub.es/wp-content/uploads/2024/03/Captura-de-pantalla-2024-04-03-102955.jpg
END:VEVENT
BEGIN:VEVENT
DTSTART;TZID=Europe/Madrid:20240330T235900
DTEND;TZID=Europe/Madrid:20240331T060000
DTSTAMP:20260420T120401
CREATED:20240327T121401Z
LAST-MODIFIED:20240327T121652Z
UID:10000487-1711843140-1711864800@yastaclub.es
SUMMARY:BearbiePOP
DESCRIPTION:Este sábado\, ¡BearbiePop! \nCon @loloflowersdj y @gordimad
URL:https://yastaclub.es/event/bearbiepop-17-17/
LOCATION:Ya’sta Club\, Calle Valverde\, 10\, Madrid\, 28004\, España
CATEGORIES:Bear 🐻,LGTB 🏳️‍🌈
ATTACH;FMTTYPE=image/jpeg:https://yastaclub.es/wp-content/uploads/2023/09/WhatsApp-Image-2024-03-18-at-13.54.59.jpeg
END:VEVENT
BEGIN:VEVENT
DTSTART;TZID=Europe/Madrid:20240323T235900
DTEND;TZID=Europe/Madrid:20240324T060000
DTSTAMP:20260420T120401
CREATED:20230903T075509Z
LAST-MODIFIED:20230903T203930Z
UID:10000486-1711238340-1711260000@yastaclub.es
SUMMARY:BearbiePOP
DESCRIPTION:
URL:https://yastaclub.es/event/bearbiepop-17/2024-03-23/
LOCATION:Ya’sta Club\, Calle Valverde\, 10\, Madrid\, 28004\, España
CATEGORIES:Bear 🐻,LGTB 🏳️‍🌈
ATTACH;FMTTYPE=image/jpeg:https://yastaclub.es/wp-content/uploads/2023/09/bearbie-logo-2023.jpg
END:VEVENT
BEGIN:VEVENT
DTSTART;TZID=Europe/Madrid:20240322T235900
DTEND;TZID=Europe/Madrid:20240323T060000
DTSTAMP:20260420T120401
CREATED:20240301T101027Z
LAST-MODIFIED:20240315T083247Z
UID:10000623-1711151940-1711173600@yastaclub.es
SUMMARY:Homenaje de Chueca a Mariano DJ
DESCRIPTION:HOMENAJE DJ MARIANO \n¡Únete a nosotros en una noche inolvidable el proximo viernes dia 22 Marzo en la discoteca YASTA en honor a Dj Mariano! Celebraremos su vida\, su música y su legado en una fiesta especial dedicada a él. Además de disfrutar de una noche llena de música y baile\, tendrás la oportunidad sino puedes venir de contribuir con una noble causa. Con una entrada de FILA CERO de 15€\, estarás apoyando a la familia de Dj Mariano en estos momentos difíciles. ¡No te pierdas esta oportunidad de rendirle tributo! 🙏  \nDJ MARIANO TRIBUTE\nJoin us for an unforgettable night next Friday\, March 22th at the YA’STA Club in honor of DJ Mariano!\nWe will celebrate his life\, music and legacy at a special party dedicated to him.\nIn addition to enjoying a night full of music and dancing\, you will have the opportunity\, if you can’t come\, to contribute to a noble cause. With a €15 ZERO ROW ticket\, you will be supporting Dj Mariano’s family in these difficult times. Don’t miss this opportunity to pay tribute to him! 🙏 \n\nDonar aquí \nEntradas aquí
URL:https://yastaclub.es/event/homenaje-de-chueca-a-mariano-dj/
LOCATION:Ya’sta Club\, Calle Valverde\, 10\, Madrid\, 28004\, España
CATEGORIES:Bear 🐻,LGTB 🏳️‍🌈
ATTACH;FMTTYPE=image/jpeg:https://yastaclub.es/wp-content/uploads/2024/03/WhatsApp-Image-2024-03-14-at-20.26.42.jpeg
END:VEVENT
BEGIN:VEVENT
DTSTART;TZID=Europe/Madrid:20240316T235900
DTEND;TZID=Europe/Madrid:20240317T060000
DTSTAMP:20260420T120401
CREATED:20230903T075509Z
LAST-MODIFIED:20230903T203930Z
UID:10000485-1710633540-1710655200@yastaclub.es
SUMMARY:BearbiePOP
DESCRIPTION:
URL:https://yastaclub.es/event/bearbiepop-17/2024-03-16/
LOCATION:Ya’sta Club\, Calle Valverde\, 10\, Madrid\, 28004\, España
CATEGORIES:Bear 🐻,LGTB 🏳️‍🌈
ATTACH;FMTTYPE=image/jpeg:https://yastaclub.es/wp-content/uploads/2023/09/bearbie-logo-2023.jpg
END:VEVENT
BEGIN:VEVENT
DTSTART;TZID=Europe/Madrid:20240309T235900
DTEND;TZID=Europe/Madrid:20240310T060000
DTSTAMP:20260420T120401
CREATED:20240305T210313Z
LAST-MODIFIED:20240305T210314Z
UID:10000484-1710028740-1710050400@yastaclub.es
SUMMARY:BearbiePOP
DESCRIPTION:
URL:https://yastaclub.es/event/bearbiepop-17-16/
LOCATION:Ya’sta Club\, Calle Valverde\, 10\, Madrid\, 28004\, España
CATEGORIES:Bear 🐻,LGTB 🏳️‍🌈
ATTACH;FMTTYPE=image/jpeg:https://yastaclub.es/wp-content/uploads/2023/09/WhatsApp-Image-2024-03-04-at-20.30.12.jpeg
END:VEVENT
BEGIN:VEVENT
DTSTART;TZID=Europe/Madrid:20240302T235900
DTEND;TZID=Europe/Madrid:20240303T060000
DTSTAMP:20260420T120401
CREATED:20240301T101114Z
LAST-MODIFIED:20240301T101115Z
UID:10000483-1709423940-1709445600@yastaclub.es
SUMMARY:BearbiePOP
DESCRIPTION:
URL:https://yastaclub.es/event/bearbiepop-17-15/
LOCATION:Ya’sta Club\, Calle Valverde\, 10\, Madrid\, 28004\, España
CATEGORIES:Bear 🐻,LGTB 🏳️‍🌈
ATTACH;FMTTYPE=image/jpeg:https://yastaclub.es/wp-content/uploads/2023/09/WhatsApp-Image-2024-02-29-at-18.35.33.jpeg
END:VEVENT
BEGIN:VEVENT
DTSTART;TZID=Europe/Madrid:20240224T235900
DTEND;TZID=Europe/Madrid:20240225T060000
DTSTAMP:20260420T120401
CREATED:20230903T075509Z
LAST-MODIFIED:20230903T203930Z
UID:10000482-1708819140-1708840800@yastaclub.es
SUMMARY:BearbiePOP
DESCRIPTION:
URL:https://yastaclub.es/event/bearbiepop-17/2024-02-24/
LOCATION:Ya’sta Club\, Calle Valverde\, 10\, Madrid\, 28004\, España
CATEGORIES:Bear 🐻,LGTB 🏳️‍🌈
ATTACH;FMTTYPE=image/jpeg:https://yastaclub.es/wp-content/uploads/2023/09/bearbie-logo-2023.jpg
END:VEVENT
BEGIN:VEVENT
DTSTART;TZID=Europe/Madrid:20240217T235900
DTEND;TZID=Europe/Madrid:20240218T060000
DTSTAMP:20260420T120401
CREATED:20230903T075509Z
LAST-MODIFIED:20230903T203930Z
UID:10000481-1708214340-1708236000@yastaclub.es
SUMMARY:BearbiePOP
DESCRIPTION:
URL:https://yastaclub.es/event/bearbiepop-17/2024-02-17/
LOCATION:Ya’sta Club\, Calle Valverde\, 10\, Madrid\, 28004\, España
CATEGORIES:Bear 🐻,LGTB 🏳️‍🌈
ATTACH;FMTTYPE=image/jpeg:https://yastaclub.es/wp-content/uploads/2023/09/bearbie-logo-2023.jpg
END:VEVENT
BEGIN:VEVENT
DTSTART;TZID=Europe/Madrid:20240210T235900
DTEND;TZID=Europe/Madrid:20240211T060000
DTSTAMP:20260420T120401
CREATED:20230903T075509Z
LAST-MODIFIED:20230903T203930Z
UID:10000480-1707609540-1707631200@yastaclub.es
SUMMARY:BearbiePOP
DESCRIPTION:
URL:https://yastaclub.es/event/bearbiepop-17/2024-02-10/
LOCATION:Ya’sta Club\, Calle Valverde\, 10\, Madrid\, 28004\, España
CATEGORIES:Bear 🐻,LGTB 🏳️‍🌈
ATTACH;FMTTYPE=image/jpeg:https://yastaclub.es/wp-content/uploads/2023/09/bearbie-logo-2023.jpg
END:VEVENT
BEGIN:VEVENT
DTSTART;TZID=Europe/Madrid:20240203T235900
DTEND;TZID=Europe/Madrid:20240204T060000
DTSTAMP:20260420T120401
CREATED:20230903T075509Z
LAST-MODIFIED:20230903T203930Z
UID:10000479-1707004740-1707026400@yastaclub.es
SUMMARY:BearbiePOP
DESCRIPTION:
URL:https://yastaclub.es/event/bearbiepop-17/2024-02-03/
LOCATION:Ya’sta Club\, Calle Valverde\, 10\, Madrid\, 28004\, España
CATEGORIES:Bear 🐻,LGTB 🏳️‍🌈
ATTACH;FMTTYPE=image/jpeg:https://yastaclub.es/wp-content/uploads/2023/09/bearbie-logo-2023.jpg
END:VEVENT
BEGIN:VEVENT
DTSTART;TZID=Europe/Madrid:20240127T235900
DTEND;TZID=Europe/Madrid:20240128T060000
DTSTAMP:20260420T120401
CREATED:20240123T090746Z
LAST-MODIFIED:20240123T090747Z
UID:10000478-1706399940-1706421600@yastaclub.es
SUMMARY:BearbiePOP
DESCRIPTION:
URL:https://yastaclub.es/event/bearbiepop-17-14/
LOCATION:Ya’sta Club\, Calle Valverde\, 10\, Madrid\, 28004\, España
CATEGORIES:Bear 🐻,LGTB 🏳️‍🌈
ATTACH;FMTTYPE=image/jpeg:https://yastaclub.es/wp-content/uploads/2023/09/WhatsApp-Image-2024-01-23-at-09.49.32.jpeg
END:VEVENT
BEGIN:VEVENT
DTSTART;TZID=Europe/Madrid:20240120T235900
DTEND;TZID=Europe/Madrid:20240121T060000
DTSTAMP:20260420T120401
CREATED:20240118T093306Z
LAST-MODIFIED:20240118T093307Z
UID:10000477-1705795140-1705816800@yastaclub.es
SUMMARY:BearbiePOP
DESCRIPTION:Este sábado\, ¡BearbiePop! \n🎧 @mikellopez_dj\n🎧 @agustinquerol_dj\n🎧 @aviadordeluxe \nNo hay anticipadas para este evento (salvo fechas especiales). ¡Sólo en taquilla!
URL:https://yastaclub.es/event/bearbiepop-17-13/
LOCATION:Ya’sta Club\, Calle Valverde\, 10\, Madrid\, 28004\, España
CATEGORIES:Bear 🐻,LGTB 🏳️‍🌈
ATTACH;FMTTYPE=image/jpeg:https://yastaclub.es/wp-content/uploads/2023/09/WhatsApp-Image-2024-01-17-at-21.34.34.jpeg
END:VEVENT
BEGIN:VEVENT
DTSTART;TZID=Europe/Madrid:20240113T235900
DTEND;TZID=Europe/Madrid:20240114T060000
DTSTAMP:20260420T120401
CREATED:20230903T075509Z
LAST-MODIFIED:20230903T203930Z
UID:10000476-1705190340-1705212000@yastaclub.es
SUMMARY:BearbiePOP
DESCRIPTION:
URL:https://yastaclub.es/event/bearbiepop-17/2024-01-13/
LOCATION:Ya’sta Club\, Calle Valverde\, 10\, Madrid\, 28004\, España
CATEGORIES:Bear 🐻,LGTB 🏳️‍🌈
ATTACH;FMTTYPE=image/jpeg:https://yastaclub.es/wp-content/uploads/2023/09/bearbie-logo-2023.jpg
END:VEVENT
BEGIN:VEVENT
DTSTART;TZID=Europe/Madrid:20240106T235900
DTEND;TZID=Europe/Madrid:20240107T060000
DTSTAMP:20260420T120401
CREATED:20240105T185420Z
LAST-MODIFIED:20240105T185421Z
UID:10000475-1704585540-1704607200@yastaclub.es
SUMMARY:BearbiePOP
DESCRIPTION:
URL:https://yastaclub.es/event/bearbiepop-17-12/
LOCATION:Ya’sta Club\, Calle Valverde\, 10\, Madrid\, 28004\, España
CATEGORIES:Bear 🐻,LGTB 🏳️‍🌈
ATTACH;FMTTYPE=image/jpeg:https://yastaclub.es/wp-content/uploads/2023/09/WhatsApp-Image-2024-01-02-at-15.44.43.jpeg
END:VEVENT
BEGIN:VEVENT
DTSTART;TZID=Europe/Madrid:20231231T235900
DTEND;TZID=Europe/Madrid:20240101T060000
DTSTAMP:20260420T120401
CREATED:20231116T172533Z
LAST-MODIFIED:20231213T150755Z
UID:10000541-1704067140-1704088800@yastaclub.es
SUMMARY:BearbiePOP - Especial Nochevieja
DESCRIPTION:Entradas anticipadas en https://www.madbear.org/bear-sound 
URL:https://yastaclub.es/event/bearbiepop-especial-nochevieja/
LOCATION:Ya’sta Club\, Calle Valverde\, 10\, Madrid\, 28004\, España
CATEGORIES:Bear 🐻,LGTB 🏳️‍🌈
ATTACH;FMTTYPE=image/jpeg:https://yastaclub.es/wp-content/uploads/2023/12/Captura-de-pantalla-2023-12-13-160537.jpg
END:VEVENT
BEGIN:VEVENT
DTSTART;TZID=Europe/Madrid:20231230T235900
DTEND;TZID=Europe/Madrid:20231231T060000
DTSTAMP:20260420T120401
CREATED:20230903T075509Z
LAST-MODIFIED:20230903T203930Z
UID:10000474-1703980740-1704002400@yastaclub.es
SUMMARY:BearbiePOP
DESCRIPTION:
URL:https://yastaclub.es/event/bearbiepop-17/2023-12-30/
LOCATION:Ya’sta Club\, Calle Valverde\, 10\, Madrid\, 28004\, España
CATEGORIES:Bear 🐻,LGTB 🏳️‍🌈
ATTACH;FMTTYPE=image/jpeg:https://yastaclub.es/wp-content/uploads/2023/09/bearbie-logo-2023.jpg
END:VEVENT
BEGIN:VEVENT
DTSTART;TZID=Europe/Madrid:20231223T235900
DTEND;TZID=Europe/Madrid:20231224T060000
DTSTAMP:20260420T120401
CREATED:20230903T075509Z
LAST-MODIFIED:20230903T203930Z
UID:10000473-1703375940-1703397600@yastaclub.es
SUMMARY:BearbiePOP
DESCRIPTION:
URL:https://yastaclub.es/event/bearbiepop-17/2023-12-23/
LOCATION:Ya’sta Club\, Calle Valverde\, 10\, Madrid\, 28004\, España
CATEGORIES:Bear 🐻,LGTB 🏳️‍🌈
ATTACH;FMTTYPE=image/jpeg:https://yastaclub.es/wp-content/uploads/2023/09/bearbie-logo-2023.jpg
END:VEVENT
BEGIN:VEVENT
DTSTART;TZID=Europe/Madrid:20231216T235900
DTEND;TZID=Europe/Madrid:20231217T060000
DTSTAMP:20260420T120401
CREATED:20231213T150815Z
LAST-MODIFIED:20231213T150816Z
UID:10000472-1702771140-1702792800@yastaclub.es
SUMMARY:BearbiePOP
DESCRIPTION:
URL:https://yastaclub.es/event/bearbiepop-17-11/
LOCATION:Ya’sta Club\, Calle Valverde\, 10\, Madrid\, 28004\, España
CATEGORIES:Bear 🐻,LGTB 🏳️‍🌈
ATTACH;FMTTYPE=image/jpeg:https://yastaclub.es/wp-content/uploads/2023/09/WhatsApp-Image-2023-12-11-at-20.12.40.jpeg
END:VEVENT
BEGIN:VEVENT
DTSTART;TZID=Europe/Paris:20231210T235500
DTEND;TZID=Europe/Paris:20231211T060000
DTSTAMP:20260420T120401
CREATED:20231208T191020Z
LAST-MODIFIED:20231208T191020Z
UID:10000578-1702252500-1702274400@yastaclub.es
SUMMARY:MadBear 2023
DESCRIPTION:
URL:https://yastaclub.es/event/madbear-2023-5/
LOCATION:Ya’sta Club\, Calle Valverde\, 10\, Madrid\, 28004\, España
CATEGORIES:Bear 🐻
ATTACH;FMTTYPE=image/jpeg:https://yastaclub.es/wp-content/uploads/2023/08/WhatsApp-Image-2023-11-30-at-13.16.43-4.jpeg
END:VEVENT
END:VCALENDAR