BEGIN:VCALENDAR
VERSION:2.0
PRODID:-//Ya&#039;sta Club - ECPv6.15.20//NONSGML v1.0//EN
CALSCALE:GREGORIAN
METHOD:PUBLISH
X-WR-CALNAME:Ya&#039;sta Club
X-ORIGINAL-URL:https://yastaclub.es
X-WR-CALDESC:Eventos para Ya&#039;sta Club
REFRESH-INTERVAL;VALUE=DURATION:PT1H
X-Robots-Tag:noindex
X-PUBLISHED-TTL:PT1H
BEGIN:VTIMEZONE
TZID:Europe/Madrid
BEGIN:DAYLIGHT
TZOFFSETFROM:+0100
TZOFFSETTO:+0200
TZNAME:CEST
DTSTART:20220327T010000
END:DAYLIGHT
BEGIN:STANDARD
TZOFFSETFROM:+0200
TZOFFSETTO:+0100
TZNAME:CET
DTSTART:20221030T010000
END:STANDARD
BEGIN:DAYLIGHT
TZOFFSETFROM:+0100
TZOFFSETTO:+0200
TZNAME:CEST
DTSTART:20230326T010000
END:DAYLIGHT
BEGIN:STANDARD
TZOFFSETFROM:+0200
TZOFFSETTO:+0100
TZNAME:CET
DTSTART:20231029T010000
END:STANDARD
BEGIN:DAYLIGHT
TZOFFSETFROM:+0100
TZOFFSETTO:+0200
TZNAME:CEST
DTSTART:20240331T010000
END:DAYLIGHT
BEGIN:STANDARD
TZOFFSETFROM:+0200
TZOFFSETTO:+0100
TZNAME:CET
DTSTART:20241027T010000
END:STANDARD
BEGIN:DAYLIGHT
TZOFFSETFROM:+0100
TZOFFSETTO:+0200
TZNAME:CEST
DTSTART:20250330T010000
END:DAYLIGHT
BEGIN:STANDARD
TZOFFSETFROM:+0200
TZOFFSETTO:+0100
TZNAME:CET
DTSTART:20251026T010000
END:STANDARD
END:VTIMEZONE
BEGIN:VEVENT
DTSTART;TZID=Europe/Madrid:20231031T235900
DTEND;TZID=Europe/Madrid:20231101T060000
DTSTAMP:20260421T223323
CREATED:20231004T123917Z
LAST-MODIFIED:20231027T074802Z
UID:10000526-1698796740-1698818400@yastaclub.es
SUMMARY:BearbiePOP (especial Halloween)
DESCRIPTION:Anticipadas (sólo 100 disponibles\, resto en taquilla) en https://entradium.com/events/bearbiepop-especial-halloween
URL:https://yastaclub.es/event/bearbiepop-especial-halloween/
LOCATION:Ya’sta Club\, Calle Valverde\, 10\, Madrid\, 28004\, España
CATEGORIES:Bear 🐻,LGTB 🏳️‍🌈
ATTACH;FMTTYPE=image/jpeg:https://yastaclub.es/wp-content/uploads/2023/10/WhatsApp-Image-2023-10-24-at-20.09.10.jpeg
END:VEVENT
BEGIN:VEVENT
DTSTART;TZID=Europe/Madrid:20231101T203000
DTEND;TZID=Europe/Madrid:20231101T233000
DTSTAMP:20260421T223323
CREATED:20231019T173757Z
LAST-MODIFIED:20231019T173757Z
UID:10000531-1698870600-1698881400@yastaclub.es
SUMMARY:La Chuecoteca por LGTBailamos (especial Halloween)
DESCRIPTION:¡Llega Halloween! 👻🌈 ¿Tienes ganas de disfrazarse y bailar? Esta es tu fiesta. Ya lo sabes\, queremos verte dándolo todo con salsa\, bachata y perreito del bueno. 🧟‍♀️🧟‍♂️🧟 \nTe esperamos el 1 de noviembre de 20:30 a 23:30 en Calle Valverde\, 10\, Madrid. \nNo te quedes sin plaza y reserva ya en:\nbit.ly/chuecoteca 💖
URL:https://yastaclub.es/event/la-chuecoteca-por-lgtbailamos-especial-halloween/
LOCATION:Ya’sta Club\, Calle Valverde\, 10\, Madrid\, 28004\, España
CATEGORIES:LGTB 🏳️‍🌈
ATTACH;FMTTYPE=image/jpeg:https://yastaclub.es/wp-content/uploads/2023/10/391731852_18235585567243559_2816072546922425872_n.jpg
END:VEVENT
BEGIN:VEVENT
DTSTART;TZID=Europe/Madrid:20231102T080000
DTEND;TZID=Europe/Madrid:20231102T170000
DTSTAMP:20260421T223323
CREATED:20231030T170233Z
LAST-MODIFIED:20231102T200156Z
UID:10000540-1698912000-1698944400@yastaclub.es
SUMMARY:OnlyDrags Party
DESCRIPTION:GRAN INAUGURACIÓN ONLY DRAGS PARTY 🌈👠\nEl próximo Jueves 2 inauguramos las fiestas de la formación de Only Drags en la sala @yastaclublgtb \,donde nuestras Reinas podrán mostrar su potencial y lo aprendido en clase con un público real .\n🎤Tendremos a la mejor presentadora @laograquetodolologra haciendo que la noche sea increíble .\n🎧Nuestra Dj @noasanchezr el mujeron que os hará bailar toda la noche .\n📸Y poneros bien guapas que @errebeene estará captando los mejores momentos de la noche con su cámara .\n🎊SORTEOS !!!\n-2 Entradas para el musical We Will Rock You\n– Bono de 5 clases en @esenciastudiosmadrid\n– 4 Entradas dobles para el Bingo en el hotel Axel\n– 2 Clases Gratis en la formación de Only Drags.\nNO OS LO PODÉIS PERDER !! Os esperamos . Si queréis entrar por lista escribidnos DM las plazas son limitadas .\nOrganizado por: @hurakan.bastida @laopcionproducciones\n#party #onlydrags #inauguracion #sorteo #dragqueen #madrid #fiesta #jueves
URL:https://yastaclub.es/event/onlydrags-party/2023-11-02/1/
LOCATION:Ya’sta Club\, Calle Valverde\, 10\, Madrid\, 28004\, España
CATEGORIES:Drag Queen 👠,LGTB 🏳️‍🌈
ATTACH;FMTTYPE=image/jpeg:https://yastaclub.es/wp-content/uploads/2023/10/395359434_17919991094802351_3105670641340803181_n.jpg
END:VEVENT
BEGIN:VEVENT
DTSTART;TZID=Europe/Madrid:20231102T235900
DTEND;TZID=Europe/Madrid:20231103T053000
DTSTAMP:20260421T223323
CREATED:20231030T170233Z
LAST-MODIFIED:20231102T200156Z
UID:10000533-1698969540-1698989400@yastaclub.es
SUMMARY:OnlyDrags Party
DESCRIPTION:GRAN INAUGURACIÓN ONLY DRAGS PARTY 🌈👠\nEl próximo Jueves 2 inauguramos las fiestas de la formación de Only Drags en la sala @yastaclublgtb \,donde nuestras Reinas podrán mostrar su potencial y lo aprendido en clase con un público real .\n🎤Tendremos a la mejor presentadora @laograquetodolologra haciendo que la noche sea increíble .\n🎧Nuestra Dj @noasanchezr el mujeron que os hará bailar toda la noche .\n📸Y poneros bien guapas que @errebeene estará captando los mejores momentos de la noche con su cámara .\n🎊SORTEOS !!!\n-2 Entradas para el musical We Will Rock You\n– Bono de 5 clases en @esenciastudiosmadrid\n– 4 Entradas dobles para el Bingo en el hotel Axel\n– 2 Clases Gratis en la formación de Only Drags.\nNO OS LO PODÉIS PERDER !! Os esperamos . Si queréis entrar por lista escribidnos DM las plazas son limitadas .\nOrganizado por: @hurakan.bastida @laopcionproducciones\n#party #onlydrags #inauguracion #sorteo #dragqueen #madrid #fiesta #jueves
URL:https://yastaclub.es/event/onlydrags-party/2023-11-02/2/
LOCATION:Ya’sta Club\, Calle Valverde\, 10\, Madrid\, 28004\, España
CATEGORIES:Drag Queen 👠,LGTB 🏳️‍🌈
ATTACH;FMTTYPE=image/jpeg:https://yastaclub.es/wp-content/uploads/2023/10/395359434_17919991094802351_3105670641340803181_n.jpg
END:VEVENT
BEGIN:VEVENT
DTSTART;TZID=Europe/Madrid:20231103T235900
DTEND;TZID=Europe/Madrid:20231104T060000
DTSTAMP:20260421T223323
CREATED:20231017T150819Z
LAST-MODIFIED:20231025T143038Z
UID:10000530-1699055940-1699077600@yastaclub.es
SUMMARY:FieSTAR (Fiesta especial bar Star Chueca)
DESCRIPTION:
URL:https://yastaclub.es/event/fiestar-fiesta-especial-bar-star-chueca/
LOCATION:Ya’sta Club\, Calle Valverde\, 10\, Madrid\, 28004\, España
CATEGORIES:Drag Queen 👠,LGTB 🏳️‍🌈
ATTACH;FMTTYPE=image/jpeg:https://yastaclub.es/wp-content/uploads/2023/10/395199698_17986538969522930_320692790174678103_n.jpg
END:VEVENT
BEGIN:VEVENT
DTSTART;TZID=Europe/Madrid:20231104T235900
DTEND;TZID=Europe/Madrid:20231105T060000
DTSTAMP:20260421T223323
CREATED:20230903T075509Z
LAST-MODIFIED:20230903T203930Z
UID:10000466-1699142340-1699164000@yastaclub.es
SUMMARY:BearbiePOP
DESCRIPTION:
URL:https://yastaclub.es/event/bearbiepop-17/2023-11-04/
LOCATION:Ya’sta Club\, Calle Valverde\, 10\, Madrid\, 28004\, España
CATEGORIES:Bear 🐻,LGTB 🏳️‍🌈
ATTACH;FMTTYPE=image/jpeg:https://yastaclub.es/wp-content/uploads/2023/09/bearbie-logo-2023.jpg
END:VEVENT
BEGIN:VEVENT
DTSTART;TZID=Europe/Madrid:20231105T190000
DTEND;TZID=Europe/Madrid:20231105T230000
DTSTAMP:20260421T223323
CREATED:20230919T203727Z
LAST-MODIFIED:20231025T143214Z
UID:10000502-1699210800-1699225200@yastaclub.es
SUMMARY:Gala Reina Drag - Tercera temporada - Inauguración
DESCRIPTION:Ya era hora de un regreso\, ¿no? \nVOLVEMOS con una tercera temporada con 12 nuevas reinas\, muchos premios y sobre todo\, ¡mucho talento! \nClaves: \n👉 La gala seguirá estando presentada por la maravillosa @chanelanorex 💋 \n👉 Habrá tres galas y una final. \n👉 Hemos hecho mucho hincapié en premios en forma de actuaciones en distintos locales y fiestas. ¡Suman 10\, de momento! Pronto os decimos cuáles ✌️ Por supuesto\, habrá más premios. \n👉 Arrancamos motores el 5 de NOVIEMBRE. \n¿A qué caras nuevas veremos o queréis ver? Os leemos 👀
URL:https://yastaclub.es/event/gala-reina-drag-tercera-temporada-inauguracion-incluye-viewing-party-drag-race-espana-all-stars/
LOCATION:Ya’sta Club\, Calle Valverde\, 10\, Madrid\, 28004\, España
CATEGORIES:Drag Queen 👠,LGTB 🏳️‍🌈
ATTACH;FMTTYPE=image/jpeg:https://yastaclub.es/wp-content/uploads/2023/10/WhatsApp-Image-2023-10-24-at-10.39.16.jpeg
END:VEVENT
BEGIN:VEVENT
DTSTART;TZID=Europe/Madrid:20231108T235900
DTEND;TZID=Europe/Madrid:20231109T060000
DTSTAMP:20260421T223323
CREATED:20231004T123958Z
LAST-MODIFIED:20231024T094032Z
UID:10000527-1699487940-1699509600@yastaclub.es
SUMMARY:Titanes on Tour (víspera de festivo)
DESCRIPTION:
URL:https://yastaclub.es/event/titanes-on-tour-vispera-de-festivo/
LOCATION:Ya’sta Club\, Calle Valverde\, 10\, Madrid\, 28004\, España
CATEGORIES:LGTB 🏳️‍🌈
ATTACH;FMTTYPE=image/jpeg:https://yastaclub.es/wp-content/uploads/2023/10/Cartel-1-Large.jpg
END:VEVENT
BEGIN:VEVENT
DTSTART;TZID=Europe/Madrid:20231110T235900
DTEND;TZID=Europe/Madrid:20231111T060000
DTSTAMP:20260421T223323
CREATED:20231102T153238Z
LAST-MODIFIED:20231102T153238Z
UID:10000539-1699660740-1699682400@yastaclub.es
SUMMARY:MisaPOP
DESCRIPTION:
URL:https://yastaclub.es/event/misapop-2/
LOCATION:Ya’sta Club\, Calle Valverde\, 10\, Madrid\, 28004\, España
CATEGORIES:Drag Queen 👠,LGTB 🏳️‍🌈
ATTACH;FMTTYPE=image/jpeg:https://yastaclub.es/wp-content/uploads/2023/11/397461053_1290394149027934_8744858439803519481_n.jpg
END:VEVENT
BEGIN:VEVENT
DTSTART;TZID=Europe/Madrid:20231111T235900
DTEND;TZID=Europe/Madrid:20231112T060000
DTSTAMP:20260421T223323
CREATED:20230903T075509Z
LAST-MODIFIED:20230903T203930Z
UID:10000467-1699747140-1699768800@yastaclub.es
SUMMARY:BearbiePOP
DESCRIPTION:
URL:https://yastaclub.es/event/bearbiepop-17/2023-11-11/
LOCATION:Ya’sta Club\, Calle Valverde\, 10\, Madrid\, 28004\, España
CATEGORIES:Bear 🐻,LGTB 🏳️‍🌈
ATTACH;FMTTYPE=image/jpeg:https://yastaclub.es/wp-content/uploads/2023/09/bearbie-logo-2023.jpg
END:VEVENT
BEGIN:VEVENT
DTSTART;TZID=Europe/Madrid:20231117T235900
DTEND;TZID=Europe/Madrid:20231118T060000
DTSTAMP:20260421T223323
CREATED:20230919T202724Z
LAST-MODIFIED:20231111T175908Z
UID:10000499-1700265540-1700287200@yastaclub.es
SUMMARY:ROAR Party - Edición Madonna (4º aniversario)
DESCRIPTION:El próximo viernes 17 de noviembre celebramos 4 años y qué menos que aprovechar que la diva del POP intergeneracional ha dado un conciertazo en Españita: haremos un ROAR especial de MADONNA! ✨🕺 \nOs daremos bien de Girl Gone Wild y Hung Up para intentar irnos a una ISLA BONITA con los shows de: \n👠 @itsagittaria\n✨ @humafuman\n💞 @categoryisnori\n💋 @bubaanorex_\n💅 @ditathevain \nNuestros DJs os pondrán mucho 𝙋𝙊𝙋 · 𝙍𝙀𝙂𝙂𝘼𝙀𝙏𝙊𝙉 · 𝙃𝙄𝙏𝙎 (actual / 2010 / 2000) además de hitazos de #Madonna : \n🎧 @d_nnismoore\n🎧 @somoselnido\n🎧 @jaime_rsc \n🎟 Anticipadas en roarparty.es. En taquilla 2 copas por 18€ hasta la 01.30\, después 1 por 15€\n📍 @yastaclublgtb \nLa previa\, en nuestros bares de confianza\, ¡consigue tu pulsera en ellos! \n🥂 @barbanarama\n🥂 @liadamadrid\n🥂 @reinapop_\n🥂 @starchueca \nColabora:\n🥃 @peligrocatrina\, con unos chupitos riquísimos\, os invitamos a probarlos 😜
URL:https://yastaclub.es/event/roar-party-edicion-madonna-4o-aniversario/
LOCATION:Ya’sta Club\, Calle Valverde\, 10\, Madrid\, 28004\, España
CATEGORIES:Drag Queen 👠,LGTB 🏳️‍🌈
ATTACH;FMTTYPE=image/jpeg:https://yastaclub.es/wp-content/uploads/2023/11/WhatsApp-Image-2023-11-10-at-17.05.49.jpeg
END:VEVENT
BEGIN:VEVENT
DTSTART;TZID=Europe/Madrid:20231118T235900
DTEND;TZID=Europe/Madrid:20231119T060000
DTSTAMP:20260421T223323
CREATED:20230903T075509Z
LAST-MODIFIED:20230903T203930Z
UID:10000468-1700351940-1700373600@yastaclub.es
SUMMARY:BearbiePOP
DESCRIPTION:
URL:https://yastaclub.es/event/bearbiepop-17/2023-11-18/
LOCATION:Ya’sta Club\, Calle Valverde\, 10\, Madrid\, 28004\, España
CATEGORIES:Bear 🐻,LGTB 🏳️‍🌈
ATTACH;FMTTYPE=image/jpeg:https://yastaclub.es/wp-content/uploads/2023/09/bearbie-logo-2023.jpg
END:VEVENT
BEGIN:VEVENT
DTSTART;TZID=Europe/Madrid:20231124T235900
DTEND;TZID=Europe/Madrid:20231125T060000
DTSTAMP:20260421T223323
CREATED:20231028T171006Z
LAST-MODIFIED:20231028T171006Z
UID:10000532-1700870340-1700892000@yastaclub.es
SUMMARY:Lolailo
DESCRIPTION:Lolailo Madrid
URL:https://yastaclub.es/event/lolailo-4/
LOCATION:Ya’sta Club\, Calle Valverde\, 10\, Madrid\, 28004\, España
CATEGORIES:Drag Queen 👠,LGTB 🏳️‍🌈
ATTACH;FMTTYPE=image/jpeg:https://yastaclub.es/wp-content/uploads/2022/05/269723666_659413535098490_6184787564094947798_n.jpg
END:VEVENT
BEGIN:VEVENT
DTSTART;TZID=Europe/Madrid:20231125T235900
DTEND;TZID=Europe/Madrid:20231126T060000
DTSTAMP:20260421T223323
CREATED:20231125T081045Z
LAST-MODIFIED:20231125T081045Z
UID:10000469-1700956740-1700978400@yastaclub.es
SUMMARY:BearbiePOP
DESCRIPTION:
URL:https://yastaclub.es/event/bearbiepop-17-9/
LOCATION:Ya’sta Club\, Calle Valverde\, 10\, Madrid\, 28004\, España
CATEGORIES:Bear 🐻,LGTB 🏳️‍🌈
ATTACH;FMTTYPE=image/jpeg:https://yastaclub.es/wp-content/uploads/2023/09/404015153_7256820194370386_5009526766597472824_n.jpg
END:VEVENT
BEGIN:VEVENT
DTSTART;TZID=Europe/Madrid:20231126T190000
DTEND;TZID=Europe/Madrid:20231126T210000
DTSTAMP:20260421T223323
CREATED:20231117T192331Z
LAST-MODIFIED:20240403T185732Z
UID:10000631-1701025200-1701032400@yastaclub.es
SUMMARY:Tributo Disney Chanel
DESCRIPTION:
URL:https://yastaclub.es/event/superstar-party-tributo-disney-chanel/2023-11-26/
LOCATION:Ya’sta Club\, Calle Valverde\, 10\, Madrid\, 28004\, España
CATEGORIES:LGTB 🏳️‍🌈
ATTACH;FMTTYPE=image/png:https://yastaclub.es/wp-content/uploads/2024/03/202402151708021668-disney-channel-en-concierto-principal.png
END:VEVENT
BEGIN:VEVENT
DTSTART;TZID=Europe/Madrid:20231127T190000
DTEND;TZID=Europe/Madrid:20231127T230000
DTSTAMP:20260421T223323
CREATED:20231127T151107Z
LAST-MODIFIED:20231127T151107Z
UID:10000563-1701111600-1701126000@yastaclub.es
SUMMARY:Gala Reina Drag T3 - Gala 3
DESCRIPTION:¡La última gala antes de la final ya está aquí! \nLa Gala 3 del próximo 3 de diciembre viene con 💅 Cloe Evans \, Kim Miller\, Lara Xfit y Sugar Nelly sirviendo talento en el escenario. ¿Apuestas? \nEntradas en yastaclub.es / galareinadrag.es \n📍 @yastaclublgtb \nColaboran:\n🥂🏳️‍🌈 Bares/locales/fiestas 🥂🏳️‍🌈\n@roar.party.madrid\n@reinapop_\n@starchueca\n@quienlainvito\n@diverssoclub\n@ozestonoeskansaspub\n@lalulushowbar\n@latorcida.madrid\n@lapajara.theclub\n@liadamadrid\n@fantasticclubmadrid\n@dragalada_mad\n@el12club \n📸 Fotografía 📸\n@errebeene \n🕺 Baile 🕺\n@onlydragspain \n🎙️Podcasts 🎙️\n@lapastillagay\n@ay_lacaneli
URL:https://yastaclub.es/event/gala-reina-drag-t3-gala-3/
LOCATION:Ya’sta Club\, Calle Valverde\, 10\, Madrid\, 28004\, España
CATEGORIES:Drag Queen 👠,LGTB 🏳️‍🌈
ATTACH;FMTTYPE=image/jpeg:https://yastaclub.es/wp-content/uploads/2023/11/WhatsApp-Image-2023-11-27-at-11.35.49.jpeg
END:VEVENT
BEGIN:VEVENT
DTSTART;TZID=Europe/Madrid:20231202T235900
DTEND;TZID=Europe/Madrid:20231203T060000
DTSTAMP:20260421T223323
CREATED:20231128T210530Z
LAST-MODIFIED:20231128T210530Z
UID:10000470-1701561540-1701583200@yastaclub.es
SUMMARY:BearbiePOP
DESCRIPTION:
URL:https://yastaclub.es/event/bearbiepop-17-10/
LOCATION:Ya’sta Club\, Calle Valverde\, 10\, Madrid\, 28004\, España
CATEGORIES:Bear 🐻,LGTB 🏳️‍🌈
ATTACH;FMTTYPE=image/jpeg:https://yastaclub.es/wp-content/uploads/2023/09/WhatsApp-Image-2023-11-27-at-21.40.25.jpeg
END:VEVENT
BEGIN:VEVENT
DTSTART;TZID=Europe/Madrid:20231215T235900
DTEND;TZID=Europe/Madrid:20231216T060000
DTSTAMP:20260421T223323
CREATED:20230919T202917Z
LAST-MODIFIED:20231206T231443Z
UID:10000501-1702684740-1702706400@yastaclub.es
SUMMARY:ROAR Party - Edición NaviDrag
DESCRIPTION:It’s tiiiiimeeeee! 🎅 El próximo viernes 15 de DICIEMBRE celebramos la NaviDrag con este cartelazo\, y creednos: no estáis listes✨🎄 \nShows muy navideños de la mano de: \n✨ @charlottebishhh (desde Barcelona para el mundo)\n✨ @dianadardo_\n✨ @la_sussi_\n✨ @epicsotiri\n✨ @meryl.stripper \nY durante toda la noche\, bien de POP • HITS • REGGAETON a cargo de 🎧 @xabiraindj 🎧 @jaime_rsc 🎧 @somoselnido \n🎟 Anticipadas en roarparty.es. En taquilla 2 copas por 18€ hasta la 01.30\, después 1 por 15€\n📍 @yastaclublgtb \nLa previa\, en nuestros bares de confianza\, ¡consigue tu pulsera en ellos! \n🥂 @barbanarama\n🥂 @liadamadrid\n🥂 @reinapop_\n🥂 @starchueca \nColabora:\n🥃 @peligrocatrina\, con unos chupitos riquísimos\, os invitamos a probarlos 😜
URL:https://yastaclub.es/event/roar-party-edicion-navidrag/
LOCATION:Ya’sta Club\, Calle Valverde\, 10\, Madrid\, 28004\, España
CATEGORIES:Drag Queen 👠,LGTB 🏳️‍🌈
ATTACH;FMTTYPE=image/jpeg:https://yastaclub.es/wp-content/uploads/2023/12/WhatsApp-Image-2023-11-30-at-10.30.02.jpeg
END:VEVENT
BEGIN:VEVENT
DTSTART;TZID=Europe/Madrid:20231216T235900
DTEND;TZID=Europe/Madrid:20231217T060000
DTSTAMP:20260421T223323
CREATED:20231213T150815Z
LAST-MODIFIED:20231213T150816Z
UID:10000472-1702771140-1702792800@yastaclub.es
SUMMARY:BearbiePOP
DESCRIPTION:
URL:https://yastaclub.es/event/bearbiepop-17-11/
LOCATION:Ya’sta Club\, Calle Valverde\, 10\, Madrid\, 28004\, España
CATEGORIES:Bear 🐻,LGTB 🏳️‍🌈
ATTACH;FMTTYPE=image/jpeg:https://yastaclub.es/wp-content/uploads/2023/09/WhatsApp-Image-2023-12-11-at-20.12.40.jpeg
END:VEVENT
BEGIN:VEVENT
DTSTART;TZID=Europe/Madrid:20231217T190000
DTEND;TZID=Europe/Madrid:20231217T230000
DTSTAMP:20260421T223323
CREATED:20231201T225931Z
LAST-MODIFIED:20231212T161457Z
UID:10000567-1702839600-1702854000@yastaclub.es
SUMMARY:Gala Reina Drag T3 - Gala Final
DESCRIPTION:La gala final es este domingo y… ¡ays\, qué nervios\, marichoch*s! \n@belikarubik\, @johannaexxo\, @imkimmiller y @mappymalibu darán todo con sus tremendos shows (y dos de ellas en el lipsync final). ¿Y tú\, qué team eres? \nApertura de puertas: 19:30\nInicio de la gala: 20:00 ⚠️\nAnticipadas en galareinadrag.es\n📍 @yastaclublgtb \nColaboran:\n🍸 Bares/locales/fiestas\n@roar.party.madrid\n@reinapop_\n@starchueca\n@quienlainvito\n@diverssoclub\n@ozestonoeskansaspub\n@lalulushowbar\n@latorcida.madrid\n@lapajara.theclub\n@liadamadrid\n@fantasticclubmadrid\n@dragalada_mad\n@el12club\n@dragonaspartymadrid \n📸 Fotografía\n@errebeene \n👯 Baile\n@onlydragspain \n🎙️Podcasts\n@lapastillagay\n@ay_lacaneli
URL:https://yastaclub.es/event/gala-reina-drag-t3-gala-final/
LOCATION:Ya’sta Club\, Calle Valverde\, 10\, Madrid\, 28004\, España
CATEGORIES:Drag Queen 👠,LGTB 🏳️‍🌈
ATTACH;FMTTYPE=image/jpeg:https://yastaclub.es/wp-content/uploads/2023/12/WhatsApp-Image-2023-12-07-at-10.38.01.jpeg
END:VEVENT
BEGIN:VEVENT
DTSTART;TZID=Europe/Madrid:20231222T235900
DTEND;TZID=Europe/Madrid:20231223T060000
DTSTAMP:20260421T223323
CREATED:20231128T210436Z
LAST-MODIFIED:20231207T112417Z
UID:10000566-1703289540-1703311200@yastaclub.es
SUMMARY:MisaPOP
DESCRIPTION:
URL:https://yastaclub.es/event/misapop-3/
LOCATION:Ya’sta Club\, Calle Valverde\, 10\, Madrid\, 28004\, España
CATEGORIES:Drag Queen 👠,LGTB 🏳️‍🌈
ATTACH;FMTTYPE=image/jpeg:https://yastaclub.es/wp-content/uploads/2023/11/IMG_20231207_122222_233.jpg
END:VEVENT
BEGIN:VEVENT
DTSTART;TZID=Europe/Madrid:20231223T235900
DTEND;TZID=Europe/Madrid:20231224T060000
DTSTAMP:20260421T223323
CREATED:20230903T075509Z
LAST-MODIFIED:20230903T203930Z
UID:10000473-1703375940-1703397600@yastaclub.es
SUMMARY:BearbiePOP
DESCRIPTION:
URL:https://yastaclub.es/event/bearbiepop-17/2023-12-23/
LOCATION:Ya’sta Club\, Calle Valverde\, 10\, Madrid\, 28004\, España
CATEGORIES:Bear 🐻,LGTB 🏳️‍🌈
ATTACH;FMTTYPE=image/jpeg:https://yastaclub.es/wp-content/uploads/2023/09/bearbie-logo-2023.jpg
END:VEVENT
BEGIN:VEVENT
DTSTART;TZID=Europe/Madrid:20231229T235900
DTEND;TZID=Europe/Madrid:20231230T060000
DTSTAMP:20260421T223323
CREATED:20231128T210337Z
LAST-MODIFIED:20231128T210337Z
UID:10000565-1703894340-1703916000@yastaclub.es
SUMMARY:Las Niñas
DESCRIPTION:
URL:https://yastaclub.es/event/las-ninas/
LOCATION:Ya’sta Club\, Calle Valverde\, 10\, Madrid\, 28004\, España
CATEGORIES:Drag Queen 👠,LGTB 🏳️‍🌈
ATTACH;FMTTYPE=image/jpeg:https://yastaclub.es/wp-content/uploads/2023/01/las-ninas.jpg
END:VEVENT
BEGIN:VEVENT
DTSTART;TZID=Europe/Madrid:20231230T235900
DTEND;TZID=Europe/Madrid:20231231T060000
DTSTAMP:20260421T223323
CREATED:20230903T075509Z
LAST-MODIFIED:20230903T203930Z
UID:10000474-1703980740-1704002400@yastaclub.es
SUMMARY:BearbiePOP
DESCRIPTION:
URL:https://yastaclub.es/event/bearbiepop-17/2023-12-30/
LOCATION:Ya’sta Club\, Calle Valverde\, 10\, Madrid\, 28004\, España
CATEGORIES:Bear 🐻,LGTB 🏳️‍🌈
ATTACH;FMTTYPE=image/jpeg:https://yastaclub.es/wp-content/uploads/2023/09/bearbie-logo-2023.jpg
END:VEVENT
BEGIN:VEVENT
DTSTART;TZID=Europe/Madrid:20231231T235900
DTEND;TZID=Europe/Madrid:20240101T060000
DTSTAMP:20260421T223323
CREATED:20231116T172533Z
LAST-MODIFIED:20231213T150755Z
UID:10000541-1704067140-1704088800@yastaclub.es
SUMMARY:BearbiePOP - Especial Nochevieja
DESCRIPTION:Entradas anticipadas en https://www.madbear.org/bear-sound 
URL:https://yastaclub.es/event/bearbiepop-especial-nochevieja/
LOCATION:Ya’sta Club\, Calle Valverde\, 10\, Madrid\, 28004\, España
CATEGORIES:Bear 🐻,LGTB 🏳️‍🌈
ATTACH;FMTTYPE=image/jpeg:https://yastaclub.es/wp-content/uploads/2023/12/Captura-de-pantalla-2023-12-13-160537.jpg
END:VEVENT
BEGIN:VEVENT
DTSTART;TZID=Europe/Madrid:20240105T233000
DTEND;TZID=Europe/Madrid:20240106T060000
DTSTAMP:20260421T223323
CREATED:20231201T230331Z
LAST-MODIFIED:20231201T230331Z
UID:10000569-1704497400-1704520800@yastaclub.es
SUMMARY:Drag Domination After Party
DESCRIPTION:
URL:https://yastaclub.es/event/drag-domination-after-party/
LOCATION:Ya’sta Club\, Calle Valverde\, 10\, Madrid\, 28004\, España
CATEGORIES:Drag Queen 👠,LGTB 🏳️‍🌈
ATTACH;FMTTYPE=image/jpeg:https://yastaclub.es/wp-content/uploads/2023/12/407272959_17873153136007482_7491077233058847032_n.jpg
END:VEVENT
BEGIN:VEVENT
DTSTART;TZID=Europe/Madrid:20240106T235900
DTEND;TZID=Europe/Madrid:20240107T060000
DTSTAMP:20260421T223323
CREATED:20240105T185420Z
LAST-MODIFIED:20240105T185421Z
UID:10000475-1704585540-1704607200@yastaclub.es
SUMMARY:BearbiePOP
DESCRIPTION:
URL:https://yastaclub.es/event/bearbiepop-17-12/
LOCATION:Ya’sta Club\, Calle Valverde\, 10\, Madrid\, 28004\, España
CATEGORIES:Bear 🐻,LGTB 🏳️‍🌈
ATTACH;FMTTYPE=image/jpeg:https://yastaclub.es/wp-content/uploads/2023/09/WhatsApp-Image-2024-01-02-at-15.44.43.jpeg
END:VEVENT
BEGIN:VEVENT
DTSTART;TZID=Europe/Madrid:20240112T235900
DTEND;TZID=Europe/Madrid:20240113T060000
DTSTAMP:20260421T223323
CREATED:20231201T230834Z
LAST-MODIFIED:20240105T185145Z
UID:10000570-1705103940-1705125600@yastaclub.es
SUMMARY:ROAR Party - Edición Lady Gaga
DESCRIPTION:El próximo 12 de enero del 2024 empezamos el año haciendo un remember de TODAS las eras de nuestra diva del Pop de los 2010’s: ¡LADY GAGA! ✊👹 \nOs esperamos con los shows de:\n✨ @its_arrhythmia\n✨ @laca.udilla\n✨ @johannaexxo\n✨ @jesuislecoco\n✨ @jenevagina \nY pinchando 𝙋𝙤𝙥 · 𝙍𝙚𝙜𝙜𝙖𝙚𝙩𝙤𝙣 · 𝙃𝙞𝙩𝙨:\n🎧 @robin_tooth\n🎧 @somoselnido\n🎧 @jaime_rsc \n🎟 Anticipadas en roarparty.es. En taquilla 2 copas por 18€ hasta la 01.30\, después 1 por 15€\n📍 @yastaclublgtb (23:59 – 06:00) \nLa previa\, en nuestros bares de confianza\, ¡consigue tu pulsera en ellos! \n🥂 @barbanarama\n🥂 @liadamadrid\n🥂 @reinapop_\n🥂 @starchueca \nColabora:\n🥃 @peligrocatrina\, con unos chupitos riquísimos\, os invitamos a probarlos 😜
URL:https://yastaclub.es/event/roar-party-edicion-lady-gaga/
LOCATION:Ya’sta Club\, Calle Valverde\, 10\, Madrid\, 28004\, España
CATEGORIES:Drag Queen 👠,LGTB 🏳️‍🌈
ATTACH;FMTTYPE=image/jpeg:https://yastaclub.es/wp-content/uploads/2024/01/WhatsApp-Image-2023-12-28-at-10.13.07-1.jpeg
END:VEVENT
BEGIN:VEVENT
DTSTART;TZID=Europe/Madrid:20240113T235900
DTEND;TZID=Europe/Madrid:20240114T060000
DTSTAMP:20260421T223323
CREATED:20230903T075509Z
LAST-MODIFIED:20230903T203930Z
UID:10000476-1705190340-1705212000@yastaclub.es
SUMMARY:BearbiePOP
DESCRIPTION:
URL:https://yastaclub.es/event/bearbiepop-17/2024-01-13/
LOCATION:Ya’sta Club\, Calle Valverde\, 10\, Madrid\, 28004\, España
CATEGORIES:Bear 🐻,LGTB 🏳️‍🌈
ATTACH;FMTTYPE=image/jpeg:https://yastaclub.es/wp-content/uploads/2023/09/bearbie-logo-2023.jpg
END:VEVENT
BEGIN:VEVENT
DTSTART;TZID=Europe/Madrid:20240119T235900
DTEND;TZID=Europe/Madrid:20240120T060000
DTSTAMP:20260421T223323
CREATED:20231201T230913Z
LAST-MODIFIED:20240105T184958Z
UID:10000571-1705708740-1705730400@yastaclub.es
SUMMARY:MisaPOP
DESCRIPTION:
URL:https://yastaclub.es/event/misapop-4/
LOCATION:Ya’sta Club\, Calle Valverde\, 10\, Madrid\, 28004\, España
CATEGORIES:Drag Queen 👠,LGTB 🏳️‍🌈
ATTACH;FMTTYPE=image/jpeg:https://yastaclub.es/wp-content/uploads/2024/01/photo_2024-01-05_13-53-19.jpg
END:VEVENT
END:VCALENDAR