BEGIN:VCALENDAR
VERSION:2.0
PRODID:-//Ya&#039;sta Club - ECPv6.15.20//NONSGML v1.0//EN
CALSCALE:GREGORIAN
METHOD:PUBLISH
X-WR-CALNAME:Ya&#039;sta Club
X-ORIGINAL-URL:https://yastaclub.es
X-WR-CALDESC:Eventos para Ya&#039;sta Club
REFRESH-INTERVAL;VALUE=DURATION:PT1H
X-Robots-Tag:noindex
X-PUBLISHED-TTL:PT1H
BEGIN:VTIMEZONE
TZID:Europe/Paris
BEGIN:DAYLIGHT
TZOFFSETFROM:+0100
TZOFFSETTO:+0200
TZNAME:CEST
DTSTART:20220327T010000
END:DAYLIGHT
BEGIN:STANDARD
TZOFFSETFROM:+0200
TZOFFSETTO:+0100
TZNAME:CET
DTSTART:20221030T010000
END:STANDARD
BEGIN:DAYLIGHT
TZOFFSETFROM:+0100
TZOFFSETTO:+0200
TZNAME:CEST
DTSTART:20230326T010000
END:DAYLIGHT
BEGIN:STANDARD
TZOFFSETFROM:+0200
TZOFFSETTO:+0100
TZNAME:CET
DTSTART:20231029T010000
END:STANDARD
BEGIN:DAYLIGHT
TZOFFSETFROM:+0100
TZOFFSETTO:+0200
TZNAME:CEST
DTSTART:20240331T010000
END:DAYLIGHT
BEGIN:STANDARD
TZOFFSETFROM:+0200
TZOFFSETTO:+0100
TZNAME:CET
DTSTART:20241027T010000
END:STANDARD
END:VTIMEZONE
BEGIN:VEVENT
DTSTART;TZID=Europe/Paris:20230416T190000
DTEND;TZID=Europe/Paris:20230416T230000
DTSTAMP:20260420T083338
CREATED:20230411T192524Z
LAST-MODIFIED:20230414T060426Z
UID:10000399-1681671600-1681686000@yastaclub.es
SUMMARY:De tarde - Viewing Party - Inauguración
DESCRIPTION:
URL:https://yastaclub.es/event/de-tarde-viewing-party-inauguracion/
LOCATION:Ya’sta Club\, Calle Valverde\, 10\, Madrid\, 28004\, España
CATEGORIES:Drag Queen 👠,LGTB 🏳️‍🌈
ATTACH;FMTTYPE=image/jpeg:https://yastaclub.es/wp-content/uploads/2023/04/WhatsApp-Image-2023-04-13-at-18.36.38.jpeg
END:VEVENT
BEGIN:VEVENT
DTSTART;TZID=Europe/Paris:20230423T190000
DTEND;TZID=Europe/Paris:20230423T230000
DTSTAMP:20260420T083338
CREATED:20230421T070038Z
LAST-MODIFIED:20230421T070038Z
UID:10000402-1682276400-1682290800@yastaclub.es
SUMMARY:De Tarde! - Drag Race Viewing Party
DESCRIPTION:𝗗𝗘 𝗧𝗔𝗥𝗗𝗘 ! 𝗩𝗜𝗘𝗪𝗜𝗡𝗚 𝗣𝗔𝗥𝗧𝗬 𝗕𝗬 𝗩𝗘𝗡𝗘𝗡𝗢\n\n\nNos vemos todos los domingos en De Tarde!\, la viewing party de Drag Race España en Madrid. Con nuevas invitadas cada semana: ven a disfrutar de los shows drag\, bailar con la mejor música y vivir en directo el visionado de la nueva temporada de Drag Race España. ¡Disfruta y apoya el drag local todos los domingos en sala YASTA club!\n @la_franella\n @dianadardo_\n @jenevagina\n @ariel_rec  la concursante más rockera de Drag Race España viene con más energía que nunca. No te pierdas su súper show en De Tarde!\nDj set NEXTLEVELCHRIS que pondrá los temazos de la fiesta\n\n\nHora de apertura: 19:00\n\n\n Entradas en yastaclub.es
URL:https://yastaclub.es/event/de-tarde-drag-race-viewing-party-23-04-2023/
LOCATION:Ya’sta Club\, Calle Valverde\, 10\, Madrid\, 28004\, España
CATEGORIES:Drag Queen 👠,LGTB 🏳️‍🌈
ATTACH;FMTTYPE=image/png:https://yastaclub.es/wp-content/uploads/2023/04/Cartel-IG.png
END:VEVENT
BEGIN:VEVENT
DTSTART;TZID=Europe/Paris:20230426T223000
DTEND;TZID=Europe/Paris:20230427T013000
DTSTAMP:20260420T083338
CREATED:20230427T070407Z
LAST-MODIFIED:20230427T070407Z
UID:10000406-1682548200-1682559000@yastaclub.es
SUMMARY:LGTBailamos - Chuecoteca
DESCRIPTION:
URL:https://yastaclub.es/event/lgtbailamos-chuecoteca-26-04-2023/
LOCATION:Ya’sta Club\, Calle Valverde\, 10\, Madrid\, 28004\, España
CATEGORIES:Drag Queen 👠,LGTB 🏳️‍🌈
ATTACH;FMTTYPE=image/jpeg:https://yastaclub.es/wp-content/uploads/2023/04/343329740_3086858284791796_8179427829506950263_n.jpg
END:VEVENT
BEGIN:VEVENT
DTSTART;TZID=Europe/Paris:20230428T235500
DTEND;TZID=Europe/Paris:20230429T060000
DTSTAMP:20260420T083338
CREATED:20230408T165006Z
LAST-MODIFIED:20230408T165006Z
UID:10000397-1682726100-1682748000@yastaclub.es
SUMMARY:Las Niñas
DESCRIPTION:
URL:https://yastaclub.es/event/las-ninas-28-04-2023/
LOCATION:Ya’sta Club\, Calle Valverde\, 10\, Madrid\, 28004\, España
CATEGORIES:Drag Queen 👠,LGTB 🏳️‍🌈
ATTACH;FMTTYPE=image/jpeg:https://yastaclub.es/wp-content/uploads/2023/04/340012624_187391114068737_1020708403514554509_n.jpg
END:VEVENT
BEGIN:VEVENT
DTSTART;TZID=Europe/Paris:20230429T235900
DTEND;TZID=Europe/Paris:20230430T060000
DTSTAMP:20260420T083338
CREATED:20230427T065226Z
LAST-MODIFIED:20230427T065226Z
UID:10000403-1682812740-1682834400@yastaclub.es
SUMMARY:Bearbie POP
DESCRIPTION:
URL:https://yastaclub.es/event/bearbie-pop-2/
LOCATION:Ya’sta Club\, Calle Valverde\, 10\, Madrid\, 28004\, España
CATEGORIES:Bear 🐻,LGTB 🏳️‍🌈
ATTACH;FMTTYPE=image/jpeg:https://yastaclub.es/wp-content/uploads/2023/04/343309348_160126663661657_1218537330111451680_n.jpg
END:VEVENT
BEGIN:VEVENT
DTSTART;TZID=Europe/Paris:20230430T190000
DTEND;TZID=Europe/Paris:20230501T060000
DTSTAMP:20260420T083338
CREATED:20230427T065314Z
LAST-MODIFIED:20230427T070149Z
UID:10000404-1682881200-1682920800@yastaclub.es
SUMMARY:De Tarde Viewing Party - (ampliable hasta las 06:00 por víspera de festivo)
DESCRIPTION:
URL:https://yastaclub.es/event/de-tarde-viewing-party-ampliable-hasta-las-0600-por-vispera-de-festivo/
LOCATION:Ya’sta Club\, Calle Valverde\, 10\, Madrid\, 28004\, España
CATEGORIES:Drag Queen 👠,LGTB 🏳️‍🌈
ATTACH;FMTTYPE=image/png:https://yastaclub.es/wp-content/uploads/2023/04/image0.png
END:VEVENT
BEGIN:VEVENT
DTSTART;TZID=Europe/Paris:20230501T235900
DTEND;TZID=Europe/Paris:20230502T053000
DTSTAMP:20260420T083338
CREATED:20230405T092811Z
LAST-MODIFIED:20230411T132629Z
UID:10000396-1682985540-1683005400@yastaclub.es
SUMMARY:Fantastic Club (víspera de festivo)
DESCRIPTION:Chica\, ¿qué fantastic todo\, no?\n\n\nFANTASTIC Club es la fiesta con DRAGS chulísimas de las vísperas de festivo de Ya’sta Club.\n\n\n\nEl próximo 1 de MAYO os esperamos con tres dragonas icónicas: ¡Chanel Anorex\, Vania Vainilla y Clover Bish! \n\n\n\nArrancamos motores el 1 de MAYO (sí\, el 2 es festivo en Madrid )\n\n\n\nEntradas en yastaclub.es/entradas\nProduce: ROAR Party Madrid
URL:https://yastaclub.es/event/fantastic-club-01-05-2023/
LOCATION:Ya’sta Club\, Calle Valverde\, 10\, Madrid\, 28004\, España
CATEGORIES:LGTB 🏳️‍🌈
ATTACH;FMTTYPE=image/jpeg:https://yastaclub.es/wp-content/uploads/2023/04/WhatsApp-Image-2023-04-10-at-12.26.19.jpeg
END:VEVENT
BEGIN:VEVENT
DTSTART;TZID=Europe/Paris:20230506T235500
DTEND;TZID=Europe/Paris:20230507T060000
DTSTAMP:20260420T083338
CREATED:20230504T053148Z
LAST-MODIFIED:20230504T053201Z
UID:10000409-1683417300-1683439200@yastaclub.es
SUMMARY:BearbiePOP
DESCRIPTION:
URL:https://yastaclub.es/event/bearbiepop-07-05-2023/
LOCATION:Ya’sta Club\, Calle Valverde\, 10\, Madrid\, 28004\, España
CATEGORIES:Bear 🐻,LGTB 🏳️‍🌈
ATTACH;FMTTYPE=image/jpeg:https://yastaclub.es/wp-content/uploads/2023/05/344765331_889969178741460_8335488645918511823_n-1.jpg
END:VEVENT
BEGIN:VEVENT
DTSTART;TZID=Europe/Paris:20230507T190000
DTEND;TZID=Europe/Paris:20230507T233000
DTSTAMP:20260420T083338
CREATED:20230504T053318Z
LAST-MODIFIED:20230504T053318Z
UID:10000410-1683486000-1683502200@yastaclub.es
SUMMARY:De Tarde! Drag Race España Viewing Party
DESCRIPTION:𝗗𝗘 𝗧𝗔𝗥𝗗𝗘 ! ⭐️𝗩𝗜𝗘𝗪𝗜𝗡𝗚 𝗣𝗔𝗥𝗧𝗬 𝗕𝗬 𝗩𝗘𝗡𝗘𝗡𝗢⭐️ \nNos vemos todos los domingos en De Tarde!\, la viewing party de Drag Race España en Madrid. Con nuevas invitadas cada semana: ven a disfrutar de los shows drag\, bailar con la mejor música y vivir en directo el visionado de la nueva temporada de Drag Race España. ¡Disfruta y apoya el drag local todos los domingos en sala YASTA club!\n⭐️Franela\n⭐️Diana Dardo\n💥 Marisa Prisa\n💥La Prohibida\n🌪️DJ NextLevelChris \nHora de apertura: 19:00 \n#detarde #venenomadrid #dragracespaña #rupaul #DRES #DRES3 #laprohibida #marisaprisa #dianadardo #lafranela #viewingparty #drag #dragqueen #fiesta
URL:https://yastaclub.es/event/de-tarde-drag-race-espana-viewing-party-07-05-2023/
LOCATION:Ya’sta Club\, Calle Valverde\, 10\, Madrid\, 28004\, España
CATEGORIES:Drag Queen 👠,LGTB 🏳️‍🌈
ATTACH;FMTTYPE=image/jpeg:https://yastaclub.es/wp-content/uploads/2023/05/FvOekpUWIAAbMCC.jpg
END:VEVENT
BEGIN:VEVENT
DTSTART;TZID=Europe/Paris:20230512T235900
DTEND;TZID=Europe/Paris:20230513T060000
DTSTAMP:20260420T083338
CREATED:20230428T190824Z
LAST-MODIFIED:20230509T142257Z
UID:10000407-1683935940-1683957600@yastaclub.es
SUMMARY:Veneno Madrid - Con Charity Kase y Pakita
DESCRIPTION:
URL:https://yastaclub.es/event/veneno-madrid-con-charity-kase/
LOCATION:Ya’sta Club\, Calle Valverde\, 10\, Madrid\, 28004\, España
CATEGORIES:Drag Queen 👠,LGTB 🏳️‍🌈
ATTACH;FMTTYPE=image/jpeg:https://yastaclub.es/wp-content/uploads/2023/04/345202152_257571479976497_7766062494940361733_n.jpg
END:VEVENT
BEGIN:VEVENT
DTSTART;TZID=Europe/Paris:20230514T190000
DTEND;TZID=Europe/Paris:20230514T230000
DTSTAMP:20260420T083338
CREATED:20230510T105526Z
LAST-MODIFIED:20230514T070322Z
UID:10000413-1684090800-1684105200@yastaclub.es
SUMMARY:De Tarde! - Viewing Party de Drag Race España (CANCELADO)
DESCRIPTION:
URL:https://yastaclub.es/event/de-tarde-viewing-party-de-drag-race-espana/
LOCATION:Ya’sta Club\, Calle Valverde\, 10\, Madrid\, 28004\, España
CATEGORIES:Drag Queen 👠,LGTB 🏳️‍🌈
ATTACH;FMTTYPE=image/jpeg:https://yastaclub.es/wp-content/uploads/2023/05/WhatsApp-Image-2023-05-10-at-13.52.14.jpeg
END:VEVENT
BEGIN:VEVENT
DTSTART;TZID=Europe/Paris:20230519T235900
DTEND;TZID=Europe/Paris:20230520T060000
DTSTAMP:20260420T083338
CREATED:20230321T103423Z
LAST-MODIFIED:20230509T143815Z
UID:10000393-1684540740-1684562400@yastaclub.es
SUMMARY:ROAR Party - Edición Aitana con el regreso de Samantha Ballentines
DESCRIPTION:
URL:https://yastaclub.es/event/roar-party-el-regreso-de-samantha-ballentines/
LOCATION:Ya’sta Club\, Calle Valverde\, 10\, Madrid\, 28004\, España
CATEGORIES:Drag Queen 👠,LGTB 🏳️‍🌈
ATTACH;FMTTYPE=image/jpeg:https://yastaclub.es/wp-content/uploads/2023/05/WhatsApp-Image-2023-05-08-at-12.02.29.jpeg
END:VEVENT
BEGIN:VEVENT
DTSTART;TZID=Europe/Paris:20230520T235500
DTEND;TZID=Europe/Paris:20230521T060000
DTSTAMP:20260420T083338
CREATED:20230511T073124Z
LAST-MODIFIED:20230517T082538Z
UID:10000416-1684626900-1684648800@yastaclub.es
SUMMARY:BearbiePOP
DESCRIPTION:
URL:https://yastaclub.es/event/bearbiepop-20-05-2023/
LOCATION:Ya’sta Club\, Calle Valverde\, 10\, Madrid\, 28004\, España
CATEGORIES:Bear 🐻,LGTB 🏳️‍🌈
ATTACH;FMTTYPE=image/jpeg:https://yastaclub.es/wp-content/uploads/2023/05/25febofi2web-1.jpg
END:VEVENT
BEGIN:VEVENT
DTSTART;TZID=Europe/Paris:20230526T235500
DTEND;TZID=Europe/Paris:20230527T060000
DTSTAMP:20260420T083338
CREATED:20230504T053446Z
LAST-MODIFIED:20230510T124410Z
UID:10000411-1685145300-1685167200@yastaclub.es
SUMMARY:Lolailo Elecciones
DESCRIPTION:🔴EL VIERNES 26\nTAMBIÉN🫵\nTENÉIS UNA CITA CON LAS URNAS🗳 \nY como dijo la rupola\, regístrate para votar\, o en este caso\, compra tu ENTRADA yastaclub.es/entradas 🎟 \n¿Qué pensarán los sondeos de estas líderes de la democracia?📊 \n🔘Candidata a la Presidencia por MÁS PAPIS – @pakitaspain\n🔘Candidata a la Presidencia por HINOJOS EXISTE – @larosariomolina\n🔘Candidata a la Presidencia por UNIDAS\, NA MENOS – @belial_romerito\n🔘Candidata a la Presidencia por PIES PIES – @la_sussi_\n🔘Candidata a la Presidencia por BOPS – @laca.udilla\n🔘Candidata a la Presidencia por PSOLE – @ccarvento \n🏁EMPIEZA LA CAMPAÑA ELECTORAL\n🎧DjSet @xessissex\n🎭Dir. Creativa @uesperansitau \n🖼Cartelería\,Concepto y Dir. Artística @viyusgi
URL:https://yastaclub.es/event/lolailo-elecciones-26-05-2023/
LOCATION:Ya’sta Club\, Calle Valverde\, 10\, Madrid\, 28004\, España
CATEGORIES:Drag Queen 👠,LGTB 🏳️‍🌈
ATTACH;FMTTYPE=image/jpeg:https://yastaclub.es/wp-content/uploads/2023/05/345423479_191626440435174_5115060358724326330_n.jpg
END:VEVENT
BEGIN:VEVENT
DTSTART;VALUE=DATE:20230527
DTEND;VALUE=DATE:20230530
DTSTAMP:20260420T083338
CREATED:20230511T073421Z
LAST-MODIFIED:20230527T070405Z
UID:10000418-1685167200-1685339999@yastaclub.es
SUMMARY:BearbiePOP
DESCRIPTION:
URL:https://yastaclub.es/event/bearbiepop-27-05-2023/
LOCATION:Ya’sta Club\, Calle Valverde\, 10\, Madrid\, 28004\, España
CATEGORIES:Bear 🐻,LGTB 🏳️‍🌈
ATTACH;FMTTYPE=image/jpeg:https://yastaclub.es/wp-content/uploads/2023/05/25febofi2web-2.jpg
END:VEVENT
BEGIN:VEVENT
DTSTART;VALUE=DATE:20230609
DTEND;VALUE=DATE:20230611
DTSTAMP:20260420T083338
CREATED:20230601T153807Z
LAST-MODIFIED:20230604T065714Z
UID:10000421-1686290400-1686376799@yastaclub.es
SUMMARY:Veneno - Con The Macarena
DESCRIPTION:
URL:https://yastaclub.es/event/veneno-con-the-macarena/
LOCATION:Ya’sta Club\, Calle Valverde\, 10\, Madrid\, 28004\, España
CATEGORIES:Drag Queen 👠,LGTB 🏳️‍🌈
ATTACH;FMTTYPE=image/jpeg:https://yastaclub.es/wp-content/uploads/2023/06/WhatsApp-Image-2023-06-03-at-21.30.50.jpeg
END:VEVENT
BEGIN:VEVENT
DTSTART;VALUE=DATE:20230617
DTEND;VALUE=DATE:20230619
DTSTAMP:20260420T083338
CREATED:20230606T065032Z
LAST-MODIFIED:20230612T163037Z
UID:10000426-1686981600-1687067999@yastaclub.es
SUMMARY:BearbiePOP
DESCRIPTION:
URL:https://yastaclub.es/event/bearbiepop-10/
LOCATION:Ya’sta Club\, Calle Valverde\, 10\, Madrid\, 28004\, España
CATEGORIES:Bear 🐻,LGTB 🏳️‍🌈
ATTACH;FMTTYPE=image/jpeg:https://yastaclub.es/wp-content/uploads/2023/06/WhatsApp-Image-2023-06-12-at-18.34.36.jpeg
END:VEVENT
BEGIN:VEVENT
DTSTART;VALUE=DATE:20230624
DTEND;VALUE=DATE:20230626
DTSTAMP:20260420T083338
CREATED:20230606T082304Z
LAST-MODIFIED:20230623T084450Z
UID:10000428-1687586400-1687672799@yastaclub.es
SUMMARY:BearbiePOP
DESCRIPTION:
URL:https://yastaclub.es/event/bearbiepop-11/
LOCATION:Ya’sta Club\, Calle Valverde\, 10\, Madrid\, 28004\, España
CATEGORIES:Bear 🐻,LGTB 🏳️‍🌈
ATTACH;FMTTYPE=image/jpeg:https://yastaclub.es/wp-content/uploads/2023/06/bearbie-logo-2022.jpg
END:VEVENT
BEGIN:VEVENT
DTSTART;TZID=Europe/Paris:20230625T190000
DTEND;TZID=Europe/Paris:20230625T230000
DTSTAMP:20260420T083338
CREATED:20230613T204734Z
LAST-MODIFIED:20230616T174454Z
UID:10000430-1687719600-1687734000@yastaclub.es
SUMMARY:De Tarde! - Visionado Final Drag Race España S3
DESCRIPTION:
URL:https://yastaclub.es/event/de-tarde-visionado-final-drag-race-espana-s3/
LOCATION:Ya’sta Club\, Calle Valverde\, 10\, Madrid\, 28004\, España
CATEGORIES:Drag Queen 👠,LGTB 🏳️‍🌈
ATTACH;FMTTYPE=image/jpeg:https://yastaclub.es/wp-content/uploads/2023/06/354427068_1338686936724439_3198218714116656664_n.jpg
END:VEVENT
BEGIN:VEVENT
DTSTART;VALUE=DATE:20230628
DTEND;VALUE=DATE:20230630
DTSTAMP:20260420T083338
CREATED:20230605T163436Z
LAST-MODIFIED:20230615T065204Z
UID:10000425-1687932000-1688018399@yastaclub.es
SUMMARY:Zarpa XXL
DESCRIPTION:
URL:https://yastaclub.es/event/zarpa-xxl/
LOCATION:Ya’sta Club\, Calle Valverde\, 10\, Madrid\, 28004\, España
CATEGORIES:Bear 🐻,LGTB 🏳️‍🌈,Pride 2023
ATTACH;FMTTYPE=image/jpeg:https://yastaclub.es/wp-content/uploads/2023/06/351083664_136310522793744_8651231813338633526_n.jpg
END:VEVENT
BEGIN:VEVENT
DTSTART;VALUE=DATE:20230629
DTEND;VALUE=DATE:20230701
DTSTAMP:20260420T083338
CREATED:20230604T190435Z
LAST-MODIFIED:20230622T185125Z
UID:10000424-1688018400-1688104799@yastaclub.es
SUMMARY:Lolailo - Especial Orgullo
DESCRIPTION:
URL:https://yastaclub.es/event/lolailo-especial-orgullo/
LOCATION:Ya’sta Club\, Calle Valverde\, 10\, Madrid\, 28004\, España
CATEGORIES:Drag Queen 👠,LGTB 🏳️‍🌈,Pride 2023
ATTACH;FMTTYPE=image/jpeg:https://yastaclub.es/wp-content/uploads/2023/06/355145554_215459048067425_4133990224120041588_n.jpg
END:VEVENT
BEGIN:VEVENT
DTSTART;VALUE=DATE:20230630
DTEND;VALUE=DATE:20230702
DTSTAMP:20260420T083338
CREATED:20230510T124138Z
LAST-MODIFIED:20230615T065204Z
UID:10000414-1688104800-1688191199@yastaclub.es
SUMMARY:ROAR Party - Especial Orgullo - Con Pitita Queen
DESCRIPTION:
URL:https://yastaclub.es/event/roar-party-especial-orgullo-con-pitita-queen/
LOCATION:Ya’sta Club\, Calle Valverde\, 10\, Madrid\, 28004\, España
CATEGORIES:Drag Queen 👠,LGTB 🏳️‍🌈,Pride 2023
ATTACH;FMTTYPE=image/jpeg:https://yastaclub.es/wp-content/uploads/2023/05/WhatsApp-Image-2023-06-05-at-16.47.03.jpeg
END:VEVENT
BEGIN:VEVENT
DTSTART;VALUE=DATE:20230701
DTEND;VALUE=DATE:20230704
DTSTAMP:20260420T083338
CREATED:20230511T073319Z
LAST-MODIFIED:20230615T065204Z
UID:10000417-1688191200-1688363999@yastaclub.es
SUMMARY:BearbiePOP - Especial Orgullo
DESCRIPTION:
URL:https://yastaclub.es/event/bearbiepop-edicion-pride-01-07-2023/
LOCATION:Ya’sta Club\, Calle Valverde\, 10\, Madrid\, 28004\, España
CATEGORIES:Bear 🐻,LGTB 🏳️‍🌈,Pride 2023
ATTACH;FMTTYPE=image/jpeg:https://yastaclub.es/wp-content/uploads/2023/06/25febofi2web-scaled.jpg
END:VEVENT
BEGIN:VEVENT
DTSTART;TZID=Europe/Paris:20230702T190000
DTEND;TZID=Europe/Paris:20230702T230000
DTSTAMP:20260420T083338
CREATED:20230614T134537Z
LAST-MODIFIED:20230615T065203Z
UID:10000431-1688324400-1688338800@yastaclub.es
SUMMARY:El Gran Bingo Drag
DESCRIPTION:
URL:https://yastaclub.es/event/el-gran-bingo-drag/
LOCATION:Ya’sta Club\, Calle Valverde\, 10\, Madrid\, 28004\, España
CATEGORIES:Drag Queen 👠,LGTB 🏳️‍🌈,Pride 2023
ATTACH;FMTTYPE=image/jpeg:https://yastaclub.es/wp-content/uploads/2023/06/WhatsApp-Image-2023-06-14-at-12.51.05.jpeg
END:VEVENT
BEGIN:VEVENT
DTSTART;TZID=Europe/Paris:20230702T233000
DTEND;TZID=Europe/Paris:20230703T053000
DTSTAMP:20260420T083338
CREATED:20230510T143041Z
LAST-MODIFIED:20230615T065203Z
UID:10000415-1688340600-1688362200@yastaclub.es
SUMMARY:Bear Pride Madrid
DESCRIPTION:
URL:https://yastaclub.es/event/bear-pride-madrid/
LOCATION:Ya’sta Club\, Calle Valverde\, 10\, Madrid\, 28004\, España
CATEGORIES:Bear 🐻,LGTB 🏳️‍🌈,Pride 2023
ATTACH;FMTTYPE=image/jpeg:https://yastaclub.es/wp-content/uploads/2023/05/WhatsApp-Image-2023-05-11-at-13.45.49.jpeg
END:VEVENT
BEGIN:VEVENT
DTSTART;VALUE=DATE:20230714
DTEND;VALUE=DATE:20230716
DTSTAMP:20260420T083338
CREATED:20230612T110125Z
LAST-MODIFIED:20230627T073909Z
UID:10000429-1689314400-1689400799@yastaclub.es
SUMMARY:ROAR Party - Edición Caribe Mix (cierre de temporada)
DESCRIPTION:
URL:https://yastaclub.es/event/roar-party-edicion-caribe-mix-cierre-de-temporada/
LOCATION:Ya’sta Club\, Calle Valverde\, 10\, Madrid\, 28004\, España
CATEGORIES:Drag Queen 👠,LGTB 🏳️‍🌈
ATTACH;FMTTYPE=image/jpeg:https://yastaclub.es/wp-content/uploads/2023/06/WhatsApp-Image-2023-06-23-at-11.22.55.jpeg
END:VEVENT
BEGIN:VEVENT
DTSTART;VALUE=DATE:20230721
DTEND;VALUE=DATE:20230724
DTSTAMP:20260420T083338
CREATED:20230627T074133Z
LAST-MODIFIED:20230713T185223Z
UID:10000433-1689919200-1690091999@yastaclub.es
SUMMARY:Fantastic Club - Especial Barbie
DESCRIPTION:
URL:https://yastaclub.es/event/fantastic-club/
LOCATION:Ya’sta Club\, Calle Valverde\, 10\, Madrid\, 28004\, España
CATEGORIES:Drag Queen 👠,LGTB 🏳️‍🌈
ATTACH;FMTTYPE=image/jpeg:https://yastaclub.es/wp-content/uploads/2023/07/WhatsApp-Image-2023-07-13-at-11.58.12.jpeg
END:VEVENT
BEGIN:VEVENT
DTSTART;VALUE=DATE:20230722
DTEND;VALUE=DATE:20230724
DTSTAMP:20260420T083338
CREATED:20230718T085047Z
LAST-MODIFIED:20230718T085047Z
UID:10000435-1690005600-1690091999@yastaclub.es
SUMMARY:BearbiePOP
DESCRIPTION:
URL:https://yastaclub.es/event/bearbiepop-13/
LOCATION:Ya’sta Club\, Calle Valverde\, 10\, Madrid\, 28004\, España
CATEGORIES:Bear 🐻,LGTB 🏳️‍🌈
ATTACH;FMTTYPE=image/jpeg:https://yastaclub.es/wp-content/uploads/2023/06/bearbie-logo-2022.jpg
END:VEVENT
BEGIN:VEVENT
DTSTART;VALUE=DATE:20230901
DTEND;VALUE=DATE:20230903
DTSTAMP:20260420T083338
CREATED:20230829T103410Z
LAST-MODIFIED:20230829T103410Z
UID:10000447-1693548000-1693634399@yastaclub.es
SUMMARY:Bearbie Reentré
DESCRIPTION:
URL:https://yastaclub.es/event/bearbie-reentre/
LOCATION:Ya’sta Club\, Calle Valverde\, 10\, Madrid\, 28004\, España
CATEGORIES:Bear 🐻,LGTB 🏳️‍🌈
ATTACH;FMTTYPE=image/jpeg:https://yastaclub.es/wp-content/uploads/2023/08/371832069_804789508314093_7927244859957816989_n.jpg
END:VEVENT
BEGIN:VEVENT
DTSTART;VALUE=DATE:20230902
DTEND;VALUE=DATE:20230904
DTSTAMP:20260420T083338
CREATED:20230829T103437Z
LAST-MODIFIED:20230829T103437Z
UID:10000448-1693634400-1693720799@yastaclub.es
SUMMARY:BearbiePOP
DESCRIPTION:
URL:https://yastaclub.es/event/bearbiepop-16/
LOCATION:Ya’sta Club\, Calle Valverde\, 10\, Madrid\, 28004\, España
CATEGORIES:Bear 🐻,LGTB 🏳️‍🌈
ATTACH;FMTTYPE=image/jpeg:https://yastaclub.es/wp-content/uploads/2023/08/369690877_803817098411334_9142190211633816765_n.jpg
END:VEVENT
END:VCALENDAR