BEGIN:VCALENDAR
VERSION:2.0
PRODID:-//Ya&#039;sta Club - ECPv6.15.20//NONSGML v1.0//EN
CALSCALE:GREGORIAN
METHOD:PUBLISH
X-ORIGINAL-URL:https://yastaclub.es
X-WR-CALDESC:Eventos para Ya&#039;sta Club
REFRESH-INTERVAL;VALUE=DURATION:PT1H
X-Robots-Tag:noindex
X-PUBLISHED-TTL:PT1H
BEGIN:VTIMEZONE
TZID:Europe/Madrid
BEGIN:DAYLIGHT
TZOFFSETFROM:+0100
TZOFFSETTO:+0200
TZNAME:CEST
DTSTART:20240331T010000
END:DAYLIGHT
BEGIN:STANDARD
TZOFFSETFROM:+0200
TZOFFSETTO:+0100
TZNAME:CET
DTSTART:20241027T010000
END:STANDARD
BEGIN:DAYLIGHT
TZOFFSETFROM:+0100
TZOFFSETTO:+0200
TZNAME:CEST
DTSTART:20250330T010000
END:DAYLIGHT
BEGIN:STANDARD
TZOFFSETFROM:+0200
TZOFFSETTO:+0100
TZNAME:CET
DTSTART:20251026T010000
END:STANDARD
BEGIN:DAYLIGHT
TZOFFSETFROM:+0100
TZOFFSETTO:+0200
TZNAME:CEST
DTSTART:20260329T010000
END:DAYLIGHT
BEGIN:STANDARD
TZOFFSETFROM:+0200
TZOFFSETTO:+0100
TZNAME:CET
DTSTART:20261025T010000
END:STANDARD
END:VTIMEZONE
BEGIN:VEVENT
DTSTART;TZID=Europe/Madrid:20250501T213000
DTEND;TZID=Europe/Madrid:20250501T233000
DTSTAMP:20260422T180922
CREATED:20250416T210051Z
LAST-MODIFIED:20250416T210051Z
UID:10001032-1746135000-1746142200@yastaclub.es
SUMMARY:Swing Madrid Night
DESCRIPTION:Nueva Sesión del Yasta para el Jueves 1 de Mayo de 2025. \nDe 21.30 a 23.30h. Swing\, Rock & Roll y Blues. \nCon la mejor Música de Swing\, Rock & Roll y Blues Dj Swing Madrid. \nENTRADA. Bailes Social + Consumición. Venta Anticipada. \n7€ / 1 Consumición (Agua\, Refresco o Cerveza.) \n10€ / 1 Copa o 2 Consumiciones (Agua\, Refresco o Cerveza.) \nVenta anticipada por Entradium \nhttps://entradium.com/es/organizers/blanco-y-negro-studio \n*En Puerta \n12€/ 1 Copa o 2 Consumiciones (Agua\, Refresco o Cerveza.) \nEn Sala Cervezas y Refrescos 3€ y Copas 6€ \n¿Dónde Estamos? \nCalle Valverde 10. Madrid 28004 \nMetro. Gran Vía. \nAquí Podrás ver todos Nuestros eventos. \nhttps://blancoynegrostudio.com/calendario-eventos \n*De 19.00 a 21.00h Estaremos Bailando en las Fiestas autogestionadas del 2 de Mayo. En la Plaza de las Comendaroras. \nBlanco y Negro Studio \nwww.blancoynegrostudio.com \ninfo@blancoynegrostudio.com \nTlf / whatsapp: 687 555 383
URL:https://yastaclub.es/event/swing-madrid-night-7/
LOCATION:Ya’sta Club\, Calle Valverde\, 10\, Madrid\, 28004\, España
CATEGORIES:Swing
ATTACH;FMTTYPE=image/jpeg:https://yastaclub.es/wp-content/uploads/2025/04/event_photos_gallery_l_WhatsApp_Image_2025-03-22_at_13.48.43-1.jpeg
END:VEVENT
END:VCALENDAR