BEGIN:VCALENDAR
VERSION:2.0
PRODID:-//Ya&#039;sta Club - ECPv6.15.20//NONSGML v1.0//EN
CALSCALE:GREGORIAN
METHOD:PUBLISH
X-WR-CALNAME:Ya&#039;sta Club
X-ORIGINAL-URL:https://yastaclub.es
X-WR-CALDESC:Eventos para Ya&#039;sta Club
REFRESH-INTERVAL;VALUE=DURATION:PT1H
X-Robots-Tag:noindex
X-PUBLISHED-TTL:PT1H
BEGIN:VTIMEZONE
TZID:Europe/Madrid
BEGIN:DAYLIGHT
TZOFFSETFROM:+0100
TZOFFSETTO:+0200
TZNAME:CEST
DTSTART:20240331T010000
END:DAYLIGHT
BEGIN:STANDARD
TZOFFSETFROM:+0200
TZOFFSETTO:+0100
TZNAME:CET
DTSTART:20241027T010000
END:STANDARD
BEGIN:DAYLIGHT
TZOFFSETFROM:+0100
TZOFFSETTO:+0200
TZNAME:CEST
DTSTART:20250330T010000
END:DAYLIGHT
BEGIN:STANDARD
TZOFFSETFROM:+0200
TZOFFSETTO:+0100
TZNAME:CET
DTSTART:20251026T010000
END:STANDARD
BEGIN:DAYLIGHT
TZOFFSETFROM:+0100
TZOFFSETTO:+0200
TZNAME:CEST
DTSTART:20260329T010000
END:DAYLIGHT
BEGIN:STANDARD
TZOFFSETFROM:+0200
TZOFFSETTO:+0100
TZNAME:CET
DTSTART:20261025T010000
END:STANDARD
END:VTIMEZONE
BEGIN:VEVENT
DTSTART;TZID=Europe/Madrid:20250418T235900
DTEND;TZID=Europe/Madrid:20250419T060000
DTSTAMP:20260422T180936
CREATED:20250407T140448Z
LAST-MODIFIED:20250407T140448Z
UID:10001030-1745020740-1745042400@yastaclub.es
SUMMARY:Darma Party
DESCRIPTION:⭐️ DARMA PARTY • VIERNES 18 de ABRIL ⭐️ \n¡SORPRESAAAAA! ¡Te esperamos en nuestra próxima edición con un cartel de lujo! \n✨ Samantha BALLENTINES\n✨ Pupi Poisson\n✨ Sabrina Tanqueray\n✨ Tiffany Lumberjack\n✨ Puppy Ladilatada\n❓¡Y una invitada sorpresa! \n🎧 ¡Música de Kiddo y Luis Morillo! \n🎟️ ¡Ultimas entradas a precio de lanzamiento!\n📲 www.entradium.com (link en bio o stories) \n#DarmaParty #KarmaParty
URL:https://yastaclub.es/event/darma-party-3/
LOCATION:Ya’sta Club\, Calle Valverde\, 10\, Madrid\, 28004\, España
ATTACH;FMTTYPE=image/jpeg:https://yastaclub.es/wp-content/uploads/2025/04/WhatsApp-Image-2025-03-26-at-11.41.33.jpeg
END:VEVENT
END:VCALENDAR