BEGIN:VCALENDAR
VERSION:2.0
PRODID:-//Ya&#039;sta Club - ECPv6.15.20//NONSGML v1.0//EN
CALSCALE:GREGORIAN
METHOD:PUBLISH
X-ORIGINAL-URL:https://yastaclub.es
X-WR-CALDESC:Eventos para Ya&#039;sta Club
REFRESH-INTERVAL;VALUE=DURATION:PT1H
X-Robots-Tag:noindex
X-PUBLISHED-TTL:PT1H
BEGIN:VTIMEZONE
TZID:Europe/Madrid
BEGIN:DAYLIGHT
TZOFFSETFROM:+0100
TZOFFSETTO:+0200
TZNAME:CEST
DTSTART:20240331T010000
END:DAYLIGHT
BEGIN:STANDARD
TZOFFSETFROM:+0200
TZOFFSETTO:+0100
TZNAME:CET
DTSTART:20241027T010000
END:STANDARD
BEGIN:DAYLIGHT
TZOFFSETFROM:+0100
TZOFFSETTO:+0200
TZNAME:CEST
DTSTART:20250330T010000
END:DAYLIGHT
BEGIN:STANDARD
TZOFFSETFROM:+0200
TZOFFSETTO:+0100
TZNAME:CET
DTSTART:20251026T010000
END:STANDARD
BEGIN:DAYLIGHT
TZOFFSETFROM:+0100
TZOFFSETTO:+0200
TZNAME:CEST
DTSTART:20260329T010000
END:DAYLIGHT
BEGIN:STANDARD
TZOFFSETFROM:+0200
TZOFFSETTO:+0100
TZNAME:CET
DTSTART:20261025T010000
END:STANDARD
END:VTIMEZONE
BEGIN:VEVENT
DTSTART;TZID=Europe/Madrid:20250214T190000
DTEND;TZID=Europe/Madrid:20250214T210000
DTSTAMP:20260422T102948
CREATED:20250213T093842Z
LAST-MODIFIED:20250213T093852Z
UID:10000948-1739559600-1739566800@yastaclub.es
SUMMARY:Tributo al amor - Especial San Valentín
DESCRIPTION:Celebra el amor en todas sus formas en nuestro concierto especial San Valentín: tributo al Amor\, un show que recorre las canciones más románticas españolas. Únete a nosotros en una velada mágica llena de música romántica que tocará tu corazón. \nCanta\, vive y disfruta las canciones más icónicas de amor\, interpretadas por maravillosas voces que te harán vibrar con cada nota. Este evento está diseñado para crear momentos inolvidables con tu pareja\, amigos o incluso en solitario. \nNo te pierdas esta oportunidad de vivir una noche llena de emociones\, música y conexión. ¡Ven y comparte el amor en este tributo único! ¡Compra ya tus entradas antes de que se agoten! \nInformación sobre precios y acceso\nEl espectáculo es en una discoteca. No hay asientos. Todo pista de baile. Según normativa de sala solo podrán acceder personas de 16 y 17 años acompañadas de padre madre tutor. Se PROHÍBE la entrada a los niños menores de 16 años si no van acompañados de padre/madre/tutor.
URL:https://yastaclub.es/event/tributo-al-amor-especial-san-valentin/
LOCATION:Ya’sta Club\, Calle Valverde\, 10\, Madrid\, 28004\, España
ATTACH;FMTTYPE=image/webp:https://yastaclub.es/wp-content/uploads/2025/02/webp.webp
END:VEVENT
BEGIN:VEVENT
DTSTART;TZID=Europe/Madrid:20250214T235900
DTEND;TZID=Europe/Madrid:20250215T060000
DTSTAMP:20260422T102948
CREATED:20250108T181908Z
LAST-MODIFIED:20250108T181908Z
UID:10000944-1739577540-1739599200@yastaclub.es
SUMMARY:Las Niñas - ¿Quién quiere casarse con mi niña?
DESCRIPTION:🗡️ ¿Quién quiere casarse con mi niña? 🫀 \nOs invitamos a celebrar San Valentín de la mejor forma que sabemos: con una exasperada búsqueda continua de aprobación externa. \nSalimos a subasta para nuestro querido público.\n¿Quién da más? \n🫀 @belial_romerito\n💗 @berrenga\n💖 @josefita.belladona\n❤️‍🔥 @pakitaspain\n💝 @larosariomolina\n💘 @la_sussi_\n❤️‍🩹 @frikigustion\n💞 @travest15m0 \ncartelería by @soylajuanan
URL:https://yastaclub.es/event/las-ninas-quien-quiere-casarse-con-mi-nina/
LOCATION:Ya’sta Club\, Calle Valverde\, 10\, Madrid\, 28004\, España
CATEGORIES:Drag Queen 👠,LGTB 🏳️‍🌈
ATTACH;FMTTYPE=image/png:https://yastaclub.es/wp-content/uploads/2025/01/event_photos_gallery_l_cartel_cuadrado.png
END:VEVENT
END:VCALENDAR