BEGIN:VCALENDAR
VERSION:2.0
PRODID:-//Ya&#039;sta Club - ECPv6.15.20//NONSGML v1.0//EN
CALSCALE:GREGORIAN
METHOD:PUBLISH
X-ORIGINAL-URL:https://yastaclub.es
X-WR-CALDESC:Eventos para Ya&#039;sta Club
REFRESH-INTERVAL;VALUE=DURATION:PT1H
X-Robots-Tag:noindex
X-PUBLISHED-TTL:PT1H
BEGIN:VTIMEZONE
TZID:Europe/Madrid
BEGIN:DAYLIGHT
TZOFFSETFROM:+0100
TZOFFSETTO:+0200
TZNAME:CEST
DTSTART:20240331T010000
END:DAYLIGHT
BEGIN:STANDARD
TZOFFSETFROM:+0200
TZOFFSETTO:+0100
TZNAME:CET
DTSTART:20241027T010000
END:STANDARD
BEGIN:DAYLIGHT
TZOFFSETFROM:+0100
TZOFFSETTO:+0200
TZNAME:CEST
DTSTART:20250330T010000
END:DAYLIGHT
BEGIN:STANDARD
TZOFFSETFROM:+0200
TZOFFSETTO:+0100
TZNAME:CET
DTSTART:20251026T010000
END:STANDARD
BEGIN:DAYLIGHT
TZOFFSETFROM:+0100
TZOFFSETTO:+0200
TZNAME:CEST
DTSTART:20260329T010000
END:DAYLIGHT
BEGIN:STANDARD
TZOFFSETFROM:+0200
TZOFFSETTO:+0100
TZNAME:CET
DTSTART:20261025T010000
END:STANDARD
END:VTIMEZONE
BEGIN:VEVENT
DTSTART;TZID=Europe/Madrid:20250207T235900
DTEND;TZID=Europe/Madrid:20250208T060000
DTSTAMP:20260422T180925
CREATED:20250121T091149Z
LAST-MODIFIED:20250121T091149Z
UID:10000946-1738972740-1738994400@yastaclub.es
SUMMARY:Darma Party
DESCRIPTION:✨DARMA PARTY • 7 de Febrero • Madrid ✨ \n@karma.chueca presenta el próximo 7 de Febrero en @yastaclublgtb DARMA! \nCon los shows de: \n✨ Samantha Ballentines\n✨ Miss Khristo\n✨ Porca Thuclubkid \n🎤 ¡Presentado por Donna Mercadonna y musica de Luis Morillo! \n🎟️ ¡Primeras entradas por sólo 12\,75€ con 2 copas hasta la 01:30!\n📲 ¡hazte con la tuya en www.entradium.com! (Link en bio o stories) \n#KarmaChueca #DarmaParty
URL:https://yastaclub.es/event/darma-party/
LOCATION:Ya’sta Club\, Calle Valverde\, 10\, Madrid\, 28004\, España
CATEGORIES:Drag Queen 👠,LGTB 🏳️‍🌈
ATTACH;FMTTYPE=image/jpeg:https://yastaclub.es/wp-content/uploads/2025/01/WhatsApp-Image-2025-01-20-at-17.36.52.jpeg
END:VEVENT
END:VCALENDAR