BEGIN:VCALENDAR
VERSION:2.0
PRODID:-//Ya&#039;sta Club - ECPv6.15.20//NONSGML v1.0//EN
CALSCALE:GREGORIAN
METHOD:PUBLISH
X-ORIGINAL-URL:https://yastaclub.es
X-WR-CALDESC:Eventos para Ya&#039;sta Club
REFRESH-INTERVAL;VALUE=DURATION:PT1H
X-Robots-Tag:noindex
X-PUBLISHED-TTL:PT1H
BEGIN:VTIMEZONE
TZID:Europe/Madrid
BEGIN:DAYLIGHT
TZOFFSETFROM:+0100
TZOFFSETTO:+0200
TZNAME:CEST
DTSTART:20240331T010000
END:DAYLIGHT
BEGIN:STANDARD
TZOFFSETFROM:+0200
TZOFFSETTO:+0100
TZNAME:CET
DTSTART:20241027T010000
END:STANDARD
BEGIN:DAYLIGHT
TZOFFSETFROM:+0100
TZOFFSETTO:+0200
TZNAME:CEST
DTSTART:20250330T010000
END:DAYLIGHT
BEGIN:STANDARD
TZOFFSETFROM:+0200
TZOFFSETTO:+0100
TZNAME:CET
DTSTART:20251026T010000
END:STANDARD
BEGIN:DAYLIGHT
TZOFFSETFROM:+0100
TZOFFSETTO:+0200
TZNAME:CEST
DTSTART:20260329T010000
END:DAYLIGHT
BEGIN:STANDARD
TZOFFSETFROM:+0200
TZOFFSETTO:+0100
TZNAME:CET
DTSTART:20261025T010000
END:STANDARD
END:VTIMEZONE
BEGIN:VEVENT
DTSTART;TZID=Europe/Madrid:20250113T210000
DTEND;TZID=Europe/Madrid:20250113T235900
DTSTAMP:20260422T055827
CREATED:20250103T082125Z
LAST-MODIFIED:20250103T082125Z
UID:10000925-1736802000-1736812740@yastaclub.es
SUMMARY:La Chuecoteca by LGTBailamos
DESCRIPTION:🌈✨ CHUECOTECA LLENA DE DIVINEO ✨🌈\nEl miércoles 15 de enero\, prepárate para darlo todo en nuestra fiesta temática inspirada en el icónico juego Dress to Impress. 👗👑\n🪩 ¿El reto? Ven con tu outfit más hortera\, deslumbra y participa para ganar el título del look Queen del Divineo. 💅🏽🔥 \n📆 13 enero.\n⏰ 21:00h a 00:00.\n💡 Dress Code: Piensa fuera de la caja\, ¡todo vale! 🌈 \n#CHUECOTECA #lgtbailamos #Perreo #divineo #LGBTQ+ #dresstoimpress
URL:https://yastaclub.es/event/la-chuecoteca-by-lgtbailamos-enero-2025/
LOCATION:Ya’sta Club\, Calle Valverde\, 10\, Madrid\, 28004\, España
CATEGORIES:LGTB 🏳️‍🌈
ATTACH;FMTTYPE=image/jpeg:https://yastaclub.es/wp-content/uploads/2025/01/472552792_1679732386291628_6464337497267509796_n.jpg
END:VEVENT
END:VCALENDAR