BEGIN:VCALENDAR
VERSION:2.0
PRODID:-//Ya&#039;sta Club - ECPv6.15.20//NONSGML v1.0//EN
CALSCALE:GREGORIAN
METHOD:PUBLISH
X-WR-CALNAME:Ya&#039;sta Club
X-ORIGINAL-URL:https://yastaclub.es
X-WR-CALDESC:Eventos para Ya&#039;sta Club
REFRESH-INTERVAL;VALUE=DURATION:PT1H
X-Robots-Tag:noindex
X-PUBLISHED-TTL:PT1H
BEGIN:VTIMEZONE
TZID:Europe/Madrid
BEGIN:DAYLIGHT
TZOFFSETFROM:+0100
TZOFFSETTO:+0200
TZNAME:CEST
DTSTART:20240331T010000
END:DAYLIGHT
BEGIN:STANDARD
TZOFFSETFROM:+0200
TZOFFSETTO:+0100
TZNAME:CET
DTSTART:20241027T010000
END:STANDARD
BEGIN:DAYLIGHT
TZOFFSETFROM:+0100
TZOFFSETTO:+0200
TZNAME:CEST
DTSTART:20250330T010000
END:DAYLIGHT
BEGIN:STANDARD
TZOFFSETFROM:+0200
TZOFFSETTO:+0100
TZNAME:CET
DTSTART:20251026T010000
END:STANDARD
BEGIN:DAYLIGHT
TZOFFSETFROM:+0100
TZOFFSETTO:+0200
TZNAME:CEST
DTSTART:20260329T010000
END:DAYLIGHT
BEGIN:STANDARD
TZOFFSETFROM:+0200
TZOFFSETTO:+0100
TZNAME:CET
DTSTART:20261025T010000
END:STANDARD
END:VTIMEZONE
BEGIN:VEVENT
DTSTART;TZID=Europe/Madrid:20250110T190000
DTEND;TZID=Europe/Madrid:20250110T210000
DTSTAMP:20260422T055802
CREATED:20250105T183326Z
LAST-MODIFIED:20250905T094853Z
UID:10000937-1736535600-1736542800@yastaclub.es
SUMMARY:El Canto del Loco: el tributo
DESCRIPTION:EL CANTO DEL LOCO: EL TRIBUTO\n\n\nPrepárate para una noche inolvidable con los grandes éxitos que marcaron a toda una generación.  El Tributo a El Canto del Loco te trae lo mejor de una de las bandas más icónicas del pop alternativo español. En este tributo disfrutarás de sus letras que siempre cantamos a todo pulmón como “Zapatilla” \, “Besos» o “Volvera . \nEste espectáculo está diseñado para hacerte bailar\, recordar y disfrutar como nunca de la época más importante y emblemática de tu vida. ¡No importa si eres un fan de toda la vida o si acabas de conocerlos\, este show es para ti! \n¡No te quedes fuera de la fiesta más grande del año y ven a vivir una experiencia llena de buena música y mucha diversión! ¡Compra ya tus entradas para este homenaje único antes de que se agoten! \nPD: No apto para nostálgicos. \nInformación sobre precios y acceso\nEl espectáculo es en una discoteca. No hay asientos. Todo pista de baile. Según normativa de sala solo podrán acceder personas de 16 y 17 años acompañadas de padre madre tutor. Se PROHÍBE la entrada a los niños menores de 16 años si no van acompañados de padre/madre/tutor.
URL:https://yastaclub.es/event/el-canto-del-loco-el-tributo/2025-01-10/
LOCATION:Ya’sta Club\, Calle Valverde\, 10\, Madrid\, 28004\, España
ATTACH;FMTTYPE=image/webp:https://yastaclub.es/wp-content/uploads/2025/01/canto_del_loco.webp
END:VEVENT
BEGIN:VEVENT
DTSTART;TZID=Europe/Madrid:20250110T210000
DTEND;TZID=Europe/Madrid:20250110T230000
DTSTAMP:20260422T055802
CREATED:20241016T093404Z
LAST-MODIFIED:20250905T094951Z
UID:10000928-1736542800-1736550000@yastaclub.es
SUMMARY:Mamma Mia\, tributo a ABBA
DESCRIPTION:La Opción Producciones te presenta Mamma Mía: Tributo a Abba en el Ya’sta Club. \nSumérgete a través de este homenaje en este viaje a través del tiempo recorriendo los grandes éxitos musicales de este grupo musical que ha dejado una huella perpetua en la historia de la música. \nVive\, baila y canta todos los éxitos icónicos de Abba en versión original\, disfrutando de una historia a ritmo de «Dancing Queen«\, «Mamma Mia» o «Take a Chance on Me«. \n¿Tienes alguna canción favorita? Ven a cantarla y bailarla en este tributo especial. \nInformación sobre precios y acceso\nEl espectáculo es en una discoteca. No hay asientos. Todo pista de baile. Según normativa de sala solo podrán acceder personas de 16 y 17 años acompañadas de padre madre tutor. Se PROHÍBE la entrada a los niños menores de 16 años si no van acompañados de padre/madre/tutor.
URL:https://yastaclub.es/event/mamma-mia-tributo-a-abba/2025-01-10/
LOCATION:Ya’sta Club\, Calle Valverde\, 10\, Madrid\, 28004\, España
ATTACH;FMTTYPE=image/webp:https://yastaclub.es/wp-content/uploads/2024/10/mamma_mia_tributo.webp
END:VEVENT
BEGIN:VEVENT
DTSTART;TZID=Europe/Madrid:20250110T235900
DTEND;TZID=Europe/Madrid:20250111T060000
DTSTAMP:20260422T055802
CREATED:20250103T080300Z
LAST-MODIFIED:20250103T080300Z
UID:10000924-1736553540-1736575200@yastaclub.es
SUMMARY:Titanes on Tour - Animal Print
DESCRIPTION:🦓🐆 ¡Saca tu lado más salvaje! 🐅🐍 \nEl próximo 10 de enero volvemos a la Sala Yasta con una fiesta que será épica:\n🌟 ANIMAL PRINT EDITION 🌟 \nPrepárate para rugir\, bailar y deslumbrar con tus mejores estampados salvajes. ¿Serás un leopardo elegante\, una cebra atrevida o un tigre feroz? 🐾 \n🎶 La noche estará llena de sorpresas\, música brutal y mucha diversión.\n📍 Dónde: Sala Yasta\n📅 Cuándo: 10 de enero\n🕘 Hora: Desde las 00:00\n🎟 Entradas en la BIO \nNo te pierdas la primera fiesta del año con Titanes. ¡Ven a liberar a tu animal interior! \n#MadridTitanes #TitanesDeFiesta #AnimalPrintParty #RugimosJuntos
URL:https://yastaclub.es/event/titanes-on-tour-animal-print/
LOCATION:Ya’sta Club\, Calle Valverde\, 10\, Madrid\, 28004\, España
CATEGORIES:Drag Queen 👠
ATTACH;FMTTYPE=image/jpeg:https://yastaclub.es/wp-content/uploads/2025/01/WhatsApp-Image-2025-01-03-at-08.38.57.jpeg
END:VEVENT
END:VCALENDAR