BEGIN:VCALENDAR
VERSION:2.0
PRODID:-//Ya&#039;sta Club - ECPv6.15.20//NONSGML v1.0//EN
CALSCALE:GREGORIAN
METHOD:PUBLISH
X-ORIGINAL-URL:https://yastaclub.es
X-WR-CALDESC:Eventos para Ya&#039;sta Club
REFRESH-INTERVAL;VALUE=DURATION:PT1H
X-Robots-Tag:noindex
X-PUBLISHED-TTL:PT1H
BEGIN:VTIMEZONE
TZID:Europe/Madrid
BEGIN:DAYLIGHT
TZOFFSETFROM:+0100
TZOFFSETTO:+0200
TZNAME:CEST
DTSTART:20230326T010000
END:DAYLIGHT
BEGIN:STANDARD
TZOFFSETFROM:+0200
TZOFFSETTO:+0100
TZNAME:CET
DTSTART:20231029T010000
END:STANDARD
BEGIN:DAYLIGHT
TZOFFSETFROM:+0100
TZOFFSETTO:+0200
TZNAME:CEST
DTSTART:20240331T010000
END:DAYLIGHT
BEGIN:STANDARD
TZOFFSETFROM:+0200
TZOFFSETTO:+0100
TZNAME:CET
DTSTART:20241027T010000
END:STANDARD
BEGIN:DAYLIGHT
TZOFFSETFROM:+0100
TZOFFSETTO:+0200
TZNAME:CEST
DTSTART:20250330T010000
END:DAYLIGHT
BEGIN:STANDARD
TZOFFSETFROM:+0200
TZOFFSETTO:+0100
TZNAME:CET
DTSTART:20251026T010000
END:STANDARD
END:VTIMEZONE
BEGIN:VEVENT
DTSTART;TZID=Europe/Madrid:20241115T190000
DTEND;TZID=Europe/Madrid:20241115T210000
DTSTAMP:20260421T080252
CREATED:20241016T094325Z
LAST-MODIFIED:20250416T210506Z
UID:10000844-1731697200-1731704400@yastaclub.es
SUMMARY:Euroshow\, un show muy eurovisivo​
DESCRIPTION:
URL:https://yastaclub.es/event/euroshow-un-show-muy-eurovisivo-2/2024-11-15/
LOCATION:Ya’sta Club\, Calle Valverde\, 10\, Madrid\, 28004\, España
ATTACH;FMTTYPE=image/webp:https://yastaclub.es/wp-content/uploads/2024/10/euroshow_unshoweurovisivo.webp
END:VEVENT
BEGIN:VEVENT
DTSTART;TZID=Europe/Madrid:20241115T210000
DTEND;TZID=Europe/Madrid:20241115T230000
DTSTAMP:20260421T080252
CREATED:20241016T094427Z
LAST-MODIFIED:20250416T210541Z
UID:10000845-1731704400-1731711600@yastaclub.es
SUMMARY:Mujer Contra Mujer​
DESCRIPTION:MUJER CONTRA MUJER: TRIBUTO A MECANO\n\n\n¿Quieres vivir una experiencia inmersiva directa a las letras de Mecano? \nCon este tributo bailarás\, cantarás y sobre todo vivirás en primera persona cada uno de los éxitos de la banda de pop más famosa de España. \nMujer contra mujer presenta una noche llena de emoción y mucha música. \nCanta con nosotros «hijo de la luna»; «maquillaje»\, «me cuesta tanto olvidarte»\, «cruz de navajas» y muchos más… \n\nInformación sobre precios y acceso\nEl espectáculo es en una discoteca. No hay asientos. Todo pista de baile. Según normativa de sala solo podrán acceder personas de 16 y 17 años acompañadas de padre madre tutor. Se PROHÍBE la entrada a los niños menores de 16 años si no van acompañados de padre/madre/tutor.
URL:https://yastaclub.es/event/mujer-contra-mujer-3/2024-11-15/
LOCATION:Ya’sta Club\, Calle Valverde\, 10\, Madrid\, 28004\, España
ATTACH;FMTTYPE=image/webp:https://yastaclub.es/wp-content/uploads/2024/10/mujer_contra_mujer_new.webp
END:VEVENT
BEGIN:VEVENT
DTSTART;TZID=Europe/Madrid:20241115T235500
DTEND;TZID=Europe/Madrid:20241116T060000
DTSTAMP:20260421T080252
CREATED:20241028T144006Z
LAST-MODIFIED:20241104T142754Z
UID:10000848-1731714900-1731736800@yastaclub.es
SUMMARY:ROAR Party - Edición Katy Perry + 5º aniversario
DESCRIPTION:El próximo viernes 15 celebramos 5 años con shows de estas 5 tías chulas que harán de la noche un Teenage Dream inolvidable 💋 \nShows 🫶👠\n👠 @jesuislecoco\n💕 @ditathevain\n👠 @dianadardo_\n💕 @sobredosis_gonzalez\n👠 @robota_cones \nPOP • REGGAETON • HITS\n🎧 @monsieurblaya / @somoselnido / @jaime_rsc \n🎟 Anticipadas en nuestra web / link en bio . En taquilla 2 copas por 18€ hasta la 01.30\, después 1 por 15€.\n📍 @yastaclublgtb \nLa previa\, en nuestros bares de confianza\, ¡consigue tu flyer con oferta con dos copas en ellos! \n🥂 @barbanarama\n🥂 @liadamadrid\n🥂 @reinapop_\n🥂 @starchueca\n🥂 @el12club \nColabora:\n🥃 @peligrocatrina\, con unos chupitos riquísimos\, os invitamos a probarlos 😜 \n🎨: @davidolter
URL:https://yastaclub.es/event/roar-party-edicion-katy-perry-5o-aniversario/
LOCATION:Ya’sta Club\, Calle Valverde\, 10\, Madrid\, 28004\, España
CATEGORIES:Drag Queen 👠,LGTB 🏳️‍🌈
ATTACH;FMTTYPE=image/jpeg:https://yastaclub.es/wp-content/uploads/2024/10/Gbix-7BWQAAeVEf.jpg
END:VEVENT
END:VCALENDAR